Workbook

Sheet Settings
A1: Tracker settings
A2: Yellow cells are yours, formulas compute the rest.
A4: Year tracked | B4: 2026
A6: Income categories | B6: Expense categories | C6: Accounts | D6: Balance at year start
A7: Salary | B7: Housing and utilities | C7: Card | D7: 85000
A8: Side income | B8: Groceries | C8: Cash | D8: 12000
A9: Interest and cashback | B9: Transport | C9: Savings account | D9: 240000
A10: Other income | B10: Phone and internet
B11: Health
B12: Clothing
B13: Eating out
B14: Leisure
B15: Education
B16: Gifts
B17: Loan payments
B18: Other

Sheet Transactions
A1: Transactions
A2: One row per transaction. Moving money between your own accounts is a Transfer: pick both accounts.
A3: Date | B3: Type | C3: Category | D3: Account | E3: To account | F3: Amount | G3: Note | H3: Month
A4: 46023 | B4: Expense | C4: Housing and utilities | D4: Card | F4: 38000 | H4: =IF(A4="","",IF(YEAR(A4)<>'Settings'!$B$4,"",MONTH(A4))) -> 1
A5: 46025 | B5: Expense | C5: Groceries | D5: Card | F5: 6420 | H5: =IF(A5="","",IF(YEAR(A5)<>'Settings'!$B$4,"",MONTH(A5))) -> 1
A6: 46027 | B6: Income | C6: Salary | D6: Card | F6: 95000 | H6: =IF(A6="","",IF(YEAR(A6)<>'Settings'!$B$4,"",MONTH(A6))) -> 1
A7: 46028 | B7: Expense | C7: Phone and internet | D7: Card | F7: 1150 | H7: =IF(A7="","",IF(YEAR(A7)<>'Settings'!$B$4,"",MONTH(A7))) -> 1
A8: 46030 | B8: Expense | C8: Eating out | D8: Card | F8: 2350 | H8: =IF(A8="","",IF(YEAR(A8)<>'Settings'!$B$4,"",MONTH(A8))) -> 1
A9: 46032 | B9: Expense | C9: Loan payments | D9: Card | F9: 18400 | H9: =IF(A9="","",IF(YEAR(A9)<>'Settings'!$B$4,"",MONTH(A9))) -> 1
A10: 46033 | B10: Expense | C10: Groceries | D10: Card | F10: 7180 | H10: =IF(A10="","",IF(YEAR(A10)<>'Settings'!$B$4,"",MONTH(A10))) -> 1
A11: 46035 | B11: Expense | C11: Transport | D11: Card | F11: 3200 | H11: =IF(A11="","",IF(YEAR(A11)<>'Settings'!$B$4,"",MONTH(A11))) -> 1
A12: 46037 | B12: Income | C12: Interest and cashback | D12: Savings account | F12: 2100 | H12: =IF(A12="","",IF(YEAR(A12)<>'Settings'!$B$4,"",MONTH(A12))) -> 1
A13: 46039 | B13: Expense | C13: Groceries | D13: Cash | F13: 5640 | H13: =IF(A13="","",IF(YEAR(A13)<>'Settings'!$B$4,"",MONTH(A13))) -> 1
A14: 46041 | B14: Expense | C14: Leisure | D14: Card | F14: 2500 | H14: =IF(A14="","",IF(YEAR(A14)<>'Settings'!$B$4,"",MONTH(A14))) -> 1
A15: 46042 | B15: Income | C15: Salary | D15: Card | F15: 60000 | H15: =IF(A15="","",IF(YEAR(A15)<>'Settings'!$B$4,"",MONTH(A15))) -> 1
A16: 46043 | B16: Transfer | D16: Card | E16: Savings account | F16: 20000 | G16: To savings | H16: =IF(A16="","",IF(YEAR(A16)<>'Settings'!$B$4,"",MONTH(A16))) -> 1
A17: 46046 | B17: Expense | C17: Groceries | D17: Card | F17: 6930 | H17: =IF(A17="","",IF(YEAR(A17)<>'Settings'!$B$4,"",MONTH(A17))) -> 1
A18: 46048 | B18: Expense | C18: Eating out | D18: Card | F18: 2800 | H18: =IF(A18="","",IF(YEAR(A18)<>'Settings'!$B$4,"",MONTH(A18))) -> 1
A19: 46049 | B19: Income | C19: Side income | D19: Cash | F19: 15000 | H19: =IF(A19="","",IF(YEAR(A19)<>'Settings'!$B$4,"",MONTH(A19))) -> 1
A20: 46054 | B20: Expense | C20: Housing and utilities | D20: Card | F20: 38000 | H20: =IF(A20="","",IF(YEAR(A20)<>'Settings'!$B$4,"",MONTH(A20))) -> 2
A21: 46056 | B21: Expense | C21: Groceries | D21: Card | F21: 6730 | H21: =IF(A21="","",IF(YEAR(A21)<>'Settings'!$B$4,"",MONTH(A21))) -> 2
A22: 46058 | B22: Income | C22: Salary | D22: Card | F22: 95000 | H22: =IF(A22="","",IF(YEAR(A22)<>'Settings'!$B$4,"",MONTH(A22))) -> 2
A23: 46059 | B23: Expense | C23: Phone and internet | D23: Card | F23: 1150 | H23: =IF(A23="","",IF(YEAR(A23)<>'Settings'!$B$4,"",MONTH(A23))) -> 2
A24: 46061 | B24: Expense | C24: Eating out | D24: Card | F24: 2550 | H24: =IF(A24="","",IF(YEAR(A24)<>'Settings'!$B$4,"",MONTH(A24))) -> 2
A25: 46063 | B25: Expense | C25: Loan payments | D25: Card | F25: 18400 | H25: =IF(A25="","",IF(YEAR(A25)<>'Settings'!$B$4,"",MONTH(A25))) -> 2
A26: 46064 | B26: Expense | C26: Groceries | D26: Card | F26: 7180 | H26: =IF(A26="","",IF(YEAR(A26)<>'Settings'!$B$4,"",MONTH(A26))) -> 2
A27: 46066 | B27: Expense | C27: Transport | D27: Card | F27: 3200 | H27: =IF(A27="","",IF(YEAR(A27)<>'Settings'!$B$4,"",MONTH(A27))) -> 2
A28: 46067 | B28: Expense | C28: Gifts | D28: Card | F28: 4000 | H28: =IF(A28="","",IF(YEAR(A28)<>'Settings'!$B$4,"",MONTH(A28))) -> 2
... A33: 46073 | B33: Income | C33: Salary | D33: Card | F33: 60000 | H33: =IF(A33="","",IF(YEAR(A33)<>'Settings'!$B$4,"",MONTH(A33))) -> 2
A34: 46074 | B34: Transfer | D34: Card | E34: Savings account | F34: 25000 | G34: To savings | H34: =IF(A34="","",IF(YEAR(A34)<>'Settings'!$B$4,"",MONTH(A34))) -> 2
A35: 46077 | B35: Expense | C35: Groceries | D35: Card | F35: 6930 | H35: =IF(A35="","",IF(YEAR(A35)<>'Settings'!$B$4,"",MONTH(A35))) -> 2
A36: 46079 | B36: Expense | C36: Eating out | D36: Card | F36: 2800 | H36: =IF(A36="","",IF(YEAR(A36)<>'Settings'!$B$4,"",MONTH(A36))) -> 2
A37: 46082 | B37: Expense | C37: Housing and utilities | D37: Card | F37: 38000 | H37: =IF(A37="","",IF(YEAR(A37)<>'Settings'!$B$4,"",MONTH(A37))) -> 3
A38: 46084 | B38: Expense | C38: Groceries | D38: Card | F38: 7040 | H38: =IF(A38="","",IF(YEAR(A38)<>'Settings'!$B$4,"",MONTH(A38))) -> 3
A39: 46086 | B39: Income | C39: Salary | D39: Card | F39: 95000 | H39: =IF(A39="","",IF(YEAR(A39)<>'Settings'!$B$4,"",MONTH(A39))) -> 3
A40: 46087 | B40: Expense | C40: Phone and internet | D40: Card | F40: 1150 | H40: =IF(A40="","",IF(YEAR(A40)<>'Settings'!$B$4,"",MONTH(A40))) -> 3
A41: 46088 | B41: Expense | C41: Gifts | D41: Card | F41: 3500 | H41: =IF(A41="","",IF(YEAR(A41)<>'Settings'!$B$4,"",MONTH(A41))) -> 3
A42: 46089 | B42: Expense | C42: Eating out | D42: Card | F42: 2750 | H42: =IF(A42="","",IF(YEAR(A42)<>'Settings'!$B$4,"",MONTH(A42))) -> 3
A43: 46091 | B43: Expense | C43: Loan payments | D43: Card | F43: 18400 | H43: =IF(A43="","",IF(YEAR(A43)<>'Settings'!$B$4,"",MONTH(A43))) -> 3
A44: 46092 | B44: Expense | C44: Groceries | D44: Card | F44: 7180 | H44: =IF(A44="","",IF(YEAR(A44)<>'Settings'!$B$4,"",MONTH(A44))) -> 3
...

Sheet Months
A1: Income and expenses by month
A2: Computed from the Transactions sheet. Categories come from Settings.
A3: Category | B3: Jan | C3: Feb | D3: Mar | E3: Apr | F3: May | G3: Jun | H3: Jul | I3: Aug | J3: Sep | K3: Oct | L3: Nov | M3: Dec | N3: Total | O3: Average | P3: Share
A4: Income
A5: =IF('Settings'!A7="","",'Settings'!A7) -> Salary | B5: =IF($A5="","",SUMIFS('Transactions'!$F$4:$F$403,'Transactions'!$B$4:$B$403,"Income",'Transactions'!$C$4:$C$403,$A5,'Transactions'!$H$4:$H$403,1)) -> 155000 | C5: =IF($A5="","",SUMIFS('Transactions'!$F$4:$F$403,'Transactions'!$B$4:$B$403,"Income",'Transactions'!$C$4:$C$403,$A5,'Transactions'!$H$4:$H$403,2)) -> 155000 | D5: =IF($A5="","",SUMIFS('Transactions'!$F$4:$F$403,'Transactions'!$B$4:$B$403,"Income",'Transactions'!$C$4:$C$403,$A5,'Transactions'!$H$4:$H$403,3)) -> 155000 | E5: =IF($A5="","",SUMIFS('Transactions'!$F$4:$F$403,'Transactions'!$B$4:$B$403,"Income",'Transactions'!$C$4:$C$403,$A5,'Transactions'!$H$4:$H$403,4)) -> 0 | F5: =IF($A5="","",SUMIFS('Transactions'!$F$4:$F$403,'Transactions'!$B$4:$B$403,"Income",'Transactions'!$C$4:$C$403,$A5,'Transactions'!$H$4:$H$403,5)) -> 0 | G5: =IF($A5="","",SUMIFS('Transactions'!$F$4:$F$403,'Transactions'!$B$4:$B$403,"Income",'Transactions'!$C$4:$C$403,$A5,'Transactions'!$H$4:$H$403,6)) -> 0 | H5: =IF($A5="","",SUMIFS('Transactions'!$F$4:$F$403,'Transactions'!$B$4:$B$403,"Income",'Transactions'!$C$4:$C$403,$A5,'Transactions'!$H$4:$H$403,7)) -> 0 | I5: =IF($A5="","",SUMIFS('Transactions'!$F$4:$F$403,'Transactions'!$B$4:$B$403,"Income",'Transactions'!$C$4:$C$403,$A5,'Transactions'!$H$4:$H$403,8)) -> 0 | J5: =IF($A5="","",SUMIFS('Transactions'!$F$4:$F$403,'Transactions'!$B$4:$B$403,"Income",'Transactions'!$C$4:$C$403,$A5,'Transactions'!$H$4:$H$403,9)) -> 0 | K5: =IF($A5="","",SUMIFS('Transactions'!$F$4:$F$403,'Transactions'!$B$4:$B$403,"Income",'Transactions'!$C$4:$C$403,$A5,'Transactions'!$H$4:$H$403,10)) -> 0 | L5: =IF($A5="","",SUMIFS('Transactions'!$F$4:$F$403,'Transactions'!$B$4:$B$403,"Income",'Transactions'!$C$4:$C$403,$A5,'Transactions'!$H$4:$H$403,11)) -> 0 | M5: =IF($A5="","",SUMIFS('Transactions'!$F$4:$F$403,'Transactions'!$B$4:$B$403,"Income",'Transactions'!$C$4:$C$403,$A5,'Transactions'!$H$4:$H$403,12)) -> 0 | N5: =IF($A5="","",SUM(B5:M5)) -> 465000 | O5: =IF($A5="","",IF($N$35=0,0,ROUND(N5/$N$35,2))) -> 155000 | P5: =IF($A5="","",IF($N$11=0,0,N5/$N$11)) -> 0.91384325
A6: =IF('Settings'!A8="","",'Settings'!A8) -> Side income | B6: =IF($A6="","",SUMIFS('Transactions'!$F$4:$F$403,'Transactions'!$B$4:$B$403,"Income",'Transactions'!$C$4:$C$403,$A6,'Transactions'!$H$4:$H$403,1)) -> 15000 | C6: =IF($A6="","",SUMIFS('Transactions'!$F$4:$F$403,'Transactions'!$B$4:$B$403,"Income",'Transactions'!$C$4:$C$403,$A6,'Transactions'!$H$4:$H$403,2)) -> 0 | D6: =IF($A6="","",SUMIFS('Transactions'!$F$4:$F$403,'Transactions'!$B$4:$B$403,"Income",'Transactions'!$C$4:$C$403,$A6,'Transactions'!$H$4:$H$403,3)) -> 22000 | E6: =IF($A6="","",SUMIFS('Transactions'!$F$4:$F$403,'Transactions'!$B$4:$B$403,"Income",'Transactions'!$C$4:$C$403,$A6,'Transactions'!$H$4:$H$403,4)) -> 0 | F6: =IF($A6="","",SUMIFS('Transactions'!$F$4:$F$403,'Transactions'!$B$4:$B$403,"Income",'Transactions'!$C$4:$C$403,$A6,'Transactions'!$H$4:$H$403,5)) -> 0 | G6: =IF($A6="","",SUMIFS('Transactions'!$F$4:$F$403,'Transactions'!$B$4:$B$403,"Income",'Transactions'!$C$4:$C$403,$A6,'Transactions'!$H$4:$H$403,6)) -> 0 | H6: =IF($A6="","",SUMIFS('Transactions'!$F$4:$F$403,'Transactions'!$B$4:$B$403,"Income",'Transactions'!$C$4:$C$403,$A6,'Transactions'!$H$4:$H$403,7)) -> 0 | I6: =IF($A6="","",SUMIFS('Transactions'!$F$4:$F$403,'Transactions'!$B$4:$B$403,"Income",'Transactions'!$C$4:$C$403,$A6,'Transactions'!$H$4:$H$403,8)) -> 0 | J6: =IF($A6="","",SUMIFS('Transactions'!$F$4:$F$403,'Transactions'!$B$4:$B$403,"Income",'Transactions'!$C$4:$C$403,$A6,'Transactions'!$H$4:$H$403,9)) -> 0 | K6: =IF($A6="","",SUMIFS('Transactions'!$F$4:$F$403,'Transactions'!$B$4:$B$403,"Income",'Transactions'!$C$4:$C$403,$A6,'Transactions'!$H$4:$H$403,10)) -> 0 | L6: =IF($A6="","",SUMIFS('Transactions'!$F$4:$F$403,'Transactions'!$B$4:$B$403,"Income",'Transactions'!$C$4:$C$403,$A6,'Transactions'!$H$4:$H$403,11)) -> 0 | M6: =IF($A6="","",SUMIFS('Transactions'!$F$4:$F$403,'Transactions'!$B$4:$B$403,"Income",'Transactions'!$C$4:$C$403,$A6,'Transactions'!$H$4:$H$403,12)) -> 0 | N6: =IF($A6="","",SUM(B6:M6)) -> 37000 | O6: =IF($A6="","",IF($N$35=0,0,ROUND(N6/$N$35,2))) -> 12333.33 | P6: =IF($A6="","",IF($N$11=0,0,N6/$N$11)) -> 0.072714409
A7: =IF('Settings'!A9="","",'Settings'!A9) -> Interest and cashback | B7: =IF($A7="","",SUMIFS('Transactions'!$F$4:$F$403,'Transactions'!$B$4:$B$403,"Income",'Transactions'!$C$4:$C$403,$A7,'Transactions'!$H$4:$H$403,1)) -> 2100 | C7: =IF($A7="","",SUMIFS('Transactions'!$F$4:$F$403,'Transactions'!$B$4:$B$403,"Income",'Transactions'!$C$4:$C$403,$A7,'Transactions'!$H$4:$H$403,2)) -> 2280 | D7: =IF($A7="","",SUMIFS('Transactions'!$F$4:$F$403,'Transactions'!$B$4:$B$403,"Income",'Transactions'!$C$4:$C$403,$A7,'Transactions'!$H$4:$H$403,3)) -> 2460 | E7: =IF($A7="","",SUMIFS('Transactions'!$F$4:$F$403,'Transactions'!$B$4:$B$403,"Income",'Transactions'!$C$4:$C$403,$A7,'Transactions'!$H$4:$H$403,4)) -> 0 | F7: =IF($A7="","",SUMIFS('Transactions'!$F$4:$F$403,'Transactions'!$B$4:$B$403,"Income",'Transactions'!$C$4:$C$403,$A7,'Transactions'!$H$4:$H$403,5)) -> 0 | G7: =IF($A7="","",SUMIFS('Transactions'!$F$4:$F$403,'Transactions'!$B$4:$B$403,"Income",'Transactions'!$C$4:$C$403,$A7,'Transactions'!$H$4:$H$403,6)) -> 0 | H7: =IF($A7="","",SUMIFS('Transactions'!$F$4:$F$403,'Transactions'!$B$4:$B$403,"Income",'Transactions'!$C$4:$C$403,$A7,'Transactions'!$H$4:$H$403,7)) -> 0 | I7: =IF($A7="","",SUMIFS('Transactions'!$F$4:$F$403,'Transactions'!$B$4:$B$403,"Income",'Transactions'!$C$4:$C$403,$A7,'Transactions'!$H$4:$H$403,8)) -> 0 | J7: =IF($A7="","",SUMIFS('Transactions'!$F$4:$F$403,'Transactions'!$B$4:$B$403,"Income",'Transactions'!$C$4:$C$403,$A7,'Transactions'!$H$4:$H$403,9)) -> 0 | K7: =IF($A7="","",SUMIFS('Transactions'!$F$4:$F$403,'Transactions'!$B$4:$B$403,"Income",'Transactions'!$C$4:$C$403,$A7,'Transactions'!$H$4:$H$403,10)) -> 0 | L7: =IF($A7="","",SUMIFS('Transactions'!$F$4:$F$403,'Transactions'!$B$4:$B$403,"Income",'Transactions'!$C$4:$C$403,$A7,'Transactions'!$H$4:$H$403,11)) -> 0 | M7: =IF($A7="","",SUMIFS('Transactions'!$F$4:$F$403,'Transactions'!$B$4:$B$403,"Income",'Transactions'!$C$4:$C$403,$A7,'Transactions'!$H$4:$H$403,12)) -> 0 | N7: =IF($A7="","",SUM(B7:M7)) -> 6840 | O7: =IF($A7="","",IF($N$35=0,0,ROUND(N7/$N$35,2))) -> 2280 | P7: =IF($A7="","",IF($N$11=0,0,N7/$N$11)) -> 0.013442339
A8: =IF('Settings'!A10="","",'Settings'!A10) -> Other income | B8: =IF($A8="","",SUMIFS('Transactions'!$F$4:$F$403,'Transactions'!$B$4:$B$403,"Income",'Transactions'!$C$4:$C$403,$A8,'Transactions'!$H$4:$H$403,1)) -> 0 | C8: =IF($A8="","",SUMIFS('Transactions'!$F$4:$F$403,'Transactions'!$B$4:$B$403,"Income",'Transactions'!$C$4:$C$403,$A8,'Transactions'!$H$4:$H$403,2)) -> 0 | D8: =IF($A8="","",SUMIFS('Transactions'!$F$4:$F$403,'Transactions'!$B$4:$B$403,"Income",'Transactions'!$C$4:$C$403,$A8,'Transactions'!$H$4:$H$403,3)) -> 0 | E8: =IF($A8="","",SUMIFS('Transactions'!$F$4:$F$403,'Transactions'!$B$4:$B$403,"Income",'Transactions'!$C$4:$C$403,$A8,'Transactions'!$H$4:$H$403,4)) -> 0 | F8: =IF($A8="","",SUMIFS('Transactions'!$F$4:$F$403,'Transactions'!$B$4:$B$403,"Income",'Transactions'!$C$4:$C$403,$A8,'Transactions'!$H$4:$H$403,5)) -> 0 | G8: =IF($A8="","",SUMIFS('Transactions'!$F$4:$F$403,'Transactions'!$B$4:$B$403,"Income",'Transactions'!$C$4:$C$403,$A8,'Transactions'!$H$4:$H$403,6)) -> 0 | H8: =IF($A8="","",SUMIFS('Transactions'!$F$4:$F$403,'Transactions'!$B$4:$B$403,"Income",'Transactions'!$C$4:$C$403,$A8,'Transactions'!$H$4:$H$403,7)) -> 0 | I8: =IF($A8="","",SUMIFS('Transactions'!$F$4:$F$403,'Transactions'!$B$4:$B$403,"Income",'Transactions'!$C$4:$C$403,$A8,'Transactions'!$H$4:$H$403,8)) -> 0 | J8: =IF($A8="","",SUMIFS('Transactions'!$F$4:$F$403,'Transactions'!$B$4:$B$403,"Income",'Transactions'!$C$4:$C$403,$A8,'Transactions'!$H$4:$H$403,9)) -> 0 | K8: =IF($A8="","",SUMIFS('Transactions'!$F$4:$F$403,'Transactions'!$B$4:$B$403,"Income",'Transactions'!$C$4:$C$403,$A8,'Transactions'!$H$4:$H$403,10)) -> 0 | L8: =IF($A8="","",SUMIFS('Transactions'!$F$4:$F$403,'Transactions'!$B$4:$B$403,"Income",'Transactions'!$C$4:$C$403,$A8,'Transactions'!$H$4:$H$403,11)) -> 0 | M8: =IF($A8="","",SUMIFS('Transactions'!$F$4:$F$403,'Transactions'!$B$4:$B$403,"Income",'Transactions'!$C$4:$C$403,$A8,'Transactions'!$H$4:$H$403,12)) -> 0 | N8: =IF($A8="","",SUM(B8:M8)) -> 0 | O8: =IF($A8="","",IF($N$35=0,0,ROUND(N8/$N$35,2))) -> 0 | P8: =IF($A8="","",IF($N$11=0,0,N8/$N$11)) -> 0
A9: =IF('Settings'!A11="","",'Settings'!A11) | B9: =IF($A9="","",SUMIFS('Transactions'!$F$4:$F$403,'Transactions'!$B$4:$B$403,"Income",'Transactions'!$C$4:$C$403,$A9,'Transactions'!$H$4:$H$403,1)) | C9: =IF($A9="","",SUMIFS('Transactions'!$F$4:$F$403,'Transactions'!$B$4:$B$403,"Income",'Transactions'!$C$4:$C$403,$A9,'Transactions'!$H$4:$H$403,2)) | D9: =IF($A9="","",SUMIFS('Transactions'!$F$4:$F$403,'Transactions'!$B$4:$B$403,"Income",'Transactions'!$C$4:$C$403,$A9,'Transactions'!$H$4:$H$403,3)) | E9: =IF($A9="","",SUMIFS('Transactions'!$F$4:$F$403,'Transactions'!$B$4:$B$403,"Income",'Transactions'!$C$4:$C$403,$A9,'Transactions'!$H$4:$H$403,4)) | F9: =IF($A9="","",SUMIFS('Transactions'!$F$4:$F$403,'Transactions'!$B$4:$B$403,"Income",'Transactions'!$C$4:$C$403,$A9,'Transactions'!$H$4:$H$403,5)) | G9: =IF($A9="","",SUMIFS('Transactions'!$F$4:$F$403,'Transactions'!$B$4:$B$403,"Income",'Transactions'!$C$4:$C$403,$A9,'Transactions'!$H$4:$H$403,6)) | H9: =IF($A9="","",SUMIFS('Transactions'!$F$4:$F$403,'Transactions'!$B$4:$B$403,"Income",'Transactions'!$C$4:$C$403,$A9,'Transactions'!$H$4:$H$403,7)) | I9: =IF($A9="","",SUMIFS('Transactions'!$F$4:$F$403,'Transactions'!$B$4:$B$403,"Income",'Transactions'!$C$4:$C$403,$A9,'Transactions'!$H$4:$H$403,8)) | J9: =IF($A9="","",SUMIFS('Transactions'!$F$4:$F$403,'Transactions'!$B$4:$B$403,"Income",'Transactions'!$C$4:$C$403,$A9,'Transactions'!$H$4:$H$403,9)) | K9: =IF($A9="","",SUMIFS('Transactions'!$F$4:$F$403,'Transactions'!$B$4:$B$403,"Income",'Transactions'!$C$4:$C$403,$A9,'Transactions'!$H$4:$H$403,10)) | L9: =IF($A9="","",SUMIFS('Transactions'!$F$4:$F$403,'Transactions'!$B$4:$B$403,"Income",'Transactions'!$C$4:$C$403,$A9,'Transactions'!$H$4:$H$403,11)) | M9: =IF($A9="","",SUMIFS('Transactions'!$F$4:$F$403,'Transactions'!$B$4:$B$403,"Income",'Transactions'!$C$4:$C$403,$A9,'Transactions'!$H$4:$H$403,12)) | N9: =IF($A9="","",SUM(B9:M9)) | O9: =IF($A9="","",IF($N$35=0,0,ROUND(N9/$N$35,2))) | P9: =IF($A9="","",IF($N$11=0,0,N9/$N$11))
A10: =IF('Settings'!A12="","",'Settings'!A12) | B10: =IF($A10="","",SUMIFS('Transactions'!$F$4:$F$403,'Transactions'!$B$4:$B$403,"Income",'Transactions'!$C$4:$C$403,$A10,'Transactions'!$H$4:$H$403,1)) | C10: =IF($A10="","",SUMIFS('Transactions'!$F$4:$F$403,'Transactions'!$B$4:$B$403,"Income",'Transactions'!$C$4:$C$403,$A10,'Transactions'!$H$4:$H$403,2)) | D10: =IF($A10="","",SUMIFS('Transactions'!$F$4:$F$403,'Transactions'!$B$4:$B$403,"Income",'Transactions'!$C$4:$C$403,$A10,'Transactions'!$H$4:$H$403,3)) | E10: =IF($A10="","",SUMIFS('Transactions'!$F$4:$F$403,'Transactions'!$B$4:$B$403,"Income",'Transactions'!$C$4:$C$403,$A10,'Transactions'!$H$4:$H$403,4)) | F10: =IF($A10="","",SUMIFS('Transactions'!$F$4:$F$403,'Transactions'!$B$4:$B$403,"Income",'Transactions'!$C$4:$C$403,$A10,'Transactions'!$H$4:$H$403,5)) | G10: =IF($A10="","",SUMIFS('Transactions'!$F$4:$F$403,'Transactions'!$B$4:$B$403,"Income",'Transactions'!$C$4:$C$403,$A10,'Transactions'!$H$4:$H$403,6)) | H10: =IF($A10="","",SUMIFS('Transactions'!$F$4:$F$403,'Transactions'!$B$4:$B$403,"Income",'Transactions'!$C$4:$C$403,$A10,'Transactions'!$H$4:$H$403,7)) | I10: =IF($A10="","",SUMIFS('Transactions'!$F$4:$F$403,'Transactions'!$B$4:$B$403,"Income",'Transactions'!$C$4:$C$403,$A10,'Transactions'!$H$4:$H$403,8)) | J10: =IF($A10="","",SUMIFS('Transactions'!$F$4:$F$403,'Transactions'!$B$4:$B$403,"Income",'Transactions'!$C$4:$C$403,$A10,'Transactions'!$H$4:$H$403,9)) | K10: =IF($A10="","",SUMIFS('Transactions'!$F$4:$F$403,'Transactions'!$B$4:$B$403,"Income",'Transactions'!$C$4:$C$403,$A10,'Transactions'!$H$4:$H$403,10)) | L10: =IF($A10="","",SUMIFS('Transactions'!$F$4:$F$403,'Transactions'!$B$4:$B$403,"Income",'Transactions'!$C$4:$C$403,$A10,'Transactions'!$H$4:$H$403,11)) | M10: =IF($A10="","",SUMIFS('Transactions'!$F$4:$F$403,'Transactions'!$B$4:$B$403,"Income",'Transactions'!$C$4:$C$403,$A10,'Transactions'!$H$4:$H$403,12)) | N10: =IF($A10="","",SUM(B10:M10)) | O10: =IF($A10="","",IF($N$35=0,0,ROUND(N10/$N$35,2))) | P10: =IF($A10="","",IF($N$11=0,0,N10/$N$11))
A11: Total income | B11: =SUM(B5:B10) -> 172100 | C11: =SUM(C5:C10) -> 157280 | D11: =SUM(D5:D10) -> 179460 | E11: =SUM(E5:E10) -> 0 | F11: =SUM(F5:F10) -> 0 | G11: =SUM(G5:G10) -> 0 | H11: =SUM(H5:H10) -> 0 | I11: =SUM(I5:I10) -> 0 | ... N11: =SUM(N5:N10) -> 508840 | O11: =IF($N$35=0,0,ROUND(N11/$N$35,2)) -> 169613.33
A13: Expenses
A14: =IF('Settings'!B7="","",'Settings'!B7) -> Housing and utilities | B14: =IF($A14="","",SUMIFS('Transactions'!$F$4:$F$403,'Transactions'!$B$4:$B$403,"Expense",'Transactions'!$C$4:$C$403,$A14,'Transactions'!$H$4:$H$403,1)) -> 38000 | C14: =IF($A14="","",SUMIFS('Transactions'!$F$4:$F$403,'Transactions'!$B$4:$B$403,"Expense",'Transactions'!$C$4:$C$403,$A14,'Transactions'!$H$4:$H$403,2)) -> 38000 | D14: =IF($A14="","",SUMIFS('Transactions'!$F$4:$F$403,'Transactions'!$B$4:$B$403,"Expense",'Transactions'!$C$4:$C$403,$A14,'Transactions'!$H$4:$H$403,3)) -> 38000 | E14: =IF($A14="","",SUMIFS('Transactions'!$F$4:$F$403,'Transactions'!$B$4:$B$403,"Expense",'Transactions'!$C$4:$C$403,$A14,'Transactions'!$H$4:$H$403,4)) -> 0 | F14: =IF($A14="","",SUMIFS('Transactions'!$F$4:$F$403,'Transactions'!$B$4:$B$403,"Expense",'Transactions'!$C$4:$C$403,$A14,'Transactions'!$H$4:$H$403,5)) -> 0 | G14: =IF($A14="","",SUMIFS('Transactions'!$F$4:$F$403,'Transactions'!$B$4:$B$403,"Expense",'Transactions'!$C$4:$C$403,$A14,'Transactions'!$H$4:$H$403,6)) -> 0 | H14: =IF($A14="","",SUMIFS('Transactions'!$F$4:$F$403,'Transactions'!$B$4:$B$403,"Expense",'Transactions'!$C$4:$C$403,$A14,'Transactions'!$H$4:$H$403,7)) -> 0 | I14: =IF($A14="","",SUMIFS('Transactions'!$F$4:$F$403,'Transactions'!$B$4:$B$403,"Expense",'Transactions'!$C$4:$C$403,$A14,'Transactions'!$H$4:$H$403,8)) -> 0 | J14: =IF($A14="","",SUMIFS('Transactions'!$F$4:$F$403,'Transactions'!$B$4:$B$403,"Expense",'Transactions'!$C$4:$C$403,$A14,'Transactions'!$H$4:$H$403,9)) -> 0 | K14: =IF($A14="","",SUMIFS('Transactions'!$F$4:$F$403,'Transactions'!$B$4:$B$403,"Expense",'Transactions'!$C$4:$C$403,$A14,'Transactions'!$H$4:$H$403,10)) -> 0 | L14: =IF($A14="","",SUMIFS('Transactions'!$F$4:$F$403,'Transactions'!$B$4:$B$403,"Expense",'Transactions'!$C$4:$C$403,$A14,'Transactions'!$H$4:$H$403,11)) -> 0 | M14: =IF($A14="","",SUMIFS('Transactions'!$F$4:$F$403,'Transactions'!$B$4:$B$403,"Expense",'Transactions'!$C$4:$C$403,$A14,'Transactions'!$H$4:$H$403,12)) -> 0 | N14: =IF($A14="","",SUM(B14:M14)) -> 114000 | O14: =IF($A14="","",IF($N$35=0,0,ROUND(N14/$N$35,2))) -> 38000 | P14: =IF($A14="","",IF($N$29=0,0,N14/$N$29)) -> 0.37445802
A15: =IF('Settings'!B8="","",'Settings'!B8) -> Groceries | B15: =IF($A15="","",SUMIFS('Transactions'!$F$4:$F$403,'Transactions'!$B$4:$B$403,"Expense",'Transactions'!$C$4:$C$403,$A15,'Transactions'!$H$4:$H$403,1)) -> 26170 | C15: =IF($A15="","",SUMIFS('Transactions'!$F$4:$F$403,'Transactions'!$B$4:$B$403,"Expense",'Transactions'!$C$4:$C$403,$A15,'Transactions'!$H$4:$H$403,2)) -> 26480 | D15: =IF($A15="","",SUMIFS('Transactions'!$F$4:$F$403,'Transactions'!$B$4:$B$403,"Expense",'Transactions'!$C$4:$C$403,$A15,'Transactions'!$H$4:$H$403,3)) -> 26790 | E15: =IF($A15="","",SUMIFS('Transactions'!$F$4:$F$403,'Transactions'!$B$4:$B$403,"Expense",'Transactions'!$C$4:$C$403,$A15,'Transactions'!$H$4:$H$403,4)) -> 0 | F15: =IF($A15="","",SUMIFS('Transactions'!$F$4:$F$403,'Transactions'!$B$4:$B$403,"Expense",'Transactions'!$C$4:$C$403,$A15,'Transactions'!$H$4:$H$403,5)) -> 0 | G15: =IF($A15="","",SUMIFS('Transactions'!$F$4:$F$403,'Transactions'!$B$4:$B$403,"Expense",'Transactions'!$C$4:$C$403,$A15,'Transactions'!$H$4:$H$403,6)) -> 0 | H15: =IF($A15="","",SUMIFS('Transactions'!$F$4:$F$403,'Transactions'!$B$4:$B$403,"Expense",'Transactions'!$C$4:$C$403,$A15,'Transactions'!$H$4:$H$403,7)) -> 0 | I15: =IF($A15="","",SUMIFS('Transactions'!$F$4:$F$403,'Transactions'!$B$4:$B$403,"Expense",'Transactions'!$C$4:$C$403,$A15,'Transactions'!$H$4:$H$403,8)) -> 0 | J15: =IF($A15="","",SUMIFS('Transactions'!$F$4:$F$403,'Transactions'!$B$4:$B$403,"Expense",'Transactions'!$C$4:$C$403,$A15,'Transactions'!$H$4:$H$403,9)) -> 0 | K15: =IF($A15="","",SUMIFS('Transactions'!$F$4:$F$403,'Transactions'!$B$4:$B$403,"Expense",'Transactions'!$C$4:$C$403,$A15,'Transactions'!$H$4:$H$403,10)) -> 0 | L15: =IF($A15="","",SUMIFS('Transactions'!$F$4:$F$403,'Transactions'!$B$4:$B$403,"Expense",'Transactions'!$C$4:$C$403,$A15,'Transactions'!$H$4:$H$403,11)) -> 0 | M15: =IF($A15="","",SUMIFS('Transactions'!$F$4:$F$403,'Transactions'!$B$4:$B$403,"Expense",'Transactions'!$C$4:$C$403,$A15,'Transactions'!$H$4:$H$403,12)) -> 0 | N15: =IF($A15="","",SUM(B15:M15)) -> 79440 | O15: =IF($A15="","",IF($N$35=0,0,ROUND(N15/$N$35,2))) -> 26480 | P15: =IF($A15="","",IF($N$29=0,0,N15/$N$29)) -> 0.26093812
A16: =IF('Settings'!B9="","",'Settings'!B9) -> Transport | B16: =IF($A16="","",SUMIFS('Transactions'!$F$4:$F$403,'Transactions'!$B$4:$B$403,"Expense",'Transactions'!$C$4:$C$403,$A16,'Transactions'!$H$4:$H$403,1)) -> 3200 | C16: =IF($A16="","",SUMIFS('Transactions'!$F$4:$F$403,'Transactions'!$B$4:$B$403,"Expense",'Transactions'!$C$4:$C$403,$A16,'Transactions'!$H$4:$H$403,2)) -> 3200 | D16: =IF($A16="","",SUMIFS('Transactions'!$F$4:$F$403,'Transactions'!$B$4:$B$403,"Expense",'Transactions'!$C$4:$C$403,$A16,'Transactions'!$H$4:$H$403,3)) -> 3200 | E16: =IF($A16="","",SUMIFS('Transactions'!$F$4:$F$403,'Transactions'!$B$4:$B$403,"Expense",'Transactions'!$C$4:$C$403,$A16,'Transactions'!$H$4:$H$403,4)) -> 0 | F16: =IF($A16="","",SUMIFS('Transactions'!$F$4:$F$403,'Transactions'!$B$4:$B$403,"Expense",'Transactions'!$C$4:$C$403,$A16,'Transactions'!$H$4:$H$403,5)) -> 0 | G16: =IF($A16="","",SUMIFS('Transactions'!$F$4:$F$403,'Transactions'!$B$4:$B$403,"Expense",'Transactions'!$C$4:$C$403,$A16,'Transactions'!$H$4:$H$403,6)) -> 0 | H16: =IF($A16="","",SUMIFS('Transactions'!$F$4:$F$403,'Transactions'!$B$4:$B$403,"Expense",'Transactions'!$C$4:$C$403,$A16,'Transactions'!$H$4:$H$403,7)) -> 0 | I16: =IF($A16="","",SUMIFS('Transactions'!$F$4:$F$403,'Transactions'!$B$4:$B$403,"Expense",'Transactions'!$C$4:$C$403,$A16,'Transactions'!$H$4:$H$403,8)) -> 0 | J16: =IF($A16="","",SUMIFS('Transactions'!$F$4:$F$403,'Transactions'!$B$4:$B$403,"Expense",'Transactions'!$C$4:$C$403,$A16,'Transactions'!$H$4:$H$403,9)) -> 0 | K16: =IF($A16="","",SUMIFS('Transactions'!$F$4:$F$403,'Transactions'!$B$4:$B$403,"Expense",'Transactions'!$C$4:$C$403,$A16,'Transactions'!$H$4:$H$403,10)) -> 0 | L16: =IF($A16="","",SUMIFS('Transactions'!$F$4:$F$403,'Transactions'!$B$4:$B$403,"Expense",'Transactions'!$C$4:$C$403,$A16,'Transactions'!$H$4:$H$403,11)) -> 0 | M16: =IF($A16="","",SUMIFS('Transactions'!$F$4:$F$403,'Transactions'!$B$4:$B$403,"Expense",'Transactions'!$C$4:$C$403,$A16,'Transactions'!$H$4:$H$403,12)) -> 0 | N16: =IF($A16="","",SUM(B16:M16)) -> 9600 | O16: =IF($A16="","",IF($N$35=0,0,ROUND(N16/$N$35,2))) -> 3200 | P16: =IF($A16="","",IF($N$29=0,0,N16/$N$29)) -> 0.031533307
A17: =IF('Settings'!B10="","",'Settings'!B10) -> Phone and internet | B17: =IF($A17="","",SUMIFS('Transactions'!$F$4:$F$403,'Transactions'!$B$4:$B$403,"Expense",'Transactions'!$C$4:$C$403,$A17,'Transactions'!$H$4:$H$403,1)) -> 1150 | C17: =IF($A17="","",SUMIFS('Transactions'!$F$4:$F$403,'Transactions'!$B$4:$B$403,"Expense",'Transactions'!$C$4:$C$403,$A17,'Transactions'!$H$4:$H$403,2)) -> 1150 | D17: =IF($A17="","",SUMIFS('Transactions'!$F$4:$F$403,'Transactions'!$B$4:$B$403,"Expense",'Transactions'!$C$4:$C$403,$A17,'Transactions'!$H$4:$H$403,3)) -> 1150 | E17: =IF($A17="","",SUMIFS('Transactions'!$F$4:$F$403,'Transactions'!$B$4:$B$403,"Expense",'Transactions'!$C$4:$C$403,$A17,'Transactions'!$H$4:$H$403,4)) -> 0 | F17: =IF($A17="","",SUMIFS('Transactions'!$F$4:$F$403,'Transactions'!$B$4:$B$403,"Expense",'Transactions'!$C$4:$C$403,$A17,'Transactions'!$H$4:$H$403,5)) -> 0 | G17: =IF($A17="","",SUMIFS('Transactions'!$F$4:$F$403,'Transactions'!$B$4:$B$403,"Expense",'Transactions'!$C$4:$C$403,$A17,'Transactions'!$H$4:$H$403,6)) -> 0 | H17: =IF($A17="","",SUMIFS('Transactions'!$F$4:$F$403,'Transactions'!$B$4:$B$403,"Expense",'Transactions'!$C$4:$C$403,$A17,'Transactions'!$H$4:$H$403,7)) -> 0 | I17: =IF($A17="","",SUMIFS('Transactions'!$F$4:$F$403,'Transactions'!$B$4:$B$403,"Expense",'Transactions'!$C$4:$C$403,$A17,'Transactions'!$H$4:$H$403,8)) -> 0 | J17: =IF($A17="","",SUMIFS('Transactions'!$F$4:$F$403,'Transactions'!$B$4:$B$403,"Expense",'Transactions'!$C$4:$C$403,$A17,'Transactions'!$H$4:$H$403,9)) -> 0 | K17: =IF($A17="","",SUMIFS('Transactions'!$F$4:$F$403,'Transactions'!$B$4:$B$403,"Expense",'Transactions'!$C$4:$C$403,$A17,'Transactions'!$H$4:$H$403,10)) -> 0 | L17: =IF($A17="","",SUMIFS('Transactions'!$F$4:$F$403,'Transactions'!$B$4:$B$403,"Expense",'Transactions'!$C$4:$C$403,$A17,'Transactions'!$H$4:$H$403,11)) -> 0 | M17: =IF($A17="","",SUMIFS('Transactions'!$F$4:$F$403,'Transactions'!$B$4:$B$403,"Expense",'Transactions'!$C$4:$C$403,$A17,'Transactions'!$H$4:$H$403,12)) -> 0 | N17: =IF($A17="","",SUM(B17:M17)) -> 3450 | O17: =IF($A17="","",IF($N$35=0,0,ROUND(N17/$N$35,2))) -> 1150 | P17: =IF($A17="","",IF($N$29=0,0,N17/$N$29)) -> 0.011332282
A18: =IF('Settings'!B11="","",'Settings'!B11) -> Health | B18: =IF($A18="","",SUMIFS('Transactions'!$F$4:$F$403,'Transactions'!$B$4:$B$403,"Expense",'Transactions'!$C$4:$C$403,$A18,'Transactions'!$H$4:$H$403,1)) -> 0 | C18: =IF($A18="","",SUMIFS('Transactions'!$F$4:$F$403,'Transactions'!$B$4:$B$403,"Expense",'Transactions'!$C$4:$C$403,$A18,'Transactions'!$H$4:$H$403,2)) -> 3800 | D18: =IF($A18="","",SUMIFS('Transactions'!$F$4:$F$403,'Transactions'!$B$4:$B$403,"Expense",'Transactions'!$C$4:$C$403,$A18,'Transactions'!$H$4:$H$403,3)) -> 0 | E18: =IF($A18="","",SUMIFS('Transactions'!$F$4:$F$403,'Transactions'!$B$4:$B$403,"Expense",'Transactions'!$C$4:$C$403,$A18,'Transactions'!$H$4:$H$403,4)) -> 0 | F18: =IF($A18="","",SUMIFS('Transactions'!$F$4:$F$403,'Transactions'!$B$4:$B$403,"Expense",'Transactions'!$C$4:$C$403,$A18,'Transactions'!$H$4:$H$403,5)) -> 0 | G18: =IF($A18="","",SUMIFS('Transactions'!$F$4:$F$403,'Transactions'!$B$4:$B$403,"Expense",'Transactions'!$C$4:$C$403,$A18,'Transactions'!$H$4:$H$403,6)) -> 0 | H18: =IF($A18="","",SUMIFS('Transactions'!$F$4:$F$403,'Transactions'!$B$4:$B$403,"Expense",'Transactions'!$C$4:$C$403,$A18,'Transactions'!$H$4:$H$403,7)) -> 0 | I18: =IF($A18="","",SUMIFS('Transactions'!$F$4:$F$403,'Transactions'!$B$4:$B$403,"Expense",'Transactions'!$C$4:$C$403,$A18,'Transactions'!$H$4:$H$403,8)) -> 0 | J18: =IF($A18="","",SUMIFS('Transactions'!$F$4:$F$403,'Transactions'!$B$4:$B$403,"Expense",'Transactions'!$C$4:$C$403,$A18,'Transactions'!$H$4:$H$403,9)) -> 0 | K18: =IF($A18="","",SUMIFS('Transactions'!$F$4:$F$403,'Transactions'!$B$4:$B$403,"Expense",'Transactions'!$C$4:$C$403,$A18,'Transactions'!$H$4:$H$403,10)) -> 0 | L18: =IF($A18="","",SUMIFS('Transactions'!$F$4:$F$403,'Transactions'!$B$4:$B$403,"Expense",'Transactions'!$C$4:$C$403,$A18,'Transactions'!$H$4:$H$403,11)) -> 0 | M18: =IF($A18="","",SUMIFS('Transactions'!$F$4:$F$403,'Transactions'!$B$4:$B$403,"Expense",'Transactions'!$C$4:$C$403,$A18,'Transactions'!$H$4:$H$403,12)) -> 0 | N18: =IF($A18="","",SUM(B18:M18)) -> 3800 | O18: =IF($A18="","",IF($N$35=0,0,ROUND(N18/$N$35,2))) -> 1266.67 | P18: =IF($A18="","",IF($N$29=0,0,N18/$N$29)) -> 0.012481934
A19: =IF('Settings'!B12="","",'Settings'!B12) -> Clothing | B19: =IF($A19="","",SUMIFS('Transactions'!$F$4:$F$403,'Transactions'!$B$4:$B$403,"Expense",'Transactions'!$C$4:$C$403,$A19,'Transactions'!$H$4:$H$403,1)) -> 0 | C19: =IF($A19="","",SUMIFS('Transactions'!$F$4:$F$403,'Transactions'!$B$4:$B$403,"Expense",'Transactions'!$C$4:$C$403,$A19,'Transactions'!$H$4:$H$403,2)) -> 0 | D19: =IF($A19="","",SUMIFS('Transactions'!$F$4:$F$403,'Transactions'!$B$4:$B$403,"Expense",'Transactions'!$C$4:$C$403,$A19,'Transactions'!$H$4:$H$403,3)) -> 7900 | E19: =IF($A19="","",SUMIFS('Transactions'!$F$4:$F$403,'Transactions'!$B$4:$B$403,"Expense",'Transactions'!$C$4:$C$403,$A19,'Transactions'!$H$4:$H$403,4)) -> 0 | F19: =IF($A19="","",SUMIFS('Transactions'!$F$4:$F$403,'Transactions'!$B$4:$B$403,"Expense",'Transactions'!$C$4:$C$403,$A19,'Transactions'!$H$4:$H$403,5)) -> 0 | G19: =IF($A19="","",SUMIFS('Transactions'!$F$4:$F$403,'Transactions'!$B$4:$B$403,"Expense",'Transactions'!$C$4:$C$403,$A19,'Transactions'!$H$4:$H$403,6)) -> 0 | H19: =IF($A19="","",SUMIFS('Transactions'!$F$4:$F$403,'Transactions'!$B$4:$B$403,"Expense",'Transactions'!$C$4:$C$403,$A19,'Transactions'!$H$4:$H$403,7)) -> 0 | I19: =IF($A19="","",SUMIFS('Transactions'!$F$4:$F$403,'Transactions'!$B$4:$B$403,"Expense",'Transactions'!$C$4:$C$403,$A19,'Transactions'!$H$4:$H$403,8)) -> 0 | J19: =IF($A19="","",SUMIFS('Transactions'!$F$4:$F$403,'Transactions'!$B$4:$B$403,"Expense",'Transactions'!$C$4:$C$403,$A19,'Transactions'!$H$4:$H$403,9)) -> 0 | K19: =IF($A19="","",SUMIFS('Transactions'!$F$4:$F$403,'Transactions'!$B$4:$B$403,"Expense",'Transactions'!$C$4:$C$403,$A19,'Transactions'!$H$4:$H$403,10)) -> 0 | L19: =IF($A19="","",SUMIFS('Transactions'!$F$4:$F$403,'Transactions'!$B$4:$B$403,"Expense",'Transactions'!$C$4:$C$403,$A19,'Transactions'!$H$4:$H$403,11)) -> 0 | M19: =IF($A19="","",SUMIFS('Transactions'!$F$4:$F$403,'Transactions'!$B$4:$B$403,"Expense",'Transactions'!$C$4:$C$403,$A19,'Transactions'!$H$4:$H$403,12)) -> 0 | N19: =IF($A19="","",SUM(B19:M19)) -> 7900 | O19: =IF($A19="","",IF($N$35=0,0,ROUND(N19/$N$35,2))) -> 2633.33 | P19: =IF($A19="","",IF($N$29=0,0,N19/$N$29)) -> 0.025949284
A20: =IF('Settings'!B13="","",'Settings'!B13) -> Eating out | B20: =IF($A20="","",SUMIFS('Transactions'!$F$4:$F$403,'Transactions'!$B$4:$B$403,"Expense",'Transactions'!$C$4:$C$403,$A20,'Transactions'!$H$4:$H$403,1)) -> 5150 | C20: =IF($A20="","",SUMIFS('Transactions'!$F$4:$F$403,'Transactions'!$B$4:$B$403,"Expense",'Transactions'!$C$4:$C$403,$A20,'Transactions'!$H$4:$H$403,2)) -> 5350 | D20: =IF($A20="","",SUMIFS('Transactions'!$F$4:$F$403,'Transactions'!$B$4:$B$403,"Expense",'Transactions'!$C$4:$C$403,$A20,'Transactions'!$H$4:$H$403,3)) -> 5550 | E20: =IF($A20="","",SUMIFS('Transactions'!$F$4:$F$403,'Transactions'!$B$4:$B$403,"Expense",'Transactions'!$C$4:$C$403,$A20,'Transactions'!$H$4:$H$403,4)) -> 0 | F20: =IF($A20="","",SUMIFS('Transactions'!$F$4:$F$403,'Transactions'!$B$4:$B$403,"Expense",'Transactions'!$C$4:$C$403,$A20,'Transactions'!$H$4:$H$403,5)) -> 0 | G20: =IF($A20="","",SUMIFS('Transactions'!$F$4:$F$403,'Transactions'!$B$4:$B$403,"Expense",'Transactions'!$C$4:$C$403,$A20,'Transactions'!$H$4:$H$403,6)) -> 0 | H20: =IF($A20="","",SUMIFS('Transactions'!$F$4:$F$403,'Transactions'!$B$4:$B$403,"Expense",'Transactions'!$C$4:$C$403,$A20,'Transactions'!$H$4:$H$403,7)) -> 0 | I20: =IF($A20="","",SUMIFS('Transactions'!$F$4:$F$403,'Transactions'!$B$4:$B$403,"Expense",'Transactions'!$C$4:$C$403,$A20,'Transactions'!$H$4:$H$403,8)) -> 0 | J20: =IF($A20="","",SUMIFS('Transactions'!$F$4:$F$403,'Transactions'!$B$4:$B$403,"Expense",'Transactions'!$C$4:$C$403,$A20,'Transactions'!$H$4:$H$403,9)) -> 0 | K20: =IF($A20="","",SUMIFS('Transactions'!$F$4:$F$403,'Transactions'!$B$4:$B$403,"Expense",'Transactions'!$C$4:$C$403,$A20,'Transactions'!$H$4:$H$403,10)) -> 0 | L20: =IF($A20="","",SUMIFS('Transactions'!$F$4:$F$403,'Transactions'!$B$4:$B$403,"Expense",'Transactions'!$C$4:$C$403,$A20,'Transactions'!$H$4:$H$403,11)) -> 0 | M20: =IF($A20="","",SUMIFS('Transactions'!$F$4:$F$403,'Transactions'!$B$4:$B$403,"Expense",'Transactions'!$C$4:$C$403,$A20,'Transactions'!$H$4:$H$403,12)) -> 0 | N20: =IF($A20="","",SUM(B20:M20)) -> 16050 | O20: =IF($A20="","",IF($N$35=0,0,ROUND(N20/$N$35,2))) -> 5350 | P20: =IF($A20="","",IF($N$29=0,0,N20/$N$29)) -> 0.052719748
A21: =IF('Settings'!B14="","",'Settings'!B14) -> Leisure | B21: =IF($A21="","",SUMIFS('Transactions'!$F$4:$F$403,'Transactions'!$B$4:$B$403,"Expense",'Transactions'!$C$4:$C$403,$A21,'Transactions'!$H$4:$H$403,1)) -> 2500 | C21: =IF($A21="","",SUMIFS('Transactions'!$F$4:$F$403,'Transactions'!$B$4:$B$403,"Expense",'Transactions'!$C$4:$C$403,$A21,'Transactions'!$H$4:$H$403,2)) -> 2500 | D21: =IF($A21="","",SUMIFS('Transactions'!$F$4:$F$403,'Transactions'!$B$4:$B$403,"Expense",'Transactions'!$C$4:$C$403,$A21,'Transactions'!$H$4:$H$403,3)) -> 2500 | E21: =IF($A21="","",SUMIFS('Transactions'!$F$4:$F$403,'Transactions'!$B$4:$B$403,"Expense",'Transactions'!$C$4:$C$403,$A21,'Transactions'!$H$4:$H$403,4)) -> 0 | F21: =IF($A21="","",SUMIFS('Transactions'!$F$4:$F$403,'Transactions'!$B$4:$B$403,"Expense",'Transactions'!$C$4:$C$403,$A21,'Transactions'!$H$4:$H$403,5)) -> 0 | G21: =IF($A21="","",SUMIFS('Transactions'!$F$4:$F$403,'Transactions'!$B$4:$B$403,"Expense",'Transactions'!$C$4:$C$403,$A21,'Transactions'!$H$4:$H$403,6)) -> 0 | H21: =IF($A21="","",SUMIFS('Transactions'!$F$4:$F$403,'Transactions'!$B$4:$B$403,"Expense",'Transactions'!$C$4:$C$403,$A21,'Transactions'!$H$4:$H$403,7)) -> 0 | I21: =IF($A21="","",SUMIFS('Transactions'!$F$4:$F$403,'Transactions'!$B$4:$B$403,"Expense",'Transactions'!$C$4:$C$403,$A21,'Transactions'!$H$4:$H$403,8)) -> 0 | J21: =IF($A21="","",SUMIFS('Transactions'!$F$4:$F$403,'Transactions'!$B$4:$B$403,"Expense",'Transactions'!$C$4:$C$403,$A21,'Transactions'!$H$4:$H$403,9)) -> 0 | K21: =IF($A21="","",SUMIFS('Transactions'!$F$4:$F$403,'Transactions'!$B$4:$B$403,"Expense",'Transactions'!$C$4:$C$403,$A21,'Transactions'!$H$4:$H$403,10)) -> 0 | L21: =IF($A21="","",SUMIFS('Transactions'!$F$4:$F$403,'Transactions'!$B$4:$B$403,"Expense",'Transactions'!$C$4:$C$403,$A21,'Transactions'!$H$4:$H$403,11)) -> 0 | M21: =IF($A21="","",SUMIFS('Transactions'!$F$4:$F$403,'Transactions'!$B$4:$B$403,"Expense",'Transactions'!$C$4:$C$403,$A21,'Transactions'!$H$4:$H$403,12)) -> 0 | N21: =IF($A21="","",SUM(B21:M21)) -> 7500 | O21: =IF($A21="","",IF($N$35=0,0,ROUND(N21/$N$35,2))) -> 2500 | P21: =IF($A21="","",IF($N$29=0,0,N21/$N$29)) -> 0.024635396
A22: =IF('Settings'!B15="","",'Settings'!B15) -> Education | B22: =IF($A22="","",SUMIFS('Transactions'!$F$4:$F$403,'Transactions'!$B$4:$B$403,"Expense",'Transactions'!$C$4:$C$403,$A22,'Transactions'!$H$4:$H$403,1)) -> 0 | C22: =IF($A22="","",SUMIFS('Transactions'!$F$4:$F$403,'Transactions'!$B$4:$B$403,"Expense",'Transactions'!$C$4:$C$403,$A22,'Transactions'!$H$4:$H$403,2)) -> 0 | D22: =IF($A22="","",SUMIFS('Transactions'!$F$4:$F$403,'Transactions'!$B$4:$B$403,"Expense",'Transactions'!$C$4:$C$403,$A22,'Transactions'!$H$4:$H$403,3)) -> 0 | E22: =IF($A22="","",SUMIFS('Transactions'!$F$4:$F$403,'Transactions'!$B$4:$B$403,"Expense",'Transactions'!$C$4:$C$403,$A22,'Transactions'!$H$4:$H$403,4)) -> 0 | F22: =IF($A22="","",SUMIFS('Transactions'!$F$4:$F$403,'Transactions'!$B$4:$B$403,"Expense",'Transactions'!$C$4:$C$403,$A22,'Transactions'!$H$4:$H$403,5)) -> 0 | G22: =IF($A22="","",SUMIFS('Transactions'!$F$4:$F$403,'Transactions'!$B$4:$B$403,"Expense",'Transactions'!$C$4:$C$403,$A22,'Transactions'!$H$4:$H$403,6)) -> 0 | H22: =IF($A22="","",SUMIFS('Transactions'!$F$4:$F$403,'Transactions'!$B$4:$B$403,"Expense",'Transactions'!$C$4:$C$403,$A22,'Transactions'!$H$4:$H$403,7)) -> 0 | I22: =IF($A22="","",SUMIFS('Transactions'!$F$4:$F$403,'Transactions'!$B$4:$B$403,"Expense",'Transactions'!$C$4:$C$403,$A22,'Transactions'!$H$4:$H$403,8)) -> 0 | J22: =IF($A22="","",SUMIFS('Transactions'!$F$4:$F$403,'Transactions'!$B$4:$B$403,"Expense",'Transactions'!$C$4:$C$403,$A22,'Transactions'!$H$4:$H$403,9)) -> 0 | K22: =IF($A22="","",SUMIFS('Transactions'!$F$4:$F$403,'Transactions'!$B$4:$B$403,"Expense",'Transactions'!$C$4:$C$403,$A22,'Transactions'!$H$4:$H$403,10)) -> 0 | L22: =IF($A22="","",SUMIFS('Transactions'!$F$4:$F$403,'Transactions'!$B$4:$B$403,"Expense",'Transactions'!$C$4:$C$403,$A22,'Transactions'!$H$4:$H$403,11)) -> 0 | M22: =IF($A22="","",SUMIFS('Transactions'!$F$4:$F$403,'Transactions'!$B$4:$B$403,"Expense",'Transactions'!$C$4:$C$403,$A22,'Transactions'!$H$4:$H$403,12)) -> 0 | N22: =IF($A22="","",SUM(B22:M22)) -> 0 | O22: =IF($A22="","",IF($N$35=0,0,ROUND(N22/$N$35,2))) -> 0 | P22: =IF($A22="","",IF($N$29=0,0,N22/$N$29)) -> 0
A23: =IF('Settings'!B16="","",'Settings'!B16) -> Gifts | B23: =IF($A23="","",SUMIFS('Transactions'!$F$4:$F$403,'Transactions'!$B$4:$B$403,"Expense",'Transactions'!$C$4:$C$403,$A23,'Transactions'!$H$4:$H$403,1)) -> 0 | C23: =IF($A23="","",SUMIFS('Transactions'!$F$4:$F$403,'Transactions'!$B$4:$B$403,"Expense",'Transactions'!$C$4:$C$403,$A23,'Transactions'!$H$4:$H$403,2)) -> 4000 | D23: =IF($A23="","",SUMIFS('Transactions'!$F$4:$F$403,'Transactions'!$B$4:$B$403,"Expense",'Transactions'!$C$4:$C$403,$A23,'Transactions'!$H$4:$H$403,3)) -> 3500 | E23: =IF($A23="","",SUMIFS('Transactions'!$F$4:$F$403,'Transactions'!$B$4:$B$403,"Expense",'Transactions'!$C$4:$C$403,$A23,'Transactions'!$H$4:$H$403,4)) -> 0 | F23: =IF($A23="","",SUMIFS('Transactions'!$F$4:$F$403,'Transactions'!$B$4:$B$403,"Expense",'Transactions'!$C$4:$C$403,$A23,'Transactions'!$H$4:$H$403,5)) -> 0 | G23: =IF($A23="","",SUMIFS('Transactions'!$F$4:$F$403,'Transactions'!$B$4:$B$403,"Expense",'Transactions'!$C$4:$C$403,$A23,'Transactions'!$H$4:$H$403,6)) -> 0 | H23: =IF($A23="","",SUMIFS('Transactions'!$F$4:$F$403,'Transactions'!$B$4:$B$403,"Expense",'Transactions'!$C$4:$C$403,$A23,'Transactions'!$H$4:$H$403,7)) -> 0 | I23: =IF($A23="","",SUMIFS('Transactions'!$F$4:$F$403,'Transactions'!$B$4:$B$403,"Expense",'Transactions'!$C$4:$C$403,$A23,'Transactions'!$H$4:$H$403,8)) -> 0 | J23: =IF($A23="","",SUMIFS('Transactions'!$F$4:$F$403,'Transactions'!$B$4:$B$403,"Expense",'Transactions'!$C$4:$C$403,$A23,'Transactions'!$H$4:$H$403,9)) -> 0 | K23: =IF($A23="","",SUMIFS('Transactions'!$F$4:$F$403,'Transactions'!$B$4:$B$403,"Expense",'Transactions'!$C$4:$C$403,$A23,'Transactions'!$H$4:$H$403,10)) -> 0 | L23: =IF($A23="","",SUMIFS('Transactions'!$F$4:$F$403,'Transactions'!$B$4:$B$403,"Expense",'Transactions'!$C$4:$C$403,$A23,'Transactions'!$H$4:$H$403,11)) -> 0 | M23: =IF($A23="","",SUMIFS('Transactions'!$F$4:$F$403,'Transactions'!$B$4:$B$403,"Expense",'Transactions'!$C$4:$C$403,$A23,'Transactions'!$H$4:$H$403,12)) -> 0 | N23: =IF($A23="","",SUM(B23:M23)) -> 7500 | O23: =IF($A23="","",IF($N$35=0,0,ROUND(N23/$N$35,2))) -> 2500 | P23: =IF($A23="","",IF($N$29=0,0,N23/$N$29)) -> 0.024635396
A24: =IF('Settings'!B17="","",'Settings'!B17) -> Loan payments | B24: =IF($A24="","",SUMIFS('Transactions'!$F$4:$F$403,'Transactions'!$B$4:$B$403,"Expense",'Transactions'!$C$4:$C$403,$A24,'Transactions'!$H$4:$H$403,1)) -> 18400 | C24: =IF($A24="","",SUMIFS('Transactions'!$F$4:$F$403,'Transactions'!$B$4:$B$403,"Expense",'Transactions'!$C$4:$C$403,$A24,'Transactions'!$H$4:$H$403,2)) -> 18400 | D24: =IF($A24="","",SUMIFS('Transactions'!$F$4:$F$403,'Transactions'!$B$4:$B$403,"Expense",'Transactions'!$C$4:$C$403,$A24,'Transactions'!$H$4:$H$403,3)) -> 18400 | E24: =IF($A24="","",SUMIFS('Transactions'!$F$4:$F$403,'Transactions'!$B$4:$B$403,"Expense",'Transactions'!$C$4:$C$403,$A24,'Transactions'!$H$4:$H$403,4)) -> 0 | F24: =IF($A24="","",SUMIFS('Transactions'!$F$4:$F$403,'Transactions'!$B$4:$B$403,"Expense",'Transactions'!$C$4:$C$403,$A24,'Transactions'!$H$4:$H$403,5)) -> 0 | G24: =IF($A24="","",SUMIFS('Transactions'!$F$4:$F$403,'Transactions'!$B$4:$B$403,"Expense",'Transactions'!$C$4:$C$403,$A24,'Transactions'!$H$4:$H$403,6)) -> 0 | H24: =IF($A24="","",SUMIFS('Transactions'!$F$4:$F$403,'Transactions'!$B$4:$B$403,"Expense",'Transactions'!$C$4:$C$403,$A24,'Transactions'!$H$4:$H$403,7)) -> 0 | I24: =IF($A24="","",SUMIFS('Transactions'!$F$4:$F$403,'Transactions'!$B$4:$B$403,"Expense",'Transactions'!$C$4:$C$403,$A24,'Transactions'!$H$4:$H$403,8)) -> 0 | J24: =IF($A24="","",SUMIFS('Transactions'!$F$4:$F$403,'Transactions'!$B$4:$B$403,"Expense",'Transactions'!$C$4:$C$403,$A24,'Transactions'!$H$4:$H$403,9)) -> 0 | K24: =IF($A24="","",SUMIFS('Transactions'!$F$4:$F$403,'Transactions'!$B$4:$B$403,"Expense",'Transactions'!$C$4:$C$403,$A24,'Transactions'!$H$4:$H$403,10)) -> 0 | L24: =IF($A24="","",SUMIFS('Transactions'!$F$4:$F$403,'Transactions'!$B$4:$B$403,"Expense",'Transactions'!$C$4:$C$403,$A24,'Transactions'!$H$4:$H$403,11)) -> 0 | M24: =IF($A24="","",SUMIFS('Transactions'!$F$4:$F$403,'Transactions'!$B$4:$B$403,"Expense",'Transactions'!$C$4:$C$403,$A24,'Transactions'!$H$4:$H$403,12)) -> 0 | N24: =IF($A24="","",SUM(B24:M24)) -> 55200 | O24: =IF($A24="","",IF($N$35=0,0,ROUND(N24/$N$35,2))) -> 18400 | P24: =IF($A24="","",IF($N$29=0,0,N24/$N$29)) -> 0.18131652
A25: =IF('Settings'!B18="","",'Settings'!B18) -> Other | B25: =IF($A25="","",SUMIFS('Transactions'!$F$4:$F$403,'Transactions'!$B$4:$B$403,"Expense",'Transactions'!$C$4:$C$403,$A25,'Transactions'!$H$4:$H$403,1)) -> 0 | C25: =IF($A25="","",SUMIFS('Transactions'!$F$4:$F$403,'Transactions'!$B$4:$B$403,"Expense",'Transactions'!$C$4:$C$403,$A25,'Transactions'!$H$4:$H$403,2)) -> 0 | D25: =IF($A25="","",SUMIFS('Transactions'!$F$4:$F$403,'Transactions'!$B$4:$B$403,"Expense",'Transactions'!$C$4:$C$403,$A25,'Transactions'!$H$4:$H$403,3)) -> 0 | E25: =IF($A25="","",SUMIFS('Transactions'!$F$4:$F$403,'Transactions'!$B$4:$B$403,"Expense",'Transactions'!$C$4:$C$403,$A25,'Transactions'!$H$4:$H$403,4)) -> 0 | F25: =IF($A25="","",SUMIFS('Transactions'!$F$4:$F$403,'Transactions'!$B$4:$B$403,"Expense",'Transactions'!$C$4:$C$403,$A25,'Transactions'!$H$4:$H$403,5)) -> 0 | G25: =IF($A25="","",SUMIFS('Transactions'!$F$4:$F$403,'Transactions'!$B$4:$B$403,"Expense",'Transactions'!$C$4:$C$403,$A25,'Transactions'!$H$4:$H$403,6)) -> 0 | H25: =IF($A25="","",SUMIFS('Transactions'!$F$4:$F$403,'Transactions'!$B$4:$B$403,"Expense",'Transactions'!$C$4:$C$403,$A25,'Transactions'!$H$4:$H$403,7)) -> 0 | I25: =IF($A25="","",SUMIFS('Transactions'!$F$4:$F$403,'Transactions'!$B$4:$B$403,"Expense",'Transactions'!$C$4:$C$403,$A25,'Transactions'!$H$4:$H$403,8)) -> 0 | J25: =IF($A25="","",SUMIFS('Transactions'!$F$4:$F$403,'Transactions'!$B$4:$B$403,"Expense",'Transactions'!$C$4:$C$403,$A25,'Transactions'!$H$4:$H$403,9)) -> 0 | K25: =IF($A25="","",SUMIFS('Transactions'!$F$4:$F$403,'Transactions'!$B$4:$B$403,"Expense",'Transactions'!$C$4:$C$403,$A25,'Transactions'!$H$4:$H$403,10)) -> 0 | L25: =IF($A25="","",SUMIFS('Transactions'!$F$4:$F$403,'Transactions'!$B$4:$B$403,"Expense",'Transactions'!$C$4:$C$403,$A25,'Transactions'!$H$4:$H$403,11)) -> 0 | M25: =IF($A25="","",SUMIFS('Transactions'!$F$4:$F$403,'Transactions'!$B$4:$B$403,"Expense",'Transactions'!$C$4:$C$403,$A25,'Transactions'!$H$4:$H$403,12)) -> 0 | N25: =IF($A25="","",SUM(B25:M25)) -> 0 | O25: =IF($A25="","",IF($N$35=0,0,ROUND(N25/$N$35,2))) -> 0 | P25: =IF($A25="","",IF($N$29=0,0,N25/$N$29)) -> 0
... A28: =IF('Settings'!B21="","",'Settings'!B21) | B28: =IF($A28="","",SUMIFS('Transactions'!$F$4:$F$403,'Transactions'!$B$4:$B$403,"Expense",'Transactions'!$C$4:$C$403,$A28,'Transactions'!$H$4:$H$403,1)) | C28: =IF($A28="","",SUMIFS('Transactions'!$F$4:$F$403,'Transactions'!$B$4:$B$403,"Expense",'Transactions'!$C$4:$C$403,$A28,'Transactions'!$H$4:$H$403,2)) | D28: =IF($A28="","",SUMIFS('Transactions'!$F$4:$F$403,'Transactions'!$B$4:$B$403,"Expense",'Transactions'!$C$4:$C$403,$A28,'Transactions'!$H$4:$H$403,3)) | E28: =IF($A28="","",SUMIFS('Transactions'!$F$4:$F$403,'Transactions'!$B$4:$B$403,"Expense",'Transactions'!$C$4:$C$403,$A28,'Transactions'!$H$4:$H$403,4)) | F28: =IF($A28="","",SUMIFS('Transactions'!$F$4:$F$403,'Transactions'!$B$4:$B$403,"Expense",'Transactions'!$C$4:$C$403,$A28,'Transactions'!$H$4:$H$403,5)) | G28: =IF($A28="","",SUMIFS('Transactions'!$F$4:$F$403,'Transactions'!$B$4:$B$403,"Expense",'Transactions'!$C$4:$C$403,$A28,'Transactions'!$H$4:$H$403,6)) | H28: =IF($A28="","",SUMIFS('Transactions'!$F$4:$F$403,'Transactions'!$B$4:$B$403,"Expense",'Transactions'!$C$4:$C$403,$A28,'Transactions'!$H$4:$H$403,7)) | I28: =IF($A28="","",SUMIFS('Transactions'!$F$4:$F$403,'Transactions'!$B$4:$B$403,"Expense",'Transactions'!$C$4:$C$403,$A28,'Transactions'!$H$4:$H$403,8)) | J28: =IF($A28="","",SUMIFS('Transactions'!$F$4:$F$403,'Transactions'!$B$4:$B$403,"Expense",'Transactions'!$C$4:$C$403,$A28,'Transactions'!$H$4:$H$403,9)) | K28: =IF($A28="","",SUMIFS('Transactions'!$F$4:$F$403,'Transactions'!$B$4:$B$403,"Expense",'Transactions'!$C$4:$C$403,$A28,'Transactions'!$H$4:$H$403,10)) | L28: =IF($A28="","",SUMIFS('Transactions'!$F$4:$F$403,'Transactions'!$B$4:$B$403,"Expense",'Transactions'!$C$4:$C$403,$A28,'Transactions'!$H$4:$H$403,11)) | M28: =IF($A28="","",SUMIFS('Transactions'!$F$4:$F$403,'Transactions'!$B$4:$B$403,"Expense",'Transactions'!$C$4:$C$403,$A28,'Transactions'!$H$4:$H$403,12)) | N28: =IF($A28="","",SUM(B28:M28)) | O28: =IF($A28="","",IF($N$35=0,0,ROUND(N28/$N$35,2))) | P28: =IF($A28="","",IF($N$29=0,0,N28/$N$29))
A29: Total expenses | B29: =SUM(B14:B28) -> 94570 | C29: =SUM(C14:C28) -> 102880 | D29: =SUM(D14:D28) -> 106990 | E29: =SUM(E14:E28) -> 0 | F29: =SUM(F14:F28) -> 0 | G29: =SUM(G14:G28) -> 0 | H29: =SUM(H14:H28) -> 0 | I29: =SUM(I14:I28) -> 0 | ... N29: =SUM(N14:N28) -> 304440 | O29: =IF($N$35=0,0,ROUND(N29/$N$35,2)) -> 101480
A31: Savings (income − expenses) | B31: =B11-B29 -> 77530 | C31: =C11-C29 -> 54400 | D31: =D11-D29 -> 72470 | E31: =E11-E29 -> 0 | F31: =F11-F29 -> 0 | G31: =G11-G29 -> 0 | H31: =H11-H29 -> 0 | I31: =I11-I29 -> 0 | ... N31: =N11-N29 -> 204400
A32: Savings rate | B32: =IF(B11=0,0,B31/B11) -> 0.4504939 | C32: =IF(C11=0,0,C31/C11) -> 0.34587996 | D32: =IF(D11=0,0,D31/D11) -> 0.40382258 | E32: =IF(E11=0,0,E31/E11) -> 0 | F32: =IF(F11=0,0,F31/F11) -> 0 | G32: =IF(G11=0,0,G31/G11) -> 0 | H32: =IF(H11=0,0,H31/H11) -> 0 | I32: =IF(I11=0,0,I31/I11) -> 0 | ... N32: =IF(N11=0,0,N31/N11) -> 0.40169798
A33: Savings year to date | B33: =B31 -> 77530 | C33: =B33+C31 -> 131930 | D33: =C33+D31 -> 204400 | E33: =D33+E31 -> 204400 | F33: =E33+F31 -> 204400 | G33: =F33+G31 -> 204400 | H33: =G33+H31 -> 204400 | I33: =H33+I31 -> 204400 | J33: =I33+J31 -> 204400 | ... M33: =L33+M31 -> 204400
A35: Months with transactions | B35: =IF(COUNTIF('Transactions'!$H$4:$H$403,1)>0,1,0) -> 1 | C35: =IF(COUNTIF('Transactions'!$H$4:$H$403,2)>0,1,0) -> 1 | D35: =IF(COUNTIF('Transactions'!$H$4:$H$403,3)>0,1,0) -> 1 | E35: =IF(COUNTIF('Transactions'!$H$4:$H$403,4)>0,1,0) -> 0 | F35: =IF(COUNTIF('Transactions'!$H$4:$H$403,5)>0,1,0) -> 0 | G35: =IF(COUNTIF('Transactions'!$H$4:$H$403,6)>0,1,0) -> 0 | H35: =IF(COUNTIF('Transactions'!$H$4:$H$403,7)>0,1,0) -> 0 | I35: =IF(COUNTIF('Transactions'!$H$4:$H$403,8)>0,1,0) -> 0 | J35: =IF(COUNTIF('Transactions'!$H$4:$H$403,9)>0,1,0) -> 0 | K35: =IF(COUNTIF('Transactions'!$H$4:$H$403,10)>0,1,0) -> 0 | L35: =IF(COUNTIF('Transactions'!$H$4:$H$403,11)>0,1,0) -> 0 | M35: =IF(COUNTIF('Transactions'!$H$4:$H$403,12)>0,1,0) -> 0 | N35: =SUM(B35:M35) -> 3

Sheet Budget
A1: Monthly budget: limit against actual
A2: Pick a month and set a limit per category — the actual comes from the Months sheet.
A4: Month (1–12) | B4: 3
A6: Category | B6: Monthly limit | C6: Actual | D6: Left | E6: Used
A7: ='Months'!$A14 -> Housing and utilities | B7: 40000 | C7: =IF($A7="","",INDEX('Months'!$B14:$M14,1,$B$4)) -> 38000 | D7: =IF($A7="","",B7-C7) -> 2000 | E7: =IF($A7="","",IF(B7+0=0,"",C7/B7)) -> 0.95
A8: ='Months'!$A15 -> Groceries | B8: 30000 | C8: =IF($A8="","",INDEX('Months'!$B15:$M15,1,$B$4)) -> 26790 | D8: =IF($A8="","",B8-C8) -> 3210 | E8: =IF($A8="","",IF(B8+0=0,"",C8/B8)) -> 0.893
A9: ='Months'!$A16 -> Transport | B9: 5000 | C9: =IF($A9="","",INDEX('Months'!$B16:$M16,1,$B$4)) -> 3200 | D9: =IF($A9="","",B9-C9) -> 1800 | E9: =IF($A9="","",IF(B9+0=0,"",C9/B9)) -> 0.64
A10: ='Months'!$A17 -> Phone and internet | B10: 1500 | C10: =IF($A10="","",INDEX('Months'!$B17:$M17,1,$B$4)) -> 1150 | D10: =IF($A10="","",B10-C10) -> 350 | E10: =IF($A10="","",IF(B10+0=0,"",C10/B10)) -> 0.76666667
A11: ='Months'!$A18 -> Health | B11: 5000 | C11: =IF($A11="","",INDEX('Months'!$B18:$M18,1,$B$4)) -> 0 | D11: =IF($A11="","",B11-C11) -> 5000 | E11: =IF($A11="","",IF(B11+0=0,"",C11/B11)) -> 0
A12: ='Months'!$A19 -> Clothing | B12: 8000 | C12: =IF($A12="","",INDEX('Months'!$B19:$M19,1,$B$4)) -> 7900 | D12: =IF($A12="","",B12-C12) -> 100 | E12: =IF($A12="","",IF(B12+0=0,"",C12/B12)) -> 0.9875
A13: ='Months'!$A20 -> Eating out | B13: 6000 | C13: =IF($A13="","",INDEX('Months'!$B20:$M20,1,$B$4)) -> 5550 | D13: =IF($A13="","",B13-C13) -> 450 | E13: =IF($A13="","",IF(B13+0=0,"",C13/B13)) -> 0.925
A14: ='Months'!$A21 -> Leisure | B14: 4000 | C14: =IF($A14="","",INDEX('Months'!$B21:$M21,1,$B$4)) -> 2500 | D14: =IF($A14="","",B14-C14) -> 1500 | E14: =IF($A14="","",IF(B14+0=0,"",C14/B14)) -> 0.625
A15: ='Months'!$A22 -> Education | B15: 3000 | C15: =IF($A15="","",INDEX('Months'!$B22:$M22,1,$B$4)) -> 0 | D15: =IF($A15="","",B15-C15) -> 3000 | E15: =IF($A15="","",IF(B15+0=0,"",C15/B15)) -> 0
A16: ='Months'!$A23 -> Gifts | B16: 4000 | C16: =IF($A16="","",INDEX('Months'!$B23:$M23,1,$B$4)) -> 3500 | D16: =IF($A16="","",B16-C16) -> 500 | E16: =IF($A16="","",IF(B16+0=0,"",C16/B16)) -> 0.875
A17: ='Months'!$A24 -> Loan payments | B17: 18400 | C17: =IF($A17="","",INDEX('Months'!$B24:$M24,1,$B$4)) -> 18400 | D17: =IF($A17="","",B17-C17) -> 0 | E17: =IF($A17="","",IF(B17+0=0,"",C17/B17)) -> 1
A18: ='Months'!$A25 -> Other | B18: 5000 | C18: =IF($A18="","",INDEX('Months'!$B25:$M25,1,$B$4)) -> 0 | D18: =IF($A18="","",B18-C18) -> 5000 | E18: =IF($A18="","",IF(B18+0=0,"",C18/B18)) -> 0
A19: ='Months'!$A26 | C19: =IF($A19="","",INDEX('Months'!$B26:$M26,1,$B$4)) | D19: =IF($A19="","",B19-C19) | E19: =IF($A19="","",IF(B19+0=0,"",C19/B19))
A20: ='Months'!$A27 | C20: =IF($A20="","",INDEX('Months'!$B27:$M27,1,$B$4)) | D20: =IF($A20="","",B20-C20) | E20: =IF($A20="","",IF(B20+0=0,"",C20/B20))
A21: ='Months'!$A28 | C21: =IF($A21="","",INDEX('Months'!$B28:$M28,1,$B$4)) | D21: =IF($A21="","",B21-C21) | E21: =IF($A21="","",IF(B21+0=0,"",C21/B21))
A22: Total | B22: =SUM(B7:B21) -> 129900 | C22: =SUM(C7:C21) -> 106990 | D22: =SUM(D7:D21) -> 22910 | E22: =IF(B22=0,0,C22/B22) -> 0.82363356

Sheet Accounts
A1: Account balances
A2: The opening balance from Settings plus everything that passed through the account.
A3: Account | B3: At year start | C3: Income | D3: Expenses | E3: Transfers (net) | F3: Balance now
A4: =IF('Settings'!C7="","",'Settings'!C7) -> Card | B4: =IF($A4="","",'Settings'!D7+0) -> 85000 | C4: =IF($A4="","",SUMIFS('Transactions'!$F$4:$F$403,'Transactions'!$B$4:$B$403,"Income",'Transactions'!$D$4:$D$403,$A4,'Transactions'!$H$4:$H$403,">0")) -> 465000 | D4: =IF($A4="","",SUMIFS('Transactions'!$F$4:$F$403,'Transactions'!$B$4:$B$403,"Expense",'Transactions'!$D$4:$D$403,$A4,'Transactions'!$H$4:$H$403,">0")) -> 287520 | E4: =IF($A4="","",SUMIFS('Transactions'!$F$4:$F$403,'Transactions'!$B$4:$B$403,"Transfer",'Transactions'!$E$4:$E$403,$A4,'Transactions'!$H$4:$H$403,">0")-SUMIFS('Transactions'!$F$4:$F$403,'Transactions'!$B$4:$B$403,"Transfer",'Transactions'!$D$4:$D$403,$A4,'Transactions'!$H$4:$H$403,">0")) -> -75000 | F4: =IF($A4="","",B4+C4-D4+E4) -> 187480
A5: =IF('Settings'!C8="","",'Settings'!C8) -> Cash | B5: =IF($A5="","",'Settings'!D8+0) -> 12000 | C5: =IF($A5="","",SUMIFS('Transactions'!$F$4:$F$403,'Transactions'!$B$4:$B$403,"Income",'Transactions'!$D$4:$D$403,$A5,'Transactions'!$H$4:$H$403,">0")) -> 37000 | D5: =IF($A5="","",SUMIFS('Transactions'!$F$4:$F$403,'Transactions'!$B$4:$B$403,"Expense",'Transactions'!$D$4:$D$403,$A5,'Transactions'!$H$4:$H$403,">0")) -> 16920 | E5: =IF($A5="","",SUMIFS('Transactions'!$F$4:$F$403,'Transactions'!$B$4:$B$403,"Transfer",'Transactions'!$E$4:$E$403,$A5,'Transactions'!$H$4:$H$403,">0")-SUMIFS('Transactions'!$F$4:$F$403,'Transactions'!$B$4:$B$403,"Transfer",'Transactions'!$D$4:$D$403,$A5,'Transactions'!$H$4:$H$403,">0")) -> 0 | F5: =IF($A5="","",B5+C5-D5+E5) -> 32080
A6: =IF('Settings'!C9="","",'Settings'!C9) -> Savings account | B6: =IF($A6="","",'Settings'!D9+0) -> 240000 | C6: =IF($A6="","",SUMIFS('Transactions'!$F$4:$F$403,'Transactions'!$B$4:$B$403,"Income",'Transactions'!$D$4:$D$403,$A6,'Transactions'!$H$4:$H$403,">0")) -> 6840 | D6: =IF($A6="","",SUMIFS('Transactions'!$F$4:$F$403,'Transactions'!$B$4:$B$403,"Expense",'Transactions'!$D$4:$D$403,$A6,'Transactions'!$H$4:$H$403,">0")) -> 0 | E6: =IF($A6="","",SUMIFS('Transactions'!$F$4:$F$403,'Transactions'!$B$4:$B$403,"Transfer",'Transactions'!$E$4:$E$403,$A6,'Transactions'!$H$4:$H$403,">0")-SUMIFS('Transactions'!$F$4:$F$403,'Transactions'!$B$4:$B$403,"Transfer",'Transactions'!$D$4:$D$403,$A6,'Transactions'!$H$4:$H$403,">0")) -> 75000 | F6: =IF($A6="","",B6+C6-D6+E6) -> 321840
A7: =IF('Settings'!C10="","",'Settings'!C10) | B7: =IF($A7="","",'Settings'!D10+0) | C7: =IF($A7="","",SUMIFS('Transactions'!$F$4:$F$403,'Transactions'!$B$4:$B$403,"Income",'Transactions'!$D$4:$D$403,$A7,'Transactions'!$H$4:$H$403,">0")) | D7: =IF($A7="","",SUMIFS('Transactions'!$F$4:$F$403,'Transactions'!$B$4:$B$403,"Expense",'Transactions'!$D$4:$D$403,$A7,'Transactions'!$H$4:$H$403,">0")) | E7: =IF($A7="","",SUMIFS('Transactions'!$F$4:$F$403,'Transactions'!$B$4:$B$403,"Transfer",'Transactions'!$E$4:$E$403,$A7,'Transactions'!$H$4:$H$403,">0")-SUMIFS('Transactions'!$F$4:$F$403,'Transactions'!$B$4:$B$403,"Transfer",'Transactions'!$D$4:$D$403,$A7,'Transactions'!$H$4:$H$403,">0")) | F7: =IF($A7="","",B7+C7-D7+E7)
A8: =IF('Settings'!C11="","",'Settings'!C11) | B8: =IF($A8="","",'Settings'!D11+0) | C8: =IF($A8="","",SUMIFS('Transactions'!$F$4:$F$403,'Transactions'!$B$4:$B$403,"Income",'Transactions'!$D$4:$D$403,$A8,'Transactions'!$H$4:$H$403,">0")) | D8: =IF($A8="","",SUMIFS('Transactions'!$F$4:$F$403,'Transactions'!$B$4:$B$403,"Expense",'Transactions'!$D$4:$D$403,$A8,'Transactions'!$H$4:$H$403,">0")) | E8: =IF($A8="","",SUMIFS('Transactions'!$F$4:$F$403,'Transactions'!$B$4:$B$403,"Transfer",'Transactions'!$E$4:$E$403,$A8,'Transactions'!$H$4:$H$403,">0")-SUMIFS('Transactions'!$F$4:$F$403,'Transactions'!$B$4:$B$403,"Transfer",'Transactions'!$D$4:$D$403,$A8,'Transactions'!$H$4:$H$403,">0")) | F8: =IF($A8="","",B8+C8-D8+E8)
A9: =IF('Settings'!C12="","",'Settings'!C12) | B9: =IF($A9="","",'Settings'!D12+0) | C9: =IF($A9="","",SUMIFS('Transactions'!$F$4:$F$403,'Transactions'!$B$4:$B$403,"Income",'Transactions'!$D$4:$D$403,$A9,'Transactions'!$H$4:$H$403,">0")) | D9: =IF($A9="","",SUMIFS('Transactions'!$F$4:$F$403,'Transactions'!$B$4:$B$403,"Expense",'Transactions'!$D$4:$D$403,$A9,'Transactions'!$H$4:$H$403,">0")) | E9: =IF($A9="","",SUMIFS('Transactions'!$F$4:$F$403,'Transactions'!$B$4:$B$403,"Transfer",'Transactions'!$E$4:$E$403,$A9,'Transactions'!$H$4:$H$403,">0")-SUMIFS('Transactions'!$F$4:$F$403,'Transactions'!$B$4:$B$403,"Transfer",'Transactions'!$D$4:$D$403,$A9,'Transactions'!$H$4:$H$403,">0")) | F9: =IF($A9="","",B9+C9-D9+E9)
A10: Total | B10: =SUM(B4:B9) -> 337000 | C10: =SUM(C4:C9) -> 508840 | D10: =SUM(D4:D9) -> 304440 | E10: =SUM(E4:E9) -> 0 | F10: =SUM(F4:F9) -> 541400

Sheet Goals
A1: Savings goals
A2: How much is left, and how much to set aside each month to get there in time.
A3: Goal | B3: Target | C3: Saved | D3: Due | E3: Left to save | F3: Done | G3: Months left | H3: Set aside monthly
A4: Holiday | B4: 180000 | C4: 65000 | D4: 46539 | E4: =IF($A4="","",MAX(0,B4-C4)) -> 115000 | F4: =IF($A4="","",IF(B4+0=0,0,MIN(1,C4/B4))) -> 0.36111111 | G4: =IF($A4="","",IF(D4="","",MAX(0,(YEAR(D4)-YEAR(TODAY()))*12+MONTH(D4)-MONTH(TODAY())))) -> 8 | H4: =IF($A4="","",IF(G4="","",IF(G4=0,E4,ROUND(E4/G4,2)))) -> 14375
A5: Emergency fund | B5: 450000 | C5: 240000 | D5: 46722 | E5: =IF($A5="","",MAX(0,B5-C5)) -> 210000 | F5: =IF($A5="","",IF(B5+0=0,0,MIN(1,C5/B5))) -> 0.53333333 | G5: =IF($A5="","",IF(D5="","",MAX(0,(YEAR(D5)-YEAR(TODAY()))*12+MONTH(D5)-MONTH(TODAY())))) -> 14 | H5: =IF($A5="","",IF(G5="","",IF(G5=0,E5,ROUND(E5/G5,2)))) -> 15000
A6: Down payment | B6: 1500000 | C6: 320000 | D6: 47362 | E6: =IF($A6="","",MAX(0,B6-C6)) -> 1180000 | F6: =IF($A6="","",IF(B6+0=0,0,MIN(1,C6/B6))) -> 0.21333333 | G6: =IF($A6="","",IF(D6="","",MAX(0,(YEAR(D6)-YEAR(TODAY()))*12+MONTH(D6)-MONTH(TODAY())))) -> 35 | H6: =IF($A6="","",IF(G6="","",IF(G6=0,E6,ROUND(E6/G6,2)))) -> 33714.29
E7: =IF($A7="","",MAX(0,B7-C7)) | F7: =IF($A7="","",IF(B7+0=0,0,MIN(1,C7/B7))) | G7: =IF($A7="","",IF(D7="","",MAX(0,(YEAR(D7)-YEAR(TODAY()))*12+MONTH(D7)-MONTH(TODAY())))) | H7: =IF($A7="","",IF(G7="","",IF(G7=0,E7,ROUND(E7/G7,2))))
E8: =IF($A8="","",MAX(0,B8-C8)) | F8: =IF($A8="","",IF(B8+0=0,0,MIN(1,C8/B8))) | G8: =IF($A8="","",IF(D8="","",MAX(0,(YEAR(D8)-YEAR(TODAY()))*12+MONTH(D8)-MONTH(TODAY())))) | H8: =IF($A8="","",IF(G8="","",IF(G8=0,E8,ROUND(E8/G8,2))))
E9: =IF($A9="","",MAX(0,B9-C9)) | F9: =IF($A9="","",IF(B9+0=0,0,MIN(1,C9/B9))) | G9: =IF($A9="","",IF(D9="","",MAX(0,(YEAR(D9)-YEAR(TODAY()))*12+MONTH(D9)-MONTH(TODAY())))) | H9: =IF($A9="","",IF(G9="","",IF(G9=0,E9,ROUND(E9/G9,2))))
A10: Total | B10: =SUM(B4:B9) -> 2130000 | C10: =SUM(C4:C9) -> 625000 | E10: =SUM(E4:E9) -> 1505000 | F10: =IF(B10=0,0,MIN(1,C10/B10)) -> 0.29342723 | H10: =SUM(H4:H9) -> 63089.29
