Workbook

Sheet Schedule
A1: Loan repayment schedule
A2: Yellow cells are yours, formulas compute the rest. A prepayment goes on the row of its month.
A4: Loan amount | C4: 4500000 | E4: First payment | H4: =IF(D14="",0,D14) -> 67666.89
A5: Annual rate | C5: 0.165 | E5: Interest paid | H5: =SUM($E$14:$E$373) -> 4759413.8
A6: Term, months (up to 360) | C6: 180 | E6: Total paid | H6: =$C$4+H5 -> 9259413.8
A7: Start date | C7: 46300 | E7: Interest with no prepayments | H7: =SUM('No prepayments'!$E$4:$E$363) -> 7680038.2
A8: Payment type | C8: Annuity | E8: Saved by prepaying | H8: =H7-H5 -> 2920624.4
A9: A prepayment will | C9: Shorten the term | E9: Last payment date | H9: =EDATE($C$7,H10) -> 50257
E10: Actual term, months | H10: =MAX($A$14:$A$373) -> 130
E11: Payments marked as paid | H11: =COUNTIF($I$14:$I$373,"Yes") -> 0
E12: Debt left after them | H12: =IF(H11=0,$C$4,INDEX($H$14:$H$373,H11)) -> 4500000
A13: № | B13: Payment date | C13: Opening balance | D13: Payment | E13: Interest | F13: Principal | G13: Prepayment | H13: Closing balance | I13: Paid | J13: Quoted instalment | K13: Year
A14: =IF(AND($C$4>0,$C$6>=1),1,"") -> 1 | B14: =IF(A14="","",EDATE($C$7,A14)) -> 46331 | C14: =IF(A14="","",$C$4) -> 4500000 | D14: =IF(A14="","",ROUND(E14+F14,2)) -> 67666.89 | E14: =IF(A14="","",ROUND(C14*$C$5/12,2)) -> 61875 | F14: =IF(A14="","",IF(OR(A14=$C$6,IF($C$8="Annuity",ROUND(J14-E14,2),J14)>C14),C14,IF($C$8="Annuity",ROUND(J14-E14,2),J14))) -> 5791.89 | H14: =IF(A14="","",ROUND(C14-F14-MIN(G14+0,C14-F14),2)) -> 4494208.1 | J14: =IF(A14="","",IF($C$8="Annuity",IF($C$5=0,ROUND($C$4/($C$6),2),ROUND($C$4*$C$5/12/(1-(1+$C$5/12)^(-($C$6))),2)),ROUND($C$4/($C$6),2))) -> 67666.89 | K14: =IF(A14="","",YEAR(B14)) -> 2026
A15: =IF(A14="","",IF(H14<=0,"",IF(A14>=$C$6,"",A14+1))) -> 2 | B15: =IF(A15="","",EDATE($C$7,A15)) -> 46361 | C15: =IF(A15="","",H14) -> 4494208.1 | D15: =IF(A15="","",ROUND(E15+F15,2)) -> 67666.89 | E15: =IF(A15="","",ROUND(C15*$C$5/12,2)) -> 61795.36 | F15: =IF(A15="","",IF(OR(A15=$C$6,IF($C$8="Annuity",ROUND(J15-E15,2),J15)>C15),C15,IF($C$8="Annuity",ROUND(J15-E15,2),J15))) -> 5871.53 | H15: =IF(A15="","",ROUND(C15-F15-MIN(G15+0,C15-F15),2)) -> 4488336.6 | J15: =IF(A15="","",IF(AND($C$9="Reduce the payment",G14+0>0),IF($C$8="Annuity",IF($C$5=0,ROUND(C15/($C$6-A15+1),2),ROUND(C15*$C$5/12/(1-(1+$C$5/12)^(-($C$6-A15+1))),2)),ROUND(C15/($C$6-A15+1),2)),J14)) -> 67666.89 | K15: =IF(A15="","",YEAR(B15)) -> 2026
A16: =IF(A15="","",IF(H15<=0,"",IF(A15>=$C$6,"",A15+1))) -> 3 | B16: =IF(A16="","",EDATE($C$7,A16)) -> 46392 | C16: =IF(A16="","",H15) -> 4488336.6 | D16: =IF(A16="","",ROUND(E16+F16,2)) -> 67666.89 | E16: =IF(A16="","",ROUND(C16*$C$5/12,2)) -> 61714.63 | F16: =IF(A16="","",IF(OR(A16=$C$6,IF($C$8="Annuity",ROUND(J16-E16,2),J16)>C16),C16,IF($C$8="Annuity",ROUND(J16-E16,2),J16))) -> 5952.26 | H16: =IF(A16="","",ROUND(C16-F16-MIN(G16+0,C16-F16),2)) -> 4482384.3 | J16: =IF(A16="","",IF(AND($C$9="Reduce the payment",G15+0>0),IF($C$8="Annuity",IF($C$5=0,ROUND(C16/($C$6-A16+1),2),ROUND(C16*$C$5/12/(1-(1+$C$5/12)^(-($C$6-A16+1))),2)),ROUND(C16/($C$6-A16+1),2)),J15)) -> 67666.89 | K16: =IF(A16="","",YEAR(B16)) -> 2027
A17: =IF(A16="","",IF(H16<=0,"",IF(A16>=$C$6,"",A16+1))) -> 4 | B17: =IF(A17="","",EDATE($C$7,A17)) -> 46423 | C17: =IF(A17="","",H16) -> 4482384.3 | D17: =IF(A17="","",ROUND(E17+F17,2)) -> 67666.89 | E17: =IF(A17="","",ROUND(C17*$C$5/12,2)) -> 61632.78 | F17: =IF(A17="","",IF(OR(A17=$C$6,IF($C$8="Annuity",ROUND(J17-E17,2),J17)>C17),C17,IF($C$8="Annuity",ROUND(J17-E17,2),J17))) -> 6034.11 | H17: =IF(A17="","",ROUND(C17-F17-MIN(G17+0,C17-F17),2)) -> 4476350.2 | J17: =IF(A17="","",IF(AND($C$9="Reduce the payment",G16+0>0),IF($C$8="Annuity",IF($C$5=0,ROUND(C17/($C$6-A17+1),2),ROUND(C17*$C$5/12/(1-(1+$C$5/12)^(-($C$6-A17+1))),2)),ROUND(C17/($C$6-A17+1),2)),J16)) -> 67666.89 | K17: =IF(A17="","",YEAR(B17)) -> 2027
A18: =IF(A17="","",IF(H17<=0,"",IF(A17>=$C$6,"",A17+1))) -> 5 | B18: =IF(A18="","",EDATE($C$7,A18)) -> 46451 | C18: =IF(A18="","",H17) -> 4476350.2 | D18: =IF(A18="","",ROUND(E18+F18,2)) -> 67666.89 | E18: =IF(A18="","",ROUND(C18*$C$5/12,2)) -> 61549.82 | F18: =IF(A18="","",IF(OR(A18=$C$6,IF($C$8="Annuity",ROUND(J18-E18,2),J18)>C18),C18,IF($C$8="Annuity",ROUND(J18-E18,2),J18))) -> 6117.07 | H18: =IF(A18="","",ROUND(C18-F18-MIN(G18+0,C18-F18),2)) -> 4470233.1 | J18: =IF(A18="","",IF(AND($C$9="Reduce the payment",G17+0>0),IF($C$8="Annuity",IF($C$5=0,ROUND(C18/($C$6-A18+1),2),ROUND(C18*$C$5/12/(1-(1+$C$5/12)^(-($C$6-A18+1))),2)),ROUND(C18/($C$6-A18+1),2)),J17)) -> 67666.89 | K18: =IF(A18="","",YEAR(B18)) -> 2027
A19: =IF(A18="","",IF(H18<=0,"",IF(A18>=$C$6,"",A18+1))) -> 6 | B19: =IF(A19="","",EDATE($C$7,A19)) -> 46482 | C19: =IF(A19="","",H18) -> 4470233.1 | D19: =IF(A19="","",ROUND(E19+F19,2)) -> 67666.89 | E19: =IF(A19="","",ROUND(C19*$C$5/12,2)) -> 61465.71 | F19: =IF(A19="","",IF(OR(A19=$C$6,IF($C$8="Annuity",ROUND(J19-E19,2),J19)>C19),C19,IF($C$8="Annuity",ROUND(J19-E19,2),J19))) -> 6201.18 | G19: 200000 | H19: =IF(A19="","",ROUND(C19-F19-MIN(G19+0,C19-F19),2)) -> 4264032 | J19: =IF(A19="","",IF(AND($C$9="Reduce the payment",G18+0>0),IF($C$8="Annuity",IF($C$5=0,ROUND(C19/($C$6-A19+1),2),ROUND(C19*$C$5/12/(1-(1+$C$5/12)^(-($C$6-A19+1))),2)),ROUND(C19/($C$6-A19+1),2)),J18)) -> 67666.89 | K19: =IF(A19="","",YEAR(B19)) -> 2027
A20: =IF(A19="","",IF(H19<=0,"",IF(A19>=$C$6,"",A19+1))) -> 7 | B20: =IF(A20="","",EDATE($C$7,A20)) -> 46512 | C20: =IF(A20="","",H19) -> 4264032 | D20: =IF(A20="","",ROUND(E20+F20,2)) -> 67666.89 | E20: =IF(A20="","",ROUND(C20*$C$5/12,2)) -> 58630.44 | F20: =IF(A20="","",IF(OR(A20=$C$6,IF($C$8="Annuity",ROUND(J20-E20,2),J20)>C20),C20,IF($C$8="Annuity",ROUND(J20-E20,2),J20))) -> 9036.45 | H20: =IF(A20="","",ROUND(C20-F20-MIN(G20+0,C20-F20),2)) -> 4254995.5 | J20: =IF(A20="","",IF(AND($C$9="Reduce the payment",G19+0>0),IF($C$8="Annuity",IF($C$5=0,ROUND(C20/($C$6-A20+1),2),ROUND(C20*$C$5/12/(1-(1+$C$5/12)^(-($C$6-A20+1))),2)),ROUND(C20/($C$6-A20+1),2)),J19)) -> 67666.89 | K20: =IF(A20="","",YEAR(B20)) -> 2027
A21: =IF(A20="","",IF(H20<=0,"",IF(A20>=$C$6,"",A20+1))) -> 8 | B21: =IF(A21="","",EDATE($C$7,A21)) -> 46543 | C21: =IF(A21="","",H20) -> 4254995.5 | D21: =IF(A21="","",ROUND(E21+F21,2)) -> 67666.89 | E21: =IF(A21="","",ROUND(C21*$C$5/12,2)) -> 58506.19 | F21: =IF(A21="","",IF(OR(A21=$C$6,IF($C$8="Annuity",ROUND(J21-E21,2),J21)>C21),C21,IF($C$8="Annuity",ROUND(J21-E21,2),J21))) -> 9160.7 | H21: =IF(A21="","",ROUND(C21-F21-MIN(G21+0,C21-F21),2)) -> 4245834.8 | J21: =IF(A21="","",IF(AND($C$9="Reduce the payment",G20+0>0),IF($C$8="Annuity",IF($C$5=0,ROUND(C21/($C$6-A21+1),2),ROUND(C21*$C$5/12/(1-(1+$C$5/12)^(-($C$6-A21+1))),2)),ROUND(C21/($C$6-A21+1),2)),J20)) -> 67666.89 | K21: =IF(A21="","",YEAR(B21)) -> 2027
A22: =IF(A21="","",IF(H21<=0,"",IF(A21>=$C$6,"",A21+1))) -> 9 | B22: =IF(A22="","",EDATE($C$7,A22)) -> 46573 | C22: =IF(A22="","",H21) -> 4245834.8 | D22: =IF(A22="","",ROUND(E22+F22,2)) -> 67666.89 | E22: =IF(A22="","",ROUND(C22*$C$5/12,2)) -> 58380.23 | F22: =IF(A22="","",IF(OR(A22=$C$6,IF($C$8="Annuity",ROUND(J22-E22,2),J22)>C22),C22,IF($C$8="Annuity",ROUND(J22-E22,2),J22))) -> 9286.66 | H22: =IF(A22="","",ROUND(C22-F22-MIN(G22+0,C22-F22),2)) -> 4236548.2 | J22: =IF(A22="","",IF(AND($C$9="Reduce the payment",G21+0>0),IF($C$8="Annuity",IF($C$5=0,ROUND(C22/($C$6-A22+1),2),ROUND(C22*$C$5/12/(1-(1+$C$5/12)^(-($C$6-A22+1))),2)),ROUND(C22/($C$6-A22+1),2)),J21)) -> 67666.89 | K22: =IF(A22="","",YEAR(B22)) -> 2027
A23: =IF(A22="","",IF(H22<=0,"",IF(A22>=$C$6,"",A22+1))) -> 10 | B23: =IF(A23="","",EDATE($C$7,A23)) -> 46604 | C23: =IF(A23="","",H22) -> 4236548.2 | D23: =IF(A23="","",ROUND(E23+F23,2)) -> 67666.89 | E23: =IF(A23="","",ROUND(C23*$C$5/12,2)) -> 58252.54 | F23: =IF(A23="","",IF(OR(A23=$C$6,IF($C$8="Annuity",ROUND(J23-E23,2),J23)>C23),C23,IF($C$8="Annuity",ROUND(J23-E23,2),J23))) -> 9414.35 | H23: =IF(A23="","",ROUND(C23-F23-MIN(G23+0,C23-F23),2)) -> 4227133.8 | J23: =IF(A23="","",IF(AND($C$9="Reduce the payment",G22+0>0),IF($C$8="Annuity",IF($C$5=0,ROUND(C23/($C$6-A23+1),2),ROUND(C23*$C$5/12/(1-(1+$C$5/12)^(-($C$6-A23+1))),2)),ROUND(C23/($C$6-A23+1),2)),J22)) -> 67666.89 | K23: =IF(A23="","",YEAR(B23)) -> 2027
A24: =IF(A23="","",IF(H23<=0,"",IF(A23>=$C$6,"",A23+1))) -> 11 | B24: =IF(A24="","",EDATE($C$7,A24)) -> 46635 | C24: =IF(A24="","",H23) -> 4227133.8 | D24: =IF(A24="","",ROUND(E24+F24,2)) -> 67666.89 | E24: =IF(A24="","",ROUND(C24*$C$5/12,2)) -> 58123.09 | F24: =IF(A24="","",IF(OR(A24=$C$6,IF($C$8="Annuity",ROUND(J24-E24,2),J24)>C24),C24,IF($C$8="Annuity",ROUND(J24-E24,2),J24))) -> 9543.8 | H24: =IF(A24="","",ROUND(C24-F24-MIN(G24+0,C24-F24),2)) -> 4217590 | J24: =IF(A24="","",IF(AND($C$9="Reduce the payment",G23+0>0),IF($C$8="Annuity",IF($C$5=0,ROUND(C24/($C$6-A24+1),2),ROUND(C24*$C$5/12/(1-(1+$C$5/12)^(-($C$6-A24+1))),2)),ROUND(C24/($C$6-A24+1),2)),J23)) -> 67666.89 | K24: =IF(A24="","",YEAR(B24)) -> 2027
A25: =IF(A24="","",IF(H24<=0,"",IF(A24>=$C$6,"",A24+1))) -> 12 | B25: =IF(A25="","",EDATE($C$7,A25)) -> 46665 | C25: =IF(A25="","",H24) -> 4217590 | D25: =IF(A25="","",ROUND(E25+F25,2)) -> 67666.89 | E25: =IF(A25="","",ROUND(C25*$C$5/12,2)) -> 57991.86 | F25: =IF(A25="","",IF(OR(A25=$C$6,IF($C$8="Annuity",ROUND(J25-E25,2),J25)>C25),C25,IF($C$8="Annuity",ROUND(J25-E25,2),J25))) -> 9675.03 | H25: =IF(A25="","",ROUND(C25-F25-MIN(G25+0,C25-F25),2)) -> 4207915 | J25: =IF(A25="","",IF(AND($C$9="Reduce the payment",G24+0>0),IF($C$8="Annuity",IF($C$5=0,ROUND(C25/($C$6-A25+1),2),ROUND(C25*$C$5/12/(1-(1+$C$5/12)^(-($C$6-A25+1))),2)),ROUND(C25/($C$6-A25+1),2)),J24)) -> 67666.89 | K25: =IF(A25="","",YEAR(B25)) -> 2027
A26: =IF(A25="","",IF(H25<=0,"",IF(A25>=$C$6,"",A25+1))) -> 13 | B26: =IF(A26="","",EDATE($C$7,A26)) -> 46696 | C26: =IF(A26="","",H25) -> 4207915 | D26: =IF(A26="","",ROUND(E26+F26,2)) -> 67666.89 | E26: =IF(A26="","",ROUND(C26*$C$5/12,2)) -> 57858.83 | F26: =IF(A26="","",IF(OR(A26=$C$6,IF($C$8="Annuity",ROUND(J26-E26,2),J26)>C26),C26,IF($C$8="Annuity",ROUND(J26-E26,2),J26))) -> 9808.06 | H26: =IF(A26="","",ROUND(C26-F26-MIN(G26+0,C26-F26),2)) -> 4198106.9 | J26: =IF(A26="","",IF(AND($C$9="Reduce the payment",G25+0>0),IF($C$8="Annuity",IF($C$5=0,ROUND(C26/($C$6-A26+1),2),ROUND(C26*$C$5/12/(1-(1+$C$5/12)^(-($C$6-A26+1))),2)),ROUND(C26/($C$6-A26+1),2)),J25)) -> 67666.89 | K26: =IF(A26="","",YEAR(B26)) -> 2027
A27: =IF(A26="","",IF(H26<=0,"",IF(A26>=$C$6,"",A26+1))) -> 14 | B27: =IF(A27="","",EDATE($C$7,A27)) -> 46726 | C27: =IF(A27="","",H26) -> 4198106.9 | D27: =IF(A27="","",ROUND(E27+F27,2)) -> 67666.89 | E27: =IF(A27="","",ROUND(C27*$C$5/12,2)) -> 57723.97 | F27: =IF(A27="","",IF(OR(A27=$C$6,IF($C$8="Annuity",ROUND(J27-E27,2),J27)>C27),C27,IF($C$8="Annuity",ROUND(J27-E27,2),J27))) -> 9942.92 | H27: =IF(A27="","",ROUND(C27-F27-MIN(G27+0,C27-F27),2)) -> 4188164 | J27: =IF(A27="","",IF(AND($C$9="Reduce the payment",G26+0>0),IF($C$8="Annuity",IF($C$5=0,ROUND(C27/($C$6-A27+1),2),ROUND(C27*$C$5/12/(1-(1+$C$5/12)^(-($C$6-A27+1))),2)),ROUND(C27/($C$6-A27+1),2)),J26)) -> 67666.89 | K27: =IF(A27="","",YEAR(B27)) -> 2027
A28: =IF(A27="","",IF(H27<=0,"",IF(A27>=$C$6,"",A27+1))) -> 15 | B28: =IF(A28="","",EDATE($C$7,A28)) -> 46757 | C28: =IF(A28="","",H27) -> 4188164 | D28: =IF(A28="","",ROUND(E28+F28,2)) -> 67666.89 | E28: =IF(A28="","",ROUND(C28*$C$5/12,2)) -> 57587.25 | F28: =IF(A28="","",IF(OR(A28=$C$6,IF($C$8="Annuity",ROUND(J28-E28,2),J28)>C28),C28,IF($C$8="Annuity",ROUND(J28-E28,2),J28))) -> 10079.64 | H28: =IF(A28="","",ROUND(C28-F28-MIN(G28+0,C28-F28),2)) -> 4178084.4 | J28: =IF(A28="","",IF(AND($C$9="Reduce the payment",G27+0>0),IF($C$8="Annuity",IF($C$5=0,ROUND(C28/($C$6-A28+1),2),ROUND(C28*$C$5/12/(1-(1+$C$5/12)^(-($C$6-A28+1))),2)),ROUND(C28/($C$6-A28+1),2)),J27)) -> 67666.89 | K28: =IF(A28="","",YEAR(B28)) -> 2028
A29: =IF(A28="","",IF(H28<=0,"",IF(A28>=$C$6,"",A28+1))) -> 16 | B29: =IF(A29="","",EDATE($C$7,A29)) -> 46788 | C29: =IF(A29="","",H28) -> 4178084.4 | D29: =IF(A29="","",ROUND(E29+F29,2)) -> 67666.89 | E29: =IF(A29="","",ROUND(C29*$C$5/12,2)) -> 57448.66 | F29: =IF(A29="","",IF(OR(A29=$C$6,IF($C$8="Annuity",ROUND(J29-E29,2),J29)>C29),C29,IF($C$8="Annuity",ROUND(J29-E29,2),J29))) -> 10218.23 | H29: =IF(A29="","",ROUND(C29-F29-MIN(G29+0,C29-F29),2)) -> 4167866.1 | J29: =IF(A29="","",IF(AND($C$9="Reduce the payment",G28+0>0),IF($C$8="Annuity",IF($C$5=0,ROUND(C29/($C$6-A29+1),2),ROUND(C29*$C$5/12/(1-(1+$C$5/12)^(-($C$6-A29+1))),2)),ROUND(C29/($C$6-A29+1),2)),J28)) -> 67666.89 | K29: =IF(A29="","",YEAR(B29)) -> 2028
A30: =IF(A29="","",IF(H29<=0,"",IF(A29>=$C$6,"",A29+1))) -> 17 | B30: =IF(A30="","",EDATE($C$7,A30)) -> 46817 | C30: =IF(A30="","",H29) -> 4167866.1 | D30: =IF(A30="","",ROUND(E30+F30,2)) -> 67666.89 | E30: =IF(A30="","",ROUND(C30*$C$5/12,2)) -> 57308.16 | F30: =IF(A30="","",IF(OR(A30=$C$6,IF($C$8="Annuity",ROUND(J30-E30,2),J30)>C30),C30,IF($C$8="Annuity",ROUND(J30-E30,2),J30))) -> 10358.73 | H30: =IF(A30="","",ROUND(C30-F30-MIN(G30+0,C30-F30),2)) -> 4157507.4 | J30: =IF(A30="","",IF(AND($C$9="Reduce the payment",G29+0>0),IF($C$8="Annuity",IF($C$5=0,ROUND(C30/($C$6-A30+1),2),ROUND(C30*$C$5/12/(1-(1+$C$5/12)^(-($C$6-A30+1))),2)),ROUND(C30/($C$6-A30+1),2)),J29)) -> 67666.89 | K30: =IF(A30="","",YEAR(B30)) -> 2028
A31: =IF(A30="","",IF(H30<=0,"",IF(A30>=$C$6,"",A30+1))) -> 18 | B31: =IF(A31="","",EDATE($C$7,A31)) -> 46848 | C31: =IF(A31="","",H30) -> 4157507.4 | D31: =IF(A31="","",ROUND(E31+F31,2)) -> 67666.89 | E31: =IF(A31="","",ROUND(C31*$C$5/12,2)) -> 57165.73 | F31: =IF(A31="","",IF(OR(A31=$C$6,IF($C$8="Annuity",ROUND(J31-E31,2),J31)>C31),C31,IF($C$8="Annuity",ROUND(J31-E31,2),J31))) -> 10501.16 | G31: 300000 | H31: =IF(A31="","",ROUND(C31-F31-MIN(G31+0,C31-F31),2)) -> 3847006.2 | J31: =IF(A31="","",IF(AND($C$9="Reduce the payment",G30+0>0),IF($C$8="Annuity",IF($C$5=0,ROUND(C31/($C$6-A31+1),2),ROUND(C31*$C$5/12/(1-(1+$C$5/12)^(-($C$6-A31+1))),2)),ROUND(C31/($C$6-A31+1),2)),J30)) -> 67666.89 | K31: =IF(A31="","",YEAR(B31)) -> 2028
A32: =IF(A31="","",IF(H31<=0,"",IF(A31>=$C$6,"",A31+1))) -> 19 | B32: =IF(A32="","",EDATE($C$7,A32)) -> 46878 | C32: =IF(A32="","",H31) -> 3847006.2 | D32: =IF(A32="","",ROUND(E32+F32,2)) -> 67666.89 | E32: =IF(A32="","",ROUND(C32*$C$5/12,2)) -> 52896.34 | F32: =IF(A32="","",IF(OR(A32=$C$6,IF($C$8="Annuity",ROUND(J32-E32,2),J32)>C32),C32,IF($C$8="Annuity",ROUND(J32-E32,2),J32))) -> 14770.55 | H32: =IF(A32="","",ROUND(C32-F32-MIN(G32+0,C32-F32),2)) -> 3832235.7 | J32: =IF(A32="","",IF(AND($C$9="Reduce the payment",G31+0>0),IF($C$8="Annuity",IF($C$5=0,ROUND(C32/($C$6-A32+1),2),ROUND(C32*$C$5/12/(1-(1+$C$5/12)^(-($C$6-A32+1))),2)),ROUND(C32/($C$6-A32+1),2)),J31)) -> 67666.89 | K32: =IF(A32="","",YEAR(B32)) -> 2028
A33: =IF(A32="","",IF(H32<=0,"",IF(A32>=$C$6,"",A32+1))) -> 20 | B33: =IF(A33="","",EDATE($C$7,A33)) -> 46909 | C33: =IF(A33="","",H32) -> 3832235.7 | D33: =IF(A33="","",ROUND(E33+F33,2)) -> 67666.89 | E33: =IF(A33="","",ROUND(C33*$C$5/12,2)) -> 52693.24 | F33: =IF(A33="","",IF(OR(A33=$C$6,IF($C$8="Annuity",ROUND(J33-E33,2),J33)>C33),C33,IF($C$8="Annuity",ROUND(J33-E33,2),J33))) -> 14973.65 | H33: =IF(A33="","",ROUND(C33-F33-MIN(G33+0,C33-F33),2)) -> 3817262 | J33: =IF(A33="","",IF(AND($C$9="Reduce the payment",G32+0>0),IF($C$8="Annuity",IF($C$5=0,ROUND(C33/($C$6-A33+1),2),ROUND(C33*$C$5/12/(1-(1+$C$5/12)^(-($C$6-A33+1))),2)),ROUND(C33/($C$6-A33+1),2)),J32)) -> 67666.89 | K33: =IF(A33="","",YEAR(B33)) -> 2028
A34: =IF(A33="","",IF(H33<=0,"",IF(A33>=$C$6,"",A33+1))) -> 21 | B34: =IF(A34="","",EDATE($C$7,A34)) -> 46939 | C34: =IF(A34="","",H33) -> 3817262 | D34: =IF(A34="","",ROUND(E34+F34,2)) -> 67666.89 | E34: =IF(A34="","",ROUND(C34*$C$5/12,2)) -> 52487.35 | F34: =IF(A34="","",IF(OR(A34=$C$6,IF($C$8="Annuity",ROUND(J34-E34,2),J34)>C34),C34,IF($C$8="Annuity",ROUND(J34-E34,2),J34))) -> 15179.54 | H34: =IF(A34="","",ROUND(C34-F34-MIN(G34+0,C34-F34),2)) -> 3802082.5 | J34: =IF(A34="","",IF(AND($C$9="Reduce the payment",G33+0>0),IF($C$8="Annuity",IF($C$5=0,ROUND(C34/($C$6-A34+1),2),ROUND(C34*$C$5/12/(1-(1+$C$5/12)^(-($C$6-A34+1))),2)),ROUND(C34/($C$6-A34+1),2)),J33)) -> 67666.89 | K34: =IF(A34="","",YEAR(B34)) -> 2028
A35: =IF(A34="","",IF(H34<=0,"",IF(A34>=$C$6,"",A34+1))) -> 22 | B35: =IF(A35="","",EDATE($C$7,A35)) -> 46970 | C35: =IF(A35="","",H34) -> 3802082.5 | D35: =IF(A35="","",ROUND(E35+F35,2)) -> 67666.89 | E35: =IF(A35="","",ROUND(C35*$C$5/12,2)) -> 52278.63 | F35: =IF(A35="","",IF(OR(A35=$C$6,IF($C$8="Annuity",ROUND(J35-E35,2),J35)>C35),C35,IF($C$8="Annuity",ROUND(J35-E35,2),J35))) -> 15388.26 | H35: =IF(A35="","",ROUND(C35-F35-MIN(G35+0,C35-F35),2)) -> 3786694.2 | J35: =IF(A35="","",IF(AND($C$9="Reduce the payment",G34+0>0),IF($C$8="Annuity",IF($C$5=0,ROUND(C35/($C$6-A35+1),2),ROUND(C35*$C$5/12/(1-(1+$C$5/12)^(-($C$6-A35+1))),2)),ROUND(C35/($C$6-A35+1),2)),J34)) -> 67666.89 | K35: =IF(A35="","",YEAR(B35)) -> 2028
A36: =IF(A35="","",IF(H35<=0,"",IF(A35>=$C$6,"",A35+1))) -> 23 | B36: =IF(A36="","",EDATE($C$7,A36)) -> 47001 | C36: =IF(A36="","",H35) -> 3786694.2 | D36: =IF(A36="","",ROUND(E36+F36,2)) -> 67666.89 | E36: =IF(A36="","",ROUND(C36*$C$5/12,2)) -> 52067.05 | F36: =IF(A36="","",IF(OR(A36=$C$6,IF($C$8="Annuity",ROUND(J36-E36,2),J36)>C36),C36,IF($C$8="Annuity",ROUND(J36-E36,2),J36))) -> 15599.84 | H36: =IF(A36="","",ROUND(C36-F36-MIN(G36+0,C36-F36),2)) -> 3771094.4 | J36: =IF(A36="","",IF(AND($C$9="Reduce the payment",G35+0>0),IF($C$8="Annuity",IF($C$5=0,ROUND(C36/($C$6-A36+1),2),ROUND(C36*$C$5/12/(1-(1+$C$5/12)^(-($C$6-A36+1))),2)),ROUND(C36/($C$6-A36+1),2)),J35)) -> 67666.89 | K36: =IF(A36="","",YEAR(B36)) -> 2028
A37: =IF(A36="","",IF(H36<=0,"",IF(A36>=$C$6,"",A36+1))) -> 24 | B37: =IF(A37="","",EDATE($C$7,A37)) -> 47031 | C37: =IF(A37="","",H36) -> 3771094.4 | D37: =IF(A37="","",ROUND(E37+F37,2)) -> 67666.89 | E37: =IF(A37="","",ROUND(C37*$C$5/12,2)) -> 51852.55 | F37: =IF(A37="","",IF(OR(A37=$C$6,IF($C$8="Annuity",ROUND(J37-E37,2),J37)>C37),C37,IF($C$8="Annuity",ROUND(J37-E37,2),J37))) -> 15814.34 | H37: =IF(A37="","",ROUND(C37-F37-MIN(G37+0,C37-F37),2)) -> 3755280 | J37: =IF(A37="","",IF(AND($C$9="Reduce the payment",G36+0>0),IF($C$8="Annuity",IF($C$5=0,ROUND(C37/($C$6-A37+1),2),ROUND(C37*$C$5/12/(1-(1+$C$5/12)^(-($C$6-A37+1))),2)),ROUND(C37/($C$6-A37+1),2)),J36)) -> 67666.89 | K37: =IF(A37="","",YEAR(B37)) -> 2028
A38: =IF(A37="","",IF(H37<=0,"",IF(A37>=$C$6,"",A37+1))) -> 25 | B38: =IF(A38="","",EDATE($C$7,A38)) -> 47062 | C38: =IF(A38="","",H37) -> 3755280 | D38: =IF(A38="","",ROUND(E38+F38,2)) -> 67666.89 | E38: =IF(A38="","",ROUND(C38*$C$5/12,2)) -> 51635.1 | F38: =IF(A38="","",IF(OR(A38=$C$6,IF($C$8="Annuity",ROUND(J38-E38,2),J38)>C38),C38,IF($C$8="Annuity",ROUND(J38-E38,2),J38))) -> 16031.79 | H38: =IF(A38="","",ROUND(C38-F38-MIN(G38+0,C38-F38),2)) -> 3739248.3 | J38: =IF(A38="","",IF(AND($C$9="Reduce the payment",G37+0>0),IF($C$8="Annuity",IF($C$5=0,ROUND(C38/($C$6-A38+1),2),ROUND(C38*$C$5/12/(1-(1+$C$5/12)^(-($C$6-A38+1))),2)),ROUND(C38/($C$6-A38+1),2)),J37)) -> 67666.89 | K38: =IF(A38="","",YEAR(B38)) -> 2028
A39: =IF(A38="","",IF(H38<=0,"",IF(A38>=$C$6,"",A38+1))) -> 26 | B39: =IF(A39="","",EDATE($C$7,A39)) -> 47092 | C39: =IF(A39="","",H38) -> 3739248.3 | D39: =IF(A39="","",ROUND(E39+F39,2)) -> 67666.89 | E39: =IF(A39="","",ROUND(C39*$C$5/12,2)) -> 51414.66 | F39: =IF(A39="","",IF(OR(A39=$C$6,IF($C$8="Annuity",ROUND(J39-E39,2),J39)>C39),C39,IF($C$8="Annuity",ROUND(J39-E39,2),J39))) -> 16252.23 | H39: =IF(A39="","",ROUND(C39-F39-MIN(G39+0,C39-F39),2)) -> 3722996 | J39: =IF(A39="","",IF(AND($C$9="Reduce the payment",G38+0>0),IF($C$8="Annuity",IF($C$5=0,ROUND(C39/($C$6-A39+1),2),ROUND(C39*$C$5/12/(1-(1+$C$5/12)^(-($C$6-A39+1))),2)),ROUND(C39/($C$6-A39+1),2)),J38)) -> 67666.89 | K39: =IF(A39="","",YEAR(B39)) -> 2028
A40: =IF(A39="","",IF(H39<=0,"",IF(A39>=$C$6,"",A39+1))) -> 27 | B40: =IF(A40="","",EDATE($C$7,A40)) -> 47123 | C40: =IF(A40="","",H39) -> 3722996 | D40: =IF(A40="","",ROUND(E40+F40,2)) -> 67666.89 | E40: =IF(A40="","",ROUND(C40*$C$5/12,2)) -> 51191.2 | F40: =IF(A40="","",IF(OR(A40=$C$6,IF($C$8="Annuity",ROUND(J40-E40,2),J40)>C40),C40,IF($C$8="Annuity",ROUND(J40-E40,2),J40))) -> 16475.69 | H40: =IF(A40="","",ROUND(C40-F40-MIN(G40+0,C40-F40),2)) -> 3706520.3 | J40: =IF(A40="","",IF(AND($C$9="Reduce the payment",G39+0>0),IF($C$8="Annuity",IF($C$5=0,ROUND(C40/($C$6-A40+1),2),ROUND(C40*$C$5/12/(1-(1+$C$5/12)^(-($C$6-A40+1))),2)),ROUND(C40/($C$6-A40+1),2)),J39)) -> 67666.89 | K40: =IF(A40="","",YEAR(B40)) -> 2029
A41: =IF(A40="","",IF(H40<=0,"",IF(A40>=$C$6,"",A40+1))) -> 28 | B41: =IF(A41="","",EDATE($C$7,A41)) -> 47154 | C41: =IF(A41="","",H40) -> 3706520.3 | D41: =IF(A41="","",ROUND(E41+F41,2)) -> 67666.89 | E41: =IF(A41="","",ROUND(C41*$C$5/12,2)) -> 50964.65 | F41: =IF(A41="","",IF(OR(A41=$C$6,IF($C$8="Annuity",ROUND(J41-E41,2),J41)>C41),C41,IF($C$8="Annuity",ROUND(J41-E41,2),J41))) -> 16702.24 | H41: =IF(A41="","",ROUND(C41-F41-MIN(G41+0,C41-F41),2)) -> 3689818.1 | J41: =IF(A41="","",IF(AND($C$9="Reduce the payment",G40+0>0),IF($C$8="Annuity",IF($C$5=0,ROUND(C41/($C$6-A41+1),2),ROUND(C41*$C$5/12/(1-(1+$C$5/12)^(-($C$6-A41+1))),2)),ROUND(C41/($C$6-A41+1),2)),J40)) -> 67666.89 | K41: =IF(A41="","",YEAR(B41)) -> 2029
...

Sheet No prepayments
A1: The plan with no prepayments
A2: The same terms as on the Schedule sheet, for comparison. Nothing is typed here.
A3: № | B3: Payment date | C3: Opening balance | D3: Payment | E3: Interest | F3: Principal | G3: Closing balance
A4: =IF(AND('Schedule'!$C$4>0,'Schedule'!$C$6>=1),1,"") -> 1 | B4: =IF(A4="","",EDATE('Schedule'!$C$7,A4)) -> 46331 | C4: =IF(A4="","",'Schedule'!$C$4) -> 4500000 | D4: =IF(A4="","",ROUND(E4+F4,2)) -> 67666.89 | E4: =IF(A4="","",ROUND(C4*'Schedule'!$C$5/12,2)) -> 61875 | F4: =IF(A4="","",IF(OR(A4='Schedule'!$C$6,IF('Schedule'!$C$8="Annuity",ROUND('Schedule'!$J$14-E4,2),'Schedule'!$J$14)>C4),C4,IF('Schedule'!$C$8="Annuity",ROUND('Schedule'!$J$14-E4,2),'Schedule'!$J$14))) -> 5791.89 | G4: =IF(A4="","",ROUND(C4-F4,2)) -> 4494208.1
A5: =IF(A4="","",IF(G4<=0,"",IF(A4>='Schedule'!$C$6,"",A4+1))) -> 2 | B5: =IF(A5="","",EDATE('Schedule'!$C$7,A5)) -> 46361 | C5: =IF(A5="","",G4) -> 4494208.1 | D5: =IF(A5="","",ROUND(E5+F5,2)) -> 67666.89 | E5: =IF(A5="","",ROUND(C5*'Schedule'!$C$5/12,2)) -> 61795.36 | F5: =IF(A5="","",IF(OR(A5='Schedule'!$C$6,IF('Schedule'!$C$8="Annuity",ROUND('Schedule'!$J$14-E5,2),'Schedule'!$J$14)>C5),C5,IF('Schedule'!$C$8="Annuity",ROUND('Schedule'!$J$14-E5,2),'Schedule'!$J$14))) -> 5871.53 | G5: =IF(A5="","",ROUND(C5-F5,2)) -> 4488336.6
A6: =IF(A5="","",IF(G5<=0,"",IF(A5>='Schedule'!$C$6,"",A5+1))) -> 3 | B6: =IF(A6="","",EDATE('Schedule'!$C$7,A6)) -> 46392 | C6: =IF(A6="","",G5) -> 4488336.6 | D6: =IF(A6="","",ROUND(E6+F6,2)) -> 67666.89 | E6: =IF(A6="","",ROUND(C6*'Schedule'!$C$5/12,2)) -> 61714.63 | F6: =IF(A6="","",IF(OR(A6='Schedule'!$C$6,IF('Schedule'!$C$8="Annuity",ROUND('Schedule'!$J$14-E6,2),'Schedule'!$J$14)>C6),C6,IF('Schedule'!$C$8="Annuity",ROUND('Schedule'!$J$14-E6,2),'Schedule'!$J$14))) -> 5952.26 | G6: =IF(A6="","",ROUND(C6-F6,2)) -> 4482384.3
A7: =IF(A6="","",IF(G6<=0,"",IF(A6>='Schedule'!$C$6,"",A6+1))) -> 4 | B7: =IF(A7="","",EDATE('Schedule'!$C$7,A7)) -> 46423 | C7: =IF(A7="","",G6) -> 4482384.3 | D7: =IF(A7="","",ROUND(E7+F7,2)) -> 67666.89 | E7: =IF(A7="","",ROUND(C7*'Schedule'!$C$5/12,2)) -> 61632.78 | F7: =IF(A7="","",IF(OR(A7='Schedule'!$C$6,IF('Schedule'!$C$8="Annuity",ROUND('Schedule'!$J$14-E7,2),'Schedule'!$J$14)>C7),C7,IF('Schedule'!$C$8="Annuity",ROUND('Schedule'!$J$14-E7,2),'Schedule'!$J$14))) -> 6034.11 | G7: =IF(A7="","",ROUND(C7-F7,2)) -> 4476350.2
A8: =IF(A7="","",IF(G7<=0,"",IF(A7>='Schedule'!$C$6,"",A7+1))) -> 5 | B8: =IF(A8="","",EDATE('Schedule'!$C$7,A8)) -> 46451 | C8: =IF(A8="","",G7) -> 4476350.2 | D8: =IF(A8="","",ROUND(E8+F8,2)) -> 67666.89 | E8: =IF(A8="","",ROUND(C8*'Schedule'!$C$5/12,2)) -> 61549.82 | F8: =IF(A8="","",IF(OR(A8='Schedule'!$C$6,IF('Schedule'!$C$8="Annuity",ROUND('Schedule'!$J$14-E8,2),'Schedule'!$J$14)>C8),C8,IF('Schedule'!$C$8="Annuity",ROUND('Schedule'!$J$14-E8,2),'Schedule'!$J$14))) -> 6117.07 | G8: =IF(A8="","",ROUND(C8-F8,2)) -> 4470233.1
A9: =IF(A8="","",IF(G8<=0,"",IF(A8>='Schedule'!$C$6,"",A8+1))) -> 6 | B9: =IF(A9="","",EDATE('Schedule'!$C$7,A9)) -> 46482 | C9: =IF(A9="","",G8) -> 4470233.1 | D9: =IF(A9="","",ROUND(E9+F9,2)) -> 67666.89 | E9: =IF(A9="","",ROUND(C9*'Schedule'!$C$5/12,2)) -> 61465.71 | F9: =IF(A9="","",IF(OR(A9='Schedule'!$C$6,IF('Schedule'!$C$8="Annuity",ROUND('Schedule'!$J$14-E9,2),'Schedule'!$J$14)>C9),C9,IF('Schedule'!$C$8="Annuity",ROUND('Schedule'!$J$14-E9,2),'Schedule'!$J$14))) -> 6201.18 | G9: =IF(A9="","",ROUND(C9-F9,2)) -> 4464032
A10: =IF(A9="","",IF(G9<=0,"",IF(A9>='Schedule'!$C$6,"",A9+1))) -> 7 | B10: =IF(A10="","",EDATE('Schedule'!$C$7,A10)) -> 46512 | C10: =IF(A10="","",G9) -> 4464032 | D10: =IF(A10="","",ROUND(E10+F10,2)) -> 67666.89 | E10: =IF(A10="","",ROUND(C10*'Schedule'!$C$5/12,2)) -> 61380.44 | F10: =IF(A10="","",IF(OR(A10='Schedule'!$C$6,IF('Schedule'!$C$8="Annuity",ROUND('Schedule'!$J$14-E10,2),'Schedule'!$J$14)>C10),C10,IF('Schedule'!$C$8="Annuity",ROUND('Schedule'!$J$14-E10,2),'Schedule'!$J$14))) -> 6286.45 | G10: =IF(A10="","",ROUND(C10-F10,2)) -> 4457745.5
A11: =IF(A10="","",IF(G10<=0,"",IF(A10>='Schedule'!$C$6,"",A10+1))) -> 8 | B11: =IF(A11="","",EDATE('Schedule'!$C$7,A11)) -> 46543 | C11: =IF(A11="","",G10) -> 4457745.5 | D11: =IF(A11="","",ROUND(E11+F11,2)) -> 67666.89 | E11: =IF(A11="","",ROUND(C11*'Schedule'!$C$5/12,2)) -> 61294 | F11: =IF(A11="","",IF(OR(A11='Schedule'!$C$6,IF('Schedule'!$C$8="Annuity",ROUND('Schedule'!$J$14-E11,2),'Schedule'!$J$14)>C11),C11,IF('Schedule'!$C$8="Annuity",ROUND('Schedule'!$J$14-E11,2),'Schedule'!$J$14))) -> 6372.89 | G11: =IF(A11="","",ROUND(C11-F11,2)) -> 4451372.6
A12: =IF(A11="","",IF(G11<=0,"",IF(A11>='Schedule'!$C$6,"",A11+1))) -> 9 | B12: =IF(A12="","",EDATE('Schedule'!$C$7,A12)) -> 46573 | C12: =IF(A12="","",G11) -> 4451372.6 | D12: =IF(A12="","",ROUND(E12+F12,2)) -> 67666.89 | E12: =IF(A12="","",ROUND(C12*'Schedule'!$C$5/12,2)) -> 61206.37 | F12: =IF(A12="","",IF(OR(A12='Schedule'!$C$6,IF('Schedule'!$C$8="Annuity",ROUND('Schedule'!$J$14-E12,2),'Schedule'!$J$14)>C12),C12,IF('Schedule'!$C$8="Annuity",ROUND('Schedule'!$J$14-E12,2),'Schedule'!$J$14))) -> 6460.52 | G12: =IF(A12="","",ROUND(C12-F12,2)) -> 4444912.1
A13: =IF(A12="","",IF(G12<=0,"",IF(A12>='Schedule'!$C$6,"",A12+1))) -> 10 | B13: =IF(A13="","",EDATE('Schedule'!$C$7,A13)) -> 46604 | C13: =IF(A13="","",G12) -> 4444912.1 | D13: =IF(A13="","",ROUND(E13+F13,2)) -> 67666.89 | E13: =IF(A13="","",ROUND(C13*'Schedule'!$C$5/12,2)) -> 61117.54 | F13: =IF(A13="","",IF(OR(A13='Schedule'!$C$6,IF('Schedule'!$C$8="Annuity",ROUND('Schedule'!$J$14-E13,2),'Schedule'!$J$14)>C13),C13,IF('Schedule'!$C$8="Annuity",ROUND('Schedule'!$J$14-E13,2),'Schedule'!$J$14))) -> 6549.35 | G13: =IF(A13="","",ROUND(C13-F13,2)) -> 4438362.8
A14: =IF(A13="","",IF(G13<=0,"",IF(A13>='Schedule'!$C$6,"",A13+1))) -> 11 | B14: =IF(A14="","",EDATE('Schedule'!$C$7,A14)) -> 46635 | C14: =IF(A14="","",G13) -> 4438362.8 | D14: =IF(A14="","",ROUND(E14+F14,2)) -> 67666.89 | E14: =IF(A14="","",ROUND(C14*'Schedule'!$C$5/12,2)) -> 61027.49 | F14: =IF(A14="","",IF(OR(A14='Schedule'!$C$6,IF('Schedule'!$C$8="Annuity",ROUND('Schedule'!$J$14-E14,2),'Schedule'!$J$14)>C14),C14,IF('Schedule'!$C$8="Annuity",ROUND('Schedule'!$J$14-E14,2),'Schedule'!$J$14))) -> 6639.4 | G14: =IF(A14="","",ROUND(C14-F14,2)) -> 4431723.3
A15: =IF(A14="","",IF(G14<=0,"",IF(A14>='Schedule'!$C$6,"",A14+1))) -> 12 | B15: =IF(A15="","",EDATE('Schedule'!$C$7,A15)) -> 46665 | C15: =IF(A15="","",G14) -> 4431723.3 | D15: =IF(A15="","",ROUND(E15+F15,2)) -> 67666.89 | E15: =IF(A15="","",ROUND(C15*'Schedule'!$C$5/12,2)) -> 60936.2 | F15: =IF(A15="","",IF(OR(A15='Schedule'!$C$6,IF('Schedule'!$C$8="Annuity",ROUND('Schedule'!$J$14-E15,2),'Schedule'!$J$14)>C15),C15,IF('Schedule'!$C$8="Annuity",ROUND('Schedule'!$J$14-E15,2),'Schedule'!$J$14))) -> 6730.69 | G15: =IF(A15="","",ROUND(C15-F15,2)) -> 4424992.7
A16: =IF(A15="","",IF(G15<=0,"",IF(A15>='Schedule'!$C$6,"",A15+1))) -> 13 | B16: =IF(A16="","",EDATE('Schedule'!$C$7,A16)) -> 46696 | C16: =IF(A16="","",G15) -> 4424992.7 | D16: =IF(A16="","",ROUND(E16+F16,2)) -> 67666.89 | E16: =IF(A16="","",ROUND(C16*'Schedule'!$C$5/12,2)) -> 60843.65 | F16: =IF(A16="","",IF(OR(A16='Schedule'!$C$6,IF('Schedule'!$C$8="Annuity",ROUND('Schedule'!$J$14-E16,2),'Schedule'!$J$14)>C16),C16,IF('Schedule'!$C$8="Annuity",ROUND('Schedule'!$J$14-E16,2),'Schedule'!$J$14))) -> 6823.24 | G16: =IF(A16="","",ROUND(C16-F16,2)) -> 4418169.4
... A363: =IF(A362="","",IF(G362<=0,"",IF(A362>='Schedule'!$C$6,"",A362+1))) | B363: =IF(A363="","",EDATE('Schedule'!$C$7,A363)) | C363: =IF(A363="","",G362) | D363: =IF(A363="","",ROUND(E363+F363,2)) | E363: =IF(A363="","",ROUND(C363*'Schedule'!$C$5/12,2)) | F363: =IF(A363="","",IF(OR(A363='Schedule'!$C$6,IF('Schedule'!$C$8="Annuity",ROUND('Schedule'!$J$14-E363,2),'Schedule'!$J$14)>C363),C363,IF('Schedule'!$C$8="Annuity",ROUND('Schedule'!$J$14-E363,2),'Schedule'!$J$14))) | G363: =IF(A363="","",ROUND(C363-F363,2))

Sheet By year
A1: Totals by calendar year
A2: Interest per year is the figure a mortgage-interest deduction is claimed on.
A3: Year | B3: Payments | C3: Interest | D3: Principal | E3: Prepaid | F3: Balance at year end
A4: =IF('Schedule'!$H$10=0,"",YEAR(EDATE('Schedule'!$C$7,1))) -> 2026 | B4: =IF(A4="","",COUNTIF('Schedule'!$K$14:$K$373,A4)) -> 2 | C4: =IF(A4="","",SUMIFS('Schedule'!$E$14:$E$373,'Schedule'!$K$14:$K$373,A4)) -> 123670.36 | D4: =IF(A4="","",SUMIFS('Schedule'!$F$14:$F$373,'Schedule'!$K$14:$K$373,A4)) -> 11663.42 | E4: =IF(A4="","",SUMIFS('Schedule'!$G$14:$G$373,'Schedule'!$K$14:$K$373,A4)) -> 0 | F4: =IF(A4="","",MAX(0,'Schedule'!$C$4-SUMIFS('Schedule'!$F$14:$F$373,'Schedule'!$K$14:$K$373,"<="&A4)-SUMIFS('Schedule'!$G$14:$G$373,'Schedule'!$K$14:$K$373,"<="&A4))) -> 4488336.6
A5: =IF(A4="","",IF(A4>=YEAR('Schedule'!$H$9),"",A4+1)) -> 2027 | B5: =IF(A5="","",COUNTIF('Schedule'!$K$14:$K$373,A5)) -> 12 | C5: =IF(A5="","",SUMIFS('Schedule'!$E$14:$E$373,'Schedule'!$K$14:$K$373,A5)) -> 711830.09 | D5: =IF(A5="","",SUMIFS('Schedule'!$F$14:$F$373,'Schedule'!$K$14:$K$373,A5)) -> 100172.59 | E5: =IF(A5="","",SUMIFS('Schedule'!$G$14:$G$373,'Schedule'!$K$14:$K$373,A5)) -> 200000 | F5: =IF(A5="","",MAX(0,'Schedule'!$C$4-SUMIFS('Schedule'!$F$14:$F$373,'Schedule'!$K$14:$K$373,"<="&A5)-SUMIFS('Schedule'!$G$14:$G$373,'Schedule'!$K$14:$K$373,"<="&A5))) -> 4188164
A6: =IF(A5="","",IF(A5>=YEAR('Schedule'!$H$9),"",A5+1)) -> 2028 | B6: =IF(A6="","",COUNTIF('Schedule'!$K$14:$K$373,A6)) -> 12 | C6: =IF(A6="","",SUMIFS('Schedule'!$E$14:$E$373,'Schedule'!$K$14:$K$373,A6)) -> 646834.72 | D6: =IF(A6="","",SUMIFS('Schedule'!$F$14:$F$373,'Schedule'!$K$14:$K$373,A6)) -> 165167.96 | E6: =IF(A6="","",SUMIFS('Schedule'!$G$14:$G$373,'Schedule'!$K$14:$K$373,A6)) -> 300000 | F6: =IF(A6="","",MAX(0,'Schedule'!$C$4-SUMIFS('Schedule'!$F$14:$F$373,'Schedule'!$K$14:$K$373,"<="&A6)-SUMIFS('Schedule'!$G$14:$G$373,'Schedule'!$K$14:$K$373,"<="&A6))) -> 3722996
A7: =IF(A6="","",IF(A6>=YEAR('Schedule'!$H$9),"",A6+1)) -> 2029 | B7: =IF(A7="","",COUNTIF('Schedule'!$K$14:$K$373,A7)) -> 12 | C7: =IF(A7="","",SUMIFS('Schedule'!$E$14:$E$373,'Schedule'!$K$14:$K$373,A7)) -> 598635.7 | D7: =IF(A7="","",SUMIFS('Schedule'!$F$14:$F$373,'Schedule'!$K$14:$K$373,A7)) -> 213366.98 | E7: =IF(A7="","",SUMIFS('Schedule'!$G$14:$G$373,'Schedule'!$K$14:$K$373,A7)) -> 0 | F7: =IF(A7="","",MAX(0,'Schedule'!$C$4-SUMIFS('Schedule'!$F$14:$F$373,'Schedule'!$K$14:$K$373,"<="&A7)-SUMIFS('Schedule'!$G$14:$G$373,'Schedule'!$K$14:$K$373,"<="&A7))) -> 3509629
A8: =IF(A7="","",IF(A7>=YEAR('Schedule'!$H$9),"",A7+1)) -> 2030 | B8: =IF(A8="","",COUNTIF('Schedule'!$K$14:$K$373,A8)) -> 12 | C8: =IF(A8="","",SUMIFS('Schedule'!$E$14:$E$373,'Schedule'!$K$14:$K$373,A8)) -> 560641.83 | D8: =IF(A8="","",SUMIFS('Schedule'!$F$14:$F$373,'Schedule'!$K$14:$K$373,A8)) -> 251360.85 | E8: =IF(A8="","",SUMIFS('Schedule'!$G$14:$G$373,'Schedule'!$K$14:$K$373,A8)) -> 0 | F8: =IF(A8="","",MAX(0,'Schedule'!$C$4-SUMIFS('Schedule'!$F$14:$F$373,'Schedule'!$K$14:$K$373,"<="&A8)-SUMIFS('Schedule'!$G$14:$G$373,'Schedule'!$K$14:$K$373,"<="&A8))) -> 3258268.2
A9: =IF(A8="","",IF(A8>=YEAR('Schedule'!$H$9),"",A8+1)) -> 2031 | B9: =IF(A9="","",COUNTIF('Schedule'!$K$14:$K$373,A9)) -> 12 | C9: =IF(A9="","",SUMIFS('Schedule'!$E$14:$E$373,'Schedule'!$K$14:$K$373,A9)) -> 515882.48 | D9: =IF(A9="","",SUMIFS('Schedule'!$F$14:$F$373,'Schedule'!$K$14:$K$373,A9)) -> 296120.2 | E9: =IF(A9="","",SUMIFS('Schedule'!$G$14:$G$373,'Schedule'!$K$14:$K$373,A9)) -> 0 | F9: =IF(A9="","",MAX(0,'Schedule'!$C$4-SUMIFS('Schedule'!$F$14:$F$373,'Schedule'!$K$14:$K$373,"<="&A9)-SUMIFS('Schedule'!$G$14:$G$373,'Schedule'!$K$14:$K$373,"<="&A9))) -> 2962148
A10: =IF(A9="","",IF(A9>=YEAR('Schedule'!$H$9),"",A9+1)) -> 2032 | B10: =IF(A10="","",COUNTIF('Schedule'!$K$14:$K$373,A10)) -> 12 | C10: =IF(A10="","",SUMIFS('Schedule'!$E$14:$E$373,'Schedule'!$K$14:$K$373,A10)) -> 463152.93 | D10: =IF(A10="","",SUMIFS('Schedule'!$F$14:$F$373,'Schedule'!$K$14:$K$373,A10)) -> 348849.75 | E10: =IF(A10="","",SUMIFS('Schedule'!$G$14:$G$373,'Schedule'!$K$14:$K$373,A10)) -> 0 | F10: =IF(A10="","",MAX(0,'Schedule'!$C$4-SUMIFS('Schedule'!$F$14:$F$373,'Schedule'!$K$14:$K$373,"<="&A10)-SUMIFS('Schedule'!$G$14:$G$373,'Schedule'!$K$14:$K$373,"<="&A10))) -> 2613298.2
A11: =IF(A10="","",IF(A10>=YEAR('Schedule'!$H$9),"",A10+1)) -> 2033 | B11: =IF(A11="","",COUNTIF('Schedule'!$K$14:$K$373,A11)) -> 12 | C11: =IF(A11="","",SUMIFS('Schedule'!$E$14:$E$373,'Schedule'!$K$14:$K$373,A11)) -> 401033.89 | D11: =IF(A11="","",SUMIFS('Schedule'!$F$14:$F$373,'Schedule'!$K$14:$K$373,A11)) -> 410968.79 | E11: =IF(A11="","",SUMIFS('Schedule'!$G$14:$G$373,'Schedule'!$K$14:$K$373,A11)) -> 0 | F11: =IF(A11="","",MAX(0,'Schedule'!$C$4-SUMIFS('Schedule'!$F$14:$F$373,'Schedule'!$K$14:$K$373,"<="&A11)-SUMIFS('Schedule'!$G$14:$G$373,'Schedule'!$K$14:$K$373,"<="&A11))) -> 2202329.5
A12: =IF(A11="","",IF(A11>=YEAR('Schedule'!$H$9),"",A11+1)) -> 2034 | B12: =IF(A12="","",COUNTIF('Schedule'!$K$14:$K$373,A12)) -> 12 | C12: =IF(A12="","",SUMIFS('Schedule'!$E$14:$E$373,'Schedule'!$K$14:$K$373,A12)) -> 327853.43 | D12: =IF(A12="","",SUMIFS('Schedule'!$F$14:$F$373,'Schedule'!$K$14:$K$373,A12)) -> 484149.25 | E12: =IF(A12="","",SUMIFS('Schedule'!$G$14:$G$373,'Schedule'!$K$14:$K$373,A12)) -> 0 | F12: =IF(A12="","",MAX(0,'Schedule'!$C$4-SUMIFS('Schedule'!$F$14:$F$373,'Schedule'!$K$14:$K$373,"<="&A12)-SUMIFS('Schedule'!$G$14:$G$373,'Schedule'!$K$14:$K$373,"<="&A12))) -> 1718180.2
A13: =IF(A12="","",IF(A12>=YEAR('Schedule'!$H$9),"",A12+1)) -> 2035 | B13: =IF(A13="","",COUNTIF('Schedule'!$K$14:$K$373,A13)) -> 12 | C13: =IF(A13="","",SUMIFS('Schedule'!$E$14:$E$373,'Schedule'!$K$14:$K$373,A13)) -> 241641.89 | D13: =IF(A13="","",SUMIFS('Schedule'!$F$14:$F$373,'Schedule'!$K$14:$K$373,A13)) -> 570360.79 | E13: =IF(A13="","",SUMIFS('Schedule'!$G$14:$G$373,'Schedule'!$K$14:$K$373,A13)) -> 0 | F13: =IF(A13="","",MAX(0,'Schedule'!$C$4-SUMIFS('Schedule'!$F$14:$F$373,'Schedule'!$K$14:$K$373,"<="&A13)-SUMIFS('Schedule'!$G$14:$G$373,'Schedule'!$K$14:$K$373,"<="&A13))) -> 1147819.4
A14: =IF(A13="","",IF(A13>=YEAR('Schedule'!$H$9),"",A13+1)) -> 2036 | B14: =IF(A14="","",COUNTIF('Schedule'!$K$14:$K$373,A14)) -> 12 | C14: =IF(A14="","",SUMIFS('Schedule'!$E$14:$E$373,'Schedule'!$K$14:$K$373,A14)) -> 140078.81 | D14: =IF(A14="","",SUMIFS('Schedule'!$F$14:$F$373,'Schedule'!$K$14:$K$373,A14)) -> 671923.87 | E14: =IF(A14="","",SUMIFS('Schedule'!$G$14:$G$373,'Schedule'!$K$14:$K$373,A14)) -> 0 | F14: =IF(A14="","",MAX(0,'Schedule'!$C$4-SUMIFS('Schedule'!$F$14:$F$373,'Schedule'!$K$14:$K$373,"<="&A14)-SUMIFS('Schedule'!$G$14:$G$373,'Schedule'!$K$14:$K$373,"<="&A14))) -> 475895.55
A15: =IF(A14="","",IF(A14>=YEAR('Schedule'!$H$9),"",A14+1)) -> 2037 | B15: =IF(A15="","",COUNTIF('Schedule'!$K$14:$K$373,A15)) -> 8 | C15: =IF(A15="","",SUMIFS('Schedule'!$E$14:$E$373,'Schedule'!$K$14:$K$373,A15)) -> 28157.65 | D15: =IF(A15="","",SUMIFS('Schedule'!$F$14:$F$373,'Schedule'!$K$14:$K$373,A15)) -> 475895.55 | E15: =IF(A15="","",SUMIFS('Schedule'!$G$14:$G$373,'Schedule'!$K$14:$K$373,A15)) -> 0 | F15: =IF(A15="","",MAX(0,'Schedule'!$C$4-SUMIFS('Schedule'!$F$14:$F$373,'Schedule'!$K$14:$K$373,"<="&A15)-SUMIFS('Schedule'!$G$14:$G$373,'Schedule'!$K$14:$K$373,"<="&A15))) -> 0
A16: =IF(A15="","",IF(A15>=YEAR('Schedule'!$H$9),"",A15+1)) | B16: =IF(A16="","",COUNTIF('Schedule'!$K$14:$K$373,A16)) | C16: =IF(A16="","",SUMIFS('Schedule'!$E$14:$E$373,'Schedule'!$K$14:$K$373,A16)) | D16: =IF(A16="","",SUMIFS('Schedule'!$F$14:$F$373,'Schedule'!$K$14:$K$373,A16)) | E16: =IF(A16="","",SUMIFS('Schedule'!$G$14:$G$373,'Schedule'!$K$14:$K$373,A16)) | F16: =IF(A16="","",MAX(0,'Schedule'!$C$4-SUMIFS('Schedule'!$F$14:$F$373,'Schedule'!$K$14:$K$373,"<="&A16)-SUMIFS('Schedule'!$G$14:$G$373,'Schedule'!$K$14:$K$373,"<="&A16)))
... A34: =IF(A33="","",IF(A33>=YEAR('Schedule'!$H$9),"",A33+1)) | B34: =IF(A34="","",COUNTIF('Schedule'!$K$14:$K$373,A34)) | C34: =IF(A34="","",SUMIFS('Schedule'!$E$14:$E$373,'Schedule'!$K$14:$K$373,A34)) | D34: =IF(A34="","",SUMIFS('Schedule'!$F$14:$F$373,'Schedule'!$K$14:$K$373,A34)) | E34: =IF(A34="","",SUMIFS('Schedule'!$G$14:$G$373,'Schedule'!$K$14:$K$373,A34)) | F34: =IF(A34="","",MAX(0,'Schedule'!$C$4-SUMIFS('Schedule'!$F$14:$F$373,'Schedule'!$K$14:$K$373,"<="&A34)-SUMIFS('Schedule'!$G$14:$G$373,'Schedule'!$K$14:$K$373,"<="&A34)))
A35: Total | B35: =SUM(B4:B34) -> 130 | C35: =SUM(C4:C34) -> 4759413.8 | D35: =SUM(D4:D34) -> 4000000 | E35: =SUM(E4:E34) -> 500000
