Workbook

Sheet Summary
A1: Receivables: summary
A2: Yellow cells are yours. To make the date follow the calendar, type =TODAY() into it.
A4: Reporting date | C4: 46300 | E4: Total receivable | F4: =SUMIF('Invoices'!$H$4:$H$203,">0") -> 2339300
A5: Contract penalty, per day | C5: 0.001 | E5: Of which overdue | F5: =SUMIFS('Invoices'!$H$4:$H$203,'Invoices'!$I$4:$I$203,">0") -> 1375600
E6: Overdue share | F6: =IF(F4=0,0,F5/F4) -> 0.58803916
E7: Overdue invoices | F7: =COUNTIF('Invoices'!$I$4:$I$203,">0") -> 8
E8: Penalty accrued | F8: =SUM('Invoices'!$K$4:$K$203) -> 65406.6
E9: Longest overdue, days | F9: =MAX('Invoices'!$I$4:$I$203) -> 110
A12: Ageing
A13: Bucket | B13: Amount | C13: Share | D13: Invoices
A14: Not due | B14: =SUMIFS('Invoices'!$H$4:$H$203,'Invoices'!$J$4:$J$203,A14) -> 963700 | C14: =IF($B$19=0,0,B14/$B$19) -> 0.41196084 | D14: =COUNTIF('Invoices'!$J$4:$J$203,A14) -> 5
A15: 1-30 days | B15: =SUMIFS('Invoices'!$H$4:$H$203,'Invoices'!$J$4:$J$203,A15) -> 771700 | C15: =IF($B$19=0,0,B15/$B$19) -> 0.32988501 | D15: =COUNTIF('Invoices'!$J$4:$J$203,A15) -> 4
A16: 31-60 days | B16: =SUMIFS('Invoices'!$H$4:$H$203,'Invoices'!$J$4:$J$203,A16) -> 56000 | C16: =IF($B$19=0,0,B16/$B$19) -> 0.023938785 | D16: =COUNTIF('Invoices'!$J$4:$J$203,A16) -> 1
A17: 61-90 days | B17: =SUMIFS('Invoices'!$H$4:$H$203,'Invoices'!$J$4:$J$203,A17) -> 187400 | C17: =IF($B$19=0,0,B17/$B$19) -> 0.080109434 | D17: =COUNTIF('Invoices'!$J$4:$J$203,A17) -> 1
A18: Over 90 days | B18: =SUMIFS('Invoices'!$H$4:$H$203,'Invoices'!$J$4:$J$203,A18) -> 360500 | C18: =IF($B$19=0,0,B18/$B$19) -> 0.15410593 | D18: =COUNTIF('Invoices'!$J$4:$J$203,A18) -> 2
A19: Total | B19: =SUM(B14:B18) -> 2339300 | D19: =SUM(D14:D18) -> 13

Sheet Invoices
A1: Register of issued invoices
A2: One row per invoice. Enter a part-payment as an amount under Paid.
A3: Customer | B3: Invoice no. | C3: Issued | D3: Terms, days | E3: Due | F3: Amount | G3: Paid | H3: Balance | I3: Days overdue | J3: Bucket | K3: Penalty
A4: Northern Metal JSC | B4: 214 | C4: 46160 | D4: 30 | E4: =IF(C4="","",C4+D4) -> 46190 | F4: 318000 | G4: 100000 | H4: =IF(F4<>"",ROUND(F4-G4,2),"") -> 218000 | I4: =IF(F4<>"",IF(OR(H4<=0,E4=""),0,MAX(0,'Summary'!$C$4-E4)),"") -> 110 | J4: =IF(F4<>"",IF(H4<=0,"Paid",IF(I4=0,"Not due",IF(I4<=30,"1-30 days",IF(I4<=60,"31-60 days",IF(I4<=90,"61-90 days","Over 90 days"))))),"") -> Over 90 days | K4: =IF(F4<>"",ROUND(MAX(0,H4)*'Summary'!$C$5*I4,2),"") -> 23980
A5: Granit LLC | B5: 221 | C5: 46182 | D5: 14 | E5: =IF(C5="","",C5+D5) -> 46196 | F5: 142500 | H5: =IF(F5<>"",ROUND(F5-G5,2),"") -> 142500 | I5: =IF(F5<>"",IF(OR(H5<=0,E5=""),0,MAX(0,'Summary'!$C$4-E5)),"") -> 104 | J5: =IF(F5<>"",IF(H5<=0,"Paid",IF(I5=0,"Not due",IF(I5<=30,"1-30 days",IF(I5<=60,"31-60 days",IF(I5<=90,"61-90 days","Over 90 days"))))),"") -> Over 90 days | K5: =IF(F5<>"",ROUND(MAX(0,H5)*'Summary'!$C$5*I5,2),"") -> 14820
A6: Altair LLC | B6: 236 | C6: 46205 | D6: 30 | E6: =IF(C6="","",C6+D6) -> 46235 | F6: 260000 | G6: 260000 | H6: =IF(F6<>"",ROUND(F6-G6,2),"") -> 0 | I6: =IF(F6<>"",IF(OR(H6<=0,E6=""),0,MAX(0,'Summary'!$C$4-E6)),"") -> 0 | J6: =IF(F6<>"",IF(H6<=0,"Paid",IF(I6=0,"Not due",IF(I6<=30,"1-30 days",IF(I6<=60,"31-60 days",IF(I6<=90,"61-90 days","Over 90 days"))))),"") -> Paid | K6: =IF(F6<>"",ROUND(MAX(0,H6)*'Summary'!$C$5*I6,2),"") -> 0
A7: Techprom LLC | B7: 241 | C7: 46217 | D7: 21 | E7: =IF(C7="","",C7+D7) -> 46238 | F7: 187400 | H7: =IF(F7<>"",ROUND(F7-G7,2),"") -> 187400 | I7: =IF(F7<>"",IF(OR(H7<=0,E7=""),0,MAX(0,'Summary'!$C$4-E7)),"") -> 62 | J7: =IF(F7<>"",IF(H7<=0,"Paid",IF(I7=0,"Not due",IF(I7<=30,"1-30 days",IF(I7<=60,"31-60 days",IF(I7<=90,"61-90 days","Over 90 days"))))),"") -> 61-90 days | K7: =IF(F7<>"",ROUND(MAX(0,H7)*'Summary'!$C$5*I7,2),"") -> 11618.8
A8: Vector LLC | B8: 249 | C8: 46231 | D8: 30 | E8: =IF(C8="","",C8+D8) -> 46261 | F8: 205000 | G8: 205000 | H8: =IF(F8<>"",ROUND(F8-G8,2),"") -> 0 | I8: =IF(F8<>"",IF(OR(H8<=0,E8=""),0,MAX(0,'Summary'!$C$4-E8)),"") -> 0 | J8: =IF(F8<>"",IF(H8<=0,"Paid",IF(I8=0,"Not due",IF(I8<=30,"1-30 days",IF(I8<=60,"31-60 days",IF(I8<=90,"61-90 days","Over 90 days"))))),"") -> Paid | K8: =IF(F8<>"",ROUND(MAX(0,H8)*'Summary'!$C$5*I8,2),"") -> 0
A9: Sokolov, sole trader | B9: 255 | C9: 46240 | D9: 14 | E9: =IF(C9="","",C9+D9) -> 46254 | F9: 96000 | G9: 40000 | H9: =IF(F9<>"",ROUND(F9-G9,2),"") -> 56000 | I9: =IF(F9<>"",IF(OR(H9<=0,E9=""),0,MAX(0,'Summary'!$C$4-E9)),"") -> 46 | J9: =IF(F9<>"",IF(H9<=0,"Paid",IF(I9=0,"Not due",IF(I9<=30,"1-30 days",IF(I9<=60,"31-60 days",IF(I9<=90,"61-90 days","Over 90 days"))))),"") -> 31-60 days | K9: =IF(F9<>"",ROUND(MAX(0,H9)*'Summary'!$C$5*I9,2),"") -> 2576
A10: Northern Metal JSC | B10: 262 | C10: 46251 | D10: 30 | E10: =IF(C10="","",C10+D10) -> 46281 | F10: 441000 | H10: =IF(F10<>"",ROUND(F10-G10,2),"") -> 441000 | I10: =IF(F10<>"",IF(OR(H10<=0,E10=""),0,MAX(0,'Summary'!$C$4-E10)),"") -> 19 | J10: =IF(F10<>"",IF(H10<=0,"Paid",IF(I10=0,"Not due",IF(I10<=30,"1-30 days",IF(I10<=60,"31-60 days",IF(I10<=90,"61-90 days","Over 90 days"))))),"") -> 1-30 days | K10: =IF(F10<>"",ROUND(MAX(0,H10)*'Summary'!$C$5*I10,2),"") -> 8379
A11: Altair LLC | B11: 270 | C11: 46259 | D11: 30 | E11: =IF(C11="","",C11+D11) -> 46289 | F11: 174300 | H11: =IF(F11<>"",ROUND(F11-G11,2),"") -> 174300 | I11: =IF(F11<>"",IF(OR(H11<=0,E11=""),0,MAX(0,'Summary'!$C$4-E11)),"") -> 11 | J11: =IF(F11<>"",IF(H11<=0,"Paid",IF(I11=0,"Not due",IF(I11<=30,"1-30 days",IF(I11<=60,"31-60 days",IF(I11<=90,"61-90 days","Over 90 days"))))),"") -> 1-30 days | K11: =IF(F11<>"",ROUND(MAX(0,H11)*'Summary'!$C$5*I11,2),"") -> 1917.3
A12: Granit LLC | B12: 277 | C12: 46266 | D12: 14 | E12: =IF(C12="","",C12+D12) -> 46280 | F12: 88900 | H12: =IF(F12<>"",ROUND(F12-G12,2),"") -> 88900 | I12: =IF(F12<>"",IF(OR(H12<=0,E12=""),0,MAX(0,'Summary'!$C$4-E12)),"") -> 20 | J12: =IF(F12<>"",IF(H12<=0,"Paid",IF(I12=0,"Not due",IF(I12<=30,"1-30 days",IF(I12<=60,"31-60 days",IF(I12<=90,"61-90 days","Over 90 days"))))),"") -> 1-30 days | K12: =IF(F12<>"",ROUND(MAX(0,H12)*'Summary'!$C$5*I12,2),"") -> 1778
A13: Vector LLC | B13: 283 | C13: 46273 | D13: 30 | E13: =IF(C13="","",C13+D13) -> 46303 | F13: 232000 | H13: =IF(F13<>"",ROUND(F13-G13,2),"") -> 232000 | I13: =IF(F13<>"",IF(OR(H13<=0,E13=""),0,MAX(0,'Summary'!$C$4-E13)),"") -> 0 | J13: =IF(F13<>"",IF(H13<=0,"Paid",IF(I13=0,"Not due",IF(I13<=30,"1-30 days",IF(I13<=60,"31-60 days",IF(I13<=90,"61-90 days","Over 90 days"))))),"") -> Not due | K13: =IF(F13<>"",ROUND(MAX(0,H13)*'Summary'!$C$5*I13,2),"") -> 0
A14: Techprom LLC | B14: 288 | C14: 46276 | D14: 21 | E14: =IF(C14="","",C14+D14) -> 46297 | F14: 119600 | G14: 119600 | H14: =IF(F14<>"",ROUND(F14-G14,2),"") -> 0 | I14: =IF(F14<>"",IF(OR(H14<=0,E14=""),0,MAX(0,'Summary'!$C$4-E14)),"") -> 0 | J14: =IF(F14<>"",IF(H14<=0,"Paid",IF(I14=0,"Not due",IF(I14<=30,"1-30 days",IF(I14<=60,"31-60 days",IF(I14<=90,"61-90 days","Over 90 days"))))),"") -> Paid | K14: =IF(F14<>"",ROUND(MAX(0,H14)*'Summary'!$C$5*I14,2),"") -> 0
A15: Sokolov, sole trader | B15: 294 | C15: 46281 | D15: 14 | E15: =IF(C15="","",C15+D15) -> 46295 | F15: 67500 | H15: =IF(F15<>"",ROUND(F15-G15,2),"") -> 67500 | I15: =IF(F15<>"",IF(OR(H15<=0,E15=""),0,MAX(0,'Summary'!$C$4-E15)),"") -> 5 | J15: =IF(F15<>"",IF(H15<=0,"Paid",IF(I15=0,"Not due",IF(I15<=30,"1-30 days",IF(I15<=60,"31-60 days",IF(I15<=90,"61-90 days","Over 90 days"))))),"") -> 1-30 days | K15: =IF(F15<>"",ROUND(MAX(0,H15)*'Summary'!$C$5*I15,2),"") -> 337.5
A16: Altair LLC | B16: 301 | C16: 46287 | D16: 30 | E16: =IF(C16="","",C16+D16) -> 46317 | F16: 286000 | H16: =IF(F16<>"",ROUND(F16-G16,2),"") -> 286000 | I16: =IF(F16<>"",IF(OR(H16<=0,E16=""),0,MAX(0,'Summary'!$C$4-E16)),"") -> 0 | J16: =IF(F16<>"",IF(H16<=0,"Paid",IF(I16=0,"Not due",IF(I16<=30,"1-30 days",IF(I16<=60,"31-60 days",IF(I16<=90,"61-90 days","Over 90 days"))))),"") -> Not due | K16: =IF(F16<>"",ROUND(MAX(0,H16)*'Summary'!$C$5*I16,2),"") -> 0
A17: Northern Metal JSC | B17: 306 | C17: 46290 | D17: 30 | E17: =IF(C17="","",C17+D17) -> 46320 | F17: 152800 | H17: =IF(F17<>"",ROUND(F17-G17,2),"") -> 152800 | I17: =IF(F17<>"",IF(OR(H17<=0,E17=""),0,MAX(0,'Summary'!$C$4-E17)),"") -> 0 | J17: =IF(F17<>"",IF(H17<=0,"Paid",IF(I17=0,"Not due",IF(I17<=30,"1-30 days",IF(I17<=60,"31-60 days",IF(I17<=90,"61-90 days","Over 90 days"))))),"") -> Not due | K17: =IF(F17<>"",ROUND(MAX(0,H17)*'Summary'!$C$5*I17,2),"") -> 0
A18: Vector LLC | B18: 312 | C18: 46294 | D18: 30 | E18: =IF(C18="","",C18+D18) -> 46324 | F18: 198700 | H18: =IF(F18<>"",ROUND(F18-G18,2),"") -> 198700 | I18: =IF(F18<>"",IF(OR(H18<=0,E18=""),0,MAX(0,'Summary'!$C$4-E18)),"") -> 0 | J18: =IF(F18<>"",IF(H18<=0,"Paid",IF(I18=0,"Not due",IF(I18<=30,"1-30 days",IF(I18<=60,"31-60 days",IF(I18<=90,"61-90 days","Over 90 days"))))),"") -> Not due | K18: =IF(F18<>"",ROUND(MAX(0,H18)*'Summary'!$C$5*I18,2),"") -> 0
A19: Techprom LLC | B19: 317 | C19: 46296 | D19: 21 | E19: =IF(C19="","",C19+D19) -> 46317 | F19: 94200 | H19: =IF(F19<>"",ROUND(F19-G19,2),"") -> 94200 | I19: =IF(F19<>"",IF(OR(H19<=0,E19=""),0,MAX(0,'Summary'!$C$4-E19)),"") -> 0 | J19: =IF(F19<>"",IF(H19<=0,"Paid",IF(I19=0,"Not due",IF(I19<=30,"1-30 days",IF(I19<=60,"31-60 days",IF(I19<=90,"61-90 days","Over 90 days"))))),"") -> Not due | K19: =IF(F19<>"",ROUND(MAX(0,H19)*'Summary'!$C$5*I19,2),"") -> 0
E20: =IF(C20="","",C20+D20) | H20: =IF(F20<>"",ROUND(F20-G20,2),"") | I20: =IF(F20<>"",IF(OR(H20<=0,E20=""),0,MAX(0,'Summary'!$C$4-E20)),"") | J20: =IF(F20<>"",IF(H20<=0,"Paid",IF(I20=0,"Not due",IF(I20<=30,"1-30 days",IF(I20<=60,"31-60 days",IF(I20<=90,"61-90 days","Over 90 days"))))),"") | K20: =IF(F20<>"",ROUND(MAX(0,H20)*'Summary'!$C$5*I20,2),"")
E21: =IF(C21="","",C21+D21) | H21: =IF(F21<>"",ROUND(F21-G21,2),"") | I21: =IF(F21<>"",IF(OR(H21<=0,E21=""),0,MAX(0,'Summary'!$C$4-E21)),"") | J21: =IF(F21<>"",IF(H21<=0,"Paid",IF(I21=0,"Not due",IF(I21<=30,"1-30 days",IF(I21<=60,"31-60 days",IF(I21<=90,"61-90 days","Over 90 days"))))),"") | K21: =IF(F21<>"",ROUND(MAX(0,H21)*'Summary'!$C$5*I21,2),"")
E22: =IF(C22="","",C22+D22) | H22: =IF(F22<>"",ROUND(F22-G22,2),"") | I22: =IF(F22<>"",IF(OR(H22<=0,E22=""),0,MAX(0,'Summary'!$C$4-E22)),"") | J22: =IF(F22<>"",IF(H22<=0,"Paid",IF(I22=0,"Not due",IF(I22<=30,"1-30 days",IF(I22<=60,"31-60 days",IF(I22<=90,"61-90 days","Over 90 days"))))),"") | K22: =IF(F22<>"",ROUND(MAX(0,H22)*'Summary'!$C$5*I22,2),"")
E23: =IF(C23="","",C23+D23) | H23: =IF(F23<>"",ROUND(F23-G23,2),"") | I23: =IF(F23<>"",IF(OR(H23<=0,E23=""),0,MAX(0,'Summary'!$C$4-E23)),"") | J23: =IF(F23<>"",IF(H23<=0,"Paid",IF(I23=0,"Not due",IF(I23<=30,"1-30 days",IF(I23<=60,"31-60 days",IF(I23<=90,"61-90 days","Over 90 days"))))),"") | K23: =IF(F23<>"",ROUND(MAX(0,H23)*'Summary'!$C$5*I23,2),"")
E24: =IF(C24="","",C24+D24) | H24: =IF(F24<>"",ROUND(F24-G24,2),"") | I24: =IF(F24<>"",IF(OR(H24<=0,E24=""),0,MAX(0,'Summary'!$C$4-E24)),"") | J24: =IF(F24<>"",IF(H24<=0,"Paid",IF(I24=0,"Not due",IF(I24<=30,"1-30 days",IF(I24<=60,"31-60 days",IF(I24<=90,"61-90 days","Over 90 days"))))),"") | K24: =IF(F24<>"",ROUND(MAX(0,H24)*'Summary'!$C$5*I24,2),"")
E25: =IF(C25="","",C25+D25) | H25: =IF(F25<>"",ROUND(F25-G25,2),"") | I25: =IF(F25<>"",IF(OR(H25<=0,E25=""),0,MAX(0,'Summary'!$C$4-E25)),"") | J25: =IF(F25<>"",IF(H25<=0,"Paid",IF(I25=0,"Not due",IF(I25<=30,"1-30 days",IF(I25<=60,"31-60 days",IF(I25<=90,"61-90 days","Over 90 days"))))),"") | K25: =IF(F25<>"",ROUND(MAX(0,H25)*'Summary'!$C$5*I25,2),"")
E26: =IF(C26="","",C26+D26) | H26: =IF(F26<>"",ROUND(F26-G26,2),"") | I26: =IF(F26<>"",IF(OR(H26<=0,E26=""),0,MAX(0,'Summary'!$C$4-E26)),"") | J26: =IF(F26<>"",IF(H26<=0,"Paid",IF(I26=0,"Not due",IF(I26<=30,"1-30 days",IF(I26<=60,"31-60 days",IF(I26<=90,"61-90 days","Over 90 days"))))),"") | K26: =IF(F26<>"",ROUND(MAX(0,H26)*'Summary'!$C$5*I26,2),"")
E27: =IF(C27="","",C27+D27) | H27: =IF(F27<>"",ROUND(F27-G27,2),"") | I27: =IF(F27<>"",IF(OR(H27<=0,E27=""),0,MAX(0,'Summary'!$C$4-E27)),"") | J27: =IF(F27<>"",IF(H27<=0,"Paid",IF(I27=0,"Not due",IF(I27<=30,"1-30 days",IF(I27<=60,"31-60 days",IF(I27<=90,"61-90 days","Over 90 days"))))),"") | K27: =IF(F27<>"",ROUND(MAX(0,H27)*'Summary'!$C$5*I27,2),"")
E28: =IF(C28="","",C28+D28) | H28: =IF(F28<>"",ROUND(F28-G28,2),"") | I28: =IF(F28<>"",IF(OR(H28<=0,E28=""),0,MAX(0,'Summary'!$C$4-E28)),"") | J28: =IF(F28<>"",IF(H28<=0,"Paid",IF(I28=0,"Not due",IF(I28<=30,"1-30 days",IF(I28<=60,"31-60 days",IF(I28<=90,"61-90 days","Over 90 days"))))),"") | K28: =IF(F28<>"",ROUND(MAX(0,H28)*'Summary'!$C$5*I28,2),"")
E29: =IF(C29="","",C29+D29) | H29: =IF(F29<>"",ROUND(F29-G29,2),"") | I29: =IF(F29<>"",IF(OR(H29<=0,E29=""),0,MAX(0,'Summary'!$C$4-E29)),"") | J29: =IF(F29<>"",IF(H29<=0,"Paid",IF(I29=0,"Not due",IF(I29<=30,"1-30 days",IF(I29<=60,"31-60 days",IF(I29<=90,"61-90 days","Over 90 days"))))),"") | K29: =IF(F29<>"",ROUND(MAX(0,H29)*'Summary'!$C$5*I29,2),"")
E30: =IF(C30="","",C30+D30) | H30: =IF(F30<>"",ROUND(F30-G30,2),"") | I30: =IF(F30<>"",IF(OR(H30<=0,E30=""),0,MAX(0,'Summary'!$C$4-E30)),"") | J30: =IF(F30<>"",IF(H30<=0,"Paid",IF(I30=0,"Not due",IF(I30<=30,"1-30 days",IF(I30<=60,"31-60 days",IF(I30<=90,"61-90 days","Over 90 days"))))),"") | K30: =IF(F30<>"",ROUND(MAX(0,H30)*'Summary'!$C$5*I30,2),"")
E31: =IF(C31="","",C31+D31) | H31: =IF(F31<>"",ROUND(F31-G31,2),"") | I31: =IF(F31<>"",IF(OR(H31<=0,E31=""),0,MAX(0,'Summary'!$C$4-E31)),"") | J31: =IF(F31<>"",IF(H31<=0,"Paid",IF(I31=0,"Not due",IF(I31<=30,"1-30 days",IF(I31<=60,"31-60 days",IF(I31<=90,"61-90 days","Over 90 days"))))),"") | K31: =IF(F31<>"",ROUND(MAX(0,H31)*'Summary'!$C$5*I31,2),"")
... E203: =IF(C203="","",C203+D203) | H203: =IF(F203<>"",ROUND(F203-G203,2),"") | I203: =IF(F203<>"",IF(OR(H203<=0,E203=""),0,MAX(0,'Summary'!$C$4-E203)),"") | J203: =IF(F203<>"",IF(H203<=0,"Paid",IF(I203=0,"Not due",IF(I203<=30,"1-30 days",IF(I203<=60,"31-60 days",IF(I203<=90,"61-90 days","Over 90 days"))))),"") | K203: =IF(F203<>"",ROUND(MAX(0,H203)*'Summary'!$C$5*I203,2),"")

Sheet Customers
A1: Receivables by customer
A2: The customer list is yours — the register offers it. The limit is how much you ship on credit.
A3: Customer | B3: Credit limit | C3: Owes | D3: Of which overdue | E3: Share | F3: Over the limit | G3: Invoices | H3: Penalty
A4: Vector LLC | B4: 400000 | C4: =IF($A4="","",SUMIFS('Invoices'!$H$4:$H$203,'Invoices'!$A$4:$A$203,$A4,'Invoices'!$H$4:$H$203,">0")) -> 430700 | D4: =IF($A4="","",SUMIFS('Invoices'!$H$4:$H$203,'Invoices'!$A$4:$A$203,$A4,'Invoices'!$I$4:$I$203,">0")) -> 0 | E4: =IF($A4="","",IF($C$24=0,0,C4/$C$24)) -> 0.18411491 | F4: =IF($A4="","",IF(B4+0=0,0,MAX(0,C4-B4))) -> 30700 | G4: =IF($A4="","",COUNTIFS('Invoices'!$A$4:$A$203,$A4,'Invoices'!$H$4:$H$203,">0")) -> 2 | H4: =IF($A4="","",SUMIFS('Invoices'!$K$4:$K$203,'Invoices'!$A$4:$A$203,$A4)) -> 0
A5: Altair LLC | B5: 600000 | C5: =IF($A5="","",SUMIFS('Invoices'!$H$4:$H$203,'Invoices'!$A$4:$A$203,$A5,'Invoices'!$H$4:$H$203,">0")) -> 460300 | D5: =IF($A5="","",SUMIFS('Invoices'!$H$4:$H$203,'Invoices'!$A$4:$A$203,$A5,'Invoices'!$I$4:$I$203,">0")) -> 174300 | E5: =IF($A5="","",IF($C$24=0,0,C5/$C$24)) -> 0.19676826 | F5: =IF($A5="","",IF(B5+0=0,0,MAX(0,C5-B5))) -> 0 | G5: =IF($A5="","",COUNTIFS('Invoices'!$A$4:$A$203,$A5,'Invoices'!$H$4:$H$203,">0")) -> 2 | H5: =IF($A5="","",SUMIFS('Invoices'!$K$4:$K$203,'Invoices'!$A$4:$A$203,$A5)) -> 1917.3
A6: Sokolov, sole trader | B6: 150000 | C6: =IF($A6="","",SUMIFS('Invoices'!$H$4:$H$203,'Invoices'!$A$4:$A$203,$A6,'Invoices'!$H$4:$H$203,">0")) -> 123500 | D6: =IF($A6="","",SUMIFS('Invoices'!$H$4:$H$203,'Invoices'!$A$4:$A$203,$A6,'Invoices'!$I$4:$I$203,">0")) -> 123500 | E6: =IF($A6="","",IF($C$24=0,0,C6/$C$24)) -> 0.052793571 | F6: =IF($A6="","",IF(B6+0=0,0,MAX(0,C6-B6))) -> 0 | G6: =IF($A6="","",COUNTIFS('Invoices'!$A$4:$A$203,$A6,'Invoices'!$H$4:$H$203,">0")) -> 2 | H6: =IF($A6="","",SUMIFS('Invoices'!$K$4:$K$203,'Invoices'!$A$4:$A$203,$A6)) -> 2913.5
A7: Northern Metal JSC | B7: 900000 | C7: =IF($A7="","",SUMIFS('Invoices'!$H$4:$H$203,'Invoices'!$A$4:$A$203,$A7,'Invoices'!$H$4:$H$203,">0")) -> 811800 | D7: =IF($A7="","",SUMIFS('Invoices'!$H$4:$H$203,'Invoices'!$A$4:$A$203,$A7,'Invoices'!$I$4:$I$203,">0")) -> 659000 | E7: =IF($A7="","",IF($C$24=0,0,C7/$C$24)) -> 0.34702689 | F7: =IF($A7="","",IF(B7+0=0,0,MAX(0,C7-B7))) -> 0 | G7: =IF($A7="","",COUNTIFS('Invoices'!$A$4:$A$203,$A7,'Invoices'!$H$4:$H$203,">0")) -> 3 | H7: =IF($A7="","",SUMIFS('Invoices'!$K$4:$K$203,'Invoices'!$A$4:$A$203,$A7)) -> 32359
A8: Techprom LLC | B8: 300000 | C8: =IF($A8="","",SUMIFS('Invoices'!$H$4:$H$203,'Invoices'!$A$4:$A$203,$A8,'Invoices'!$H$4:$H$203,">0")) -> 281600 | D8: =IF($A8="","",SUMIFS('Invoices'!$H$4:$H$203,'Invoices'!$A$4:$A$203,$A8,'Invoices'!$I$4:$I$203,">0")) -> 187400 | E8: =IF($A8="","",IF($C$24=0,0,C8/$C$24)) -> 0.12037789 | F8: =IF($A8="","",IF(B8+0=0,0,MAX(0,C8-B8))) -> 0 | G8: =IF($A8="","",COUNTIFS('Invoices'!$A$4:$A$203,$A8,'Invoices'!$H$4:$H$203,">0")) -> 2 | H8: =IF($A8="","",SUMIFS('Invoices'!$K$4:$K$203,'Invoices'!$A$4:$A$203,$A8)) -> 11618.8
A9: Granit LLC | B9: 250000 | C9: =IF($A9="","",SUMIFS('Invoices'!$H$4:$H$203,'Invoices'!$A$4:$A$203,$A9,'Invoices'!$H$4:$H$203,">0")) -> 231400 | D9: =IF($A9="","",SUMIFS('Invoices'!$H$4:$H$203,'Invoices'!$A$4:$A$203,$A9,'Invoices'!$I$4:$I$203,">0")) -> 231400 | E9: =IF($A9="","",IF($C$24=0,0,C9/$C$24)) -> 0.09891848 | F9: =IF($A9="","",IF(B9+0=0,0,MAX(0,C9-B9))) -> 0 | G9: =IF($A9="","",COUNTIFS('Invoices'!$A$4:$A$203,$A9,'Invoices'!$H$4:$H$203,">0")) -> 2 | H9: =IF($A9="","",SUMIFS('Invoices'!$K$4:$K$203,'Invoices'!$A$4:$A$203,$A9)) -> 16598
C10: =IF($A10="","",SUMIFS('Invoices'!$H$4:$H$203,'Invoices'!$A$4:$A$203,$A10,'Invoices'!$H$4:$H$203,">0")) | D10: =IF($A10="","",SUMIFS('Invoices'!$H$4:$H$203,'Invoices'!$A$4:$A$203,$A10,'Invoices'!$I$4:$I$203,">0")) | E10: =IF($A10="","",IF($C$24=0,0,C10/$C$24)) | F10: =IF($A10="","",IF(B10+0=0,0,MAX(0,C10-B10))) | G10: =IF($A10="","",COUNTIFS('Invoices'!$A$4:$A$203,$A10,'Invoices'!$H$4:$H$203,">0")) | H10: =IF($A10="","",SUMIFS('Invoices'!$K$4:$K$203,'Invoices'!$A$4:$A$203,$A10))
C11: =IF($A11="","",SUMIFS('Invoices'!$H$4:$H$203,'Invoices'!$A$4:$A$203,$A11,'Invoices'!$H$4:$H$203,">0")) | D11: =IF($A11="","",SUMIFS('Invoices'!$H$4:$H$203,'Invoices'!$A$4:$A$203,$A11,'Invoices'!$I$4:$I$203,">0")) | E11: =IF($A11="","",IF($C$24=0,0,C11/$C$24)) | F11: =IF($A11="","",IF(B11+0=0,0,MAX(0,C11-B11))) | G11: =IF($A11="","",COUNTIFS('Invoices'!$A$4:$A$203,$A11,'Invoices'!$H$4:$H$203,">0")) | H11: =IF($A11="","",SUMIFS('Invoices'!$K$4:$K$203,'Invoices'!$A$4:$A$203,$A11))
C12: =IF($A12="","",SUMIFS('Invoices'!$H$4:$H$203,'Invoices'!$A$4:$A$203,$A12,'Invoices'!$H$4:$H$203,">0")) | D12: =IF($A12="","",SUMIFS('Invoices'!$H$4:$H$203,'Invoices'!$A$4:$A$203,$A12,'Invoices'!$I$4:$I$203,">0")) | E12: =IF($A12="","",IF($C$24=0,0,C12/$C$24)) | F12: =IF($A12="","",IF(B12+0=0,0,MAX(0,C12-B12))) | G12: =IF($A12="","",COUNTIFS('Invoices'!$A$4:$A$203,$A12,'Invoices'!$H$4:$H$203,">0")) | H12: =IF($A12="","",SUMIFS('Invoices'!$K$4:$K$203,'Invoices'!$A$4:$A$203,$A12))
C13: =IF($A13="","",SUMIFS('Invoices'!$H$4:$H$203,'Invoices'!$A$4:$A$203,$A13,'Invoices'!$H$4:$H$203,">0")) | D13: =IF($A13="","",SUMIFS('Invoices'!$H$4:$H$203,'Invoices'!$A$4:$A$203,$A13,'Invoices'!$I$4:$I$203,">0")) | E13: =IF($A13="","",IF($C$24=0,0,C13/$C$24)) | F13: =IF($A13="","",IF(B13+0=0,0,MAX(0,C13-B13))) | G13: =IF($A13="","",COUNTIFS('Invoices'!$A$4:$A$203,$A13,'Invoices'!$H$4:$H$203,">0")) | H13: =IF($A13="","",SUMIFS('Invoices'!$K$4:$K$203,'Invoices'!$A$4:$A$203,$A13))
C14: =IF($A14="","",SUMIFS('Invoices'!$H$4:$H$203,'Invoices'!$A$4:$A$203,$A14,'Invoices'!$H$4:$H$203,">0")) | D14: =IF($A14="","",SUMIFS('Invoices'!$H$4:$H$203,'Invoices'!$A$4:$A$203,$A14,'Invoices'!$I$4:$I$203,">0")) | E14: =IF($A14="","",IF($C$24=0,0,C14/$C$24)) | F14: =IF($A14="","",IF(B14+0=0,0,MAX(0,C14-B14))) | G14: =IF($A14="","",COUNTIFS('Invoices'!$A$4:$A$203,$A14,'Invoices'!$H$4:$H$203,">0")) | H14: =IF($A14="","",SUMIFS('Invoices'!$K$4:$K$203,'Invoices'!$A$4:$A$203,$A14))
C15: =IF($A15="","",SUMIFS('Invoices'!$H$4:$H$203,'Invoices'!$A$4:$A$203,$A15,'Invoices'!$H$4:$H$203,">0")) | D15: =IF($A15="","",SUMIFS('Invoices'!$H$4:$H$203,'Invoices'!$A$4:$A$203,$A15,'Invoices'!$I$4:$I$203,">0")) | E15: =IF($A15="","",IF($C$24=0,0,C15/$C$24)) | F15: =IF($A15="","",IF(B15+0=0,0,MAX(0,C15-B15))) | G15: =IF($A15="","",COUNTIFS('Invoices'!$A$4:$A$203,$A15,'Invoices'!$H$4:$H$203,">0")) | H15: =IF($A15="","",SUMIFS('Invoices'!$K$4:$K$203,'Invoices'!$A$4:$A$203,$A15))
C16: =IF($A16="","",SUMIFS('Invoices'!$H$4:$H$203,'Invoices'!$A$4:$A$203,$A16,'Invoices'!$H$4:$H$203,">0")) | D16: =IF($A16="","",SUMIFS('Invoices'!$H$4:$H$203,'Invoices'!$A$4:$A$203,$A16,'Invoices'!$I$4:$I$203,">0")) | E16: =IF($A16="","",IF($C$24=0,0,C16/$C$24)) | F16: =IF($A16="","",IF(B16+0=0,0,MAX(0,C16-B16))) | G16: =IF($A16="","",COUNTIFS('Invoices'!$A$4:$A$203,$A16,'Invoices'!$H$4:$H$203,">0")) | H16: =IF($A16="","",SUMIFS('Invoices'!$K$4:$K$203,'Invoices'!$A$4:$A$203,$A16))
C17: =IF($A17="","",SUMIFS('Invoices'!$H$4:$H$203,'Invoices'!$A$4:$A$203,$A17,'Invoices'!$H$4:$H$203,">0")) | D17: =IF($A17="","",SUMIFS('Invoices'!$H$4:$H$203,'Invoices'!$A$4:$A$203,$A17,'Invoices'!$I$4:$I$203,">0")) | E17: =IF($A17="","",IF($C$24=0,0,C17/$C$24)) | F17: =IF($A17="","",IF(B17+0=0,0,MAX(0,C17-B17))) | G17: =IF($A17="","",COUNTIFS('Invoices'!$A$4:$A$203,$A17,'Invoices'!$H$4:$H$203,">0")) | H17: =IF($A17="","",SUMIFS('Invoices'!$K$4:$K$203,'Invoices'!$A$4:$A$203,$A17))
C18: =IF($A18="","",SUMIFS('Invoices'!$H$4:$H$203,'Invoices'!$A$4:$A$203,$A18,'Invoices'!$H$4:$H$203,">0")) | D18: =IF($A18="","",SUMIFS('Invoices'!$H$4:$H$203,'Invoices'!$A$4:$A$203,$A18,'Invoices'!$I$4:$I$203,">0")) | E18: =IF($A18="","",IF($C$24=0,0,C18/$C$24)) | F18: =IF($A18="","",IF(B18+0=0,0,MAX(0,C18-B18))) | G18: =IF($A18="","",COUNTIFS('Invoices'!$A$4:$A$203,$A18,'Invoices'!$H$4:$H$203,">0")) | H18: =IF($A18="","",SUMIFS('Invoices'!$K$4:$K$203,'Invoices'!$A$4:$A$203,$A18))
C19: =IF($A19="","",SUMIFS('Invoices'!$H$4:$H$203,'Invoices'!$A$4:$A$203,$A19,'Invoices'!$H$4:$H$203,">0")) | D19: =IF($A19="","",SUMIFS('Invoices'!$H$4:$H$203,'Invoices'!$A$4:$A$203,$A19,'Invoices'!$I$4:$I$203,">0")) | E19: =IF($A19="","",IF($C$24=0,0,C19/$C$24)) | F19: =IF($A19="","",IF(B19+0=0,0,MAX(0,C19-B19))) | G19: =IF($A19="","",COUNTIFS('Invoices'!$A$4:$A$203,$A19,'Invoices'!$H$4:$H$203,">0")) | H19: =IF($A19="","",SUMIFS('Invoices'!$K$4:$K$203,'Invoices'!$A$4:$A$203,$A19))
C20: =IF($A20="","",SUMIFS('Invoices'!$H$4:$H$203,'Invoices'!$A$4:$A$203,$A20,'Invoices'!$H$4:$H$203,">0")) | D20: =IF($A20="","",SUMIFS('Invoices'!$H$4:$H$203,'Invoices'!$A$4:$A$203,$A20,'Invoices'!$I$4:$I$203,">0")) | E20: =IF($A20="","",IF($C$24=0,0,C20/$C$24)) | F20: =IF($A20="","",IF(B20+0=0,0,MAX(0,C20-B20))) | G20: =IF($A20="","",COUNTIFS('Invoices'!$A$4:$A$203,$A20,'Invoices'!$H$4:$H$203,">0")) | H20: =IF($A20="","",SUMIFS('Invoices'!$K$4:$K$203,'Invoices'!$A$4:$A$203,$A20))
C21: =IF($A21="","",SUMIFS('Invoices'!$H$4:$H$203,'Invoices'!$A$4:$A$203,$A21,'Invoices'!$H$4:$H$203,">0")) | D21: =IF($A21="","",SUMIFS('Invoices'!$H$4:$H$203,'Invoices'!$A$4:$A$203,$A21,'Invoices'!$I$4:$I$203,">0")) | E21: =IF($A21="","",IF($C$24=0,0,C21/$C$24)) | F21: =IF($A21="","",IF(B21+0=0,0,MAX(0,C21-B21))) | G21: =IF($A21="","",COUNTIFS('Invoices'!$A$4:$A$203,$A21,'Invoices'!$H$4:$H$203,">0")) | H21: =IF($A21="","",SUMIFS('Invoices'!$K$4:$K$203,'Invoices'!$A$4:$A$203,$A21))
... C23: =IF($A23="","",SUMIFS('Invoices'!$H$4:$H$203,'Invoices'!$A$4:$A$203,$A23,'Invoices'!$H$4:$H$203,">0")) | D23: =IF($A23="","",SUMIFS('Invoices'!$H$4:$H$203,'Invoices'!$A$4:$A$203,$A23,'Invoices'!$I$4:$I$203,">0")) | E23: =IF($A23="","",IF($C$24=0,0,C23/$C$24)) | F23: =IF($A23="","",IF(B23+0=0,0,MAX(0,C23-B23))) | G23: =IF($A23="","",COUNTIFS('Invoices'!$A$4:$A$203,$A23,'Invoices'!$H$4:$H$203,">0")) | H23: =IF($A23="","",SUMIFS('Invoices'!$K$4:$K$203,'Invoices'!$A$4:$A$203,$A23))
A24: Total | B24: =SUM(B4:B23) -> 2600000 | C24: =SUM(C4:C23) -> 2339300 | D24: =SUM(D4:D23) -> 1375600 | F24: =SUM(F4:F23) -> 30700 | G24: =SUM(G4:G23) -> 13 | H24: =SUM(H4:H23) -> 65406.6
