Workbook

Sheet План
A1: План накоплений к цели
A2: Жёлтые ячейки — ваши данные. Взнос по факту вносите подряд, месяц за месяцем; пропущенный месяц — 0.
A4: Цель | C4: 1500000 | E4: Откладывать в месяц | H4: =IF(OR($C$6<1,$C$5*(1+$C$7/12)^$C$6>=$C$4),0,IF($C$7=0,ROUND(($C$4-$C$5)/$C$6,2),ROUND(($C$4-$C$5*(1+$C$7/12)^$C$6)/(((1+$C$7/12)^$C$6-1)/($C$7/12)),2))) -> 26930.92
A5: Уже накоплено | C5: 200000 | E5: Внесёте сами | H5: =$C$5+H4*$C$6 -> 1169513.1
A6: Срок, месяцев (до 360) | C6: 36 | E6: Проценты по плану | H6: =SUM($D$14:$D$373) -> 330486.96
A7: Ставка, годовых | C7: 0.14 | E7: Итог по плану | H7: =IF($C$6<1,$C$5,INDEX($E$14:$E$373,$C$6)) -> 1500000.1
A8: Дата начала | C8: 46147 | E8: Накоплено по факту | H8: =IF(MAX($J$14:$J$373)=0,$C$5,INDEX($H$14:$H$373,MAX($J$14:$J$373))) -> 345999.77
E9: Выполнено | H9: =IF($C$4=0,0,MIN(1,H8/$C$4)) -> 0.23066651
E10: К плану: впереди (+), позади (−) | H10: =IF(MAX($J$14:$J$373)=0,0,INDEX($I$14:$I$373,MAX($J$14:$J$373))) -> -3775.72
E11: Месяцев до цели при плановом взносе | H11: =IF(H8>=$C$4,0,IF(H4<=0,"",IF($C$7=0,ROUNDUP(($C$4-H8)/H4,0),ROUNDUP(NPER($C$7/12,-H4,-H8,$C$4),0)))) -> 32
A13: № | B13: Дата | C13: Взнос по плану | D13: Проценты по плану | E13: Баланс по плану | F13: План выполнен | G13: Взнос по факту | H13: Баланс по факту | I13: К плану | J13: Месяц
A14: =IF($C$6>=1,1,"") -> 1 | B14: =IF(A14="","",EDATE($C$8,A14)) -> 46178 | C14: =IF(A14="","",$H$4) -> 26930.92 | D14: =IF(A14="","",ROUND($C$5*$C$7/12,2)) -> 2333.33 | E14: =IF(A14="","",ROUND($C$5+D14+C14,2)) -> 229264.25 | F14: =IF(A14="","",IF($C$4=0,0,MIN(1,E14/$C$4))) -> 0.15284283 | G14: 27000 | H14: =IF(OR(A14="",G14=""),"",ROUND($C$5+ROUND($C$5*$C$7/12,2)+G14,2)) -> 229333.33 | I14: =IF(H14="","",ROUND(H14-E14,2)) -> 69.08 | J14: =IF(H14="","",A14) -> 1
A15: =IF(A14="","",IF(A14>=$C$6,"",A14+1)) -> 2 | B15: =IF(A15="","",EDATE($C$8,A15)) -> 46208 | C15: =IF(A15="","",$H$4) -> 26930.92 | D15: =IF(A15="","",ROUND(E14*$C$7/12,2)) -> 2674.75 | E15: =IF(A15="","",ROUND(E14+D15+C15,2)) -> 258869.92 | F15: =IF(A15="","",IF($C$4=0,0,MIN(1,E15/$C$4))) -> 0.17257995 | G15: 27000 | H15: =IF(OR(A15="",G15="",H14=""),"",ROUND(H14+ROUND(H14*$C$7/12,2)+G15,2)) -> 259008.89 | I15: =IF(H15="","",ROUND(H15-E15,2)) -> 138.97 | J15: =IF(H15="","",A15) -> 2
A16: =IF(A15="","",IF(A15>=$C$6,"",A15+1)) -> 3 | B16: =IF(A16="","",EDATE($C$8,A16)) -> 46239 | C16: =IF(A16="","",$H$4) -> 26930.92 | D16: =IF(A16="","",ROUND(E15*$C$7/12,2)) -> 3020.15 | E16: =IF(A16="","",ROUND(E15+D16+C16,2)) -> 288820.99 | F16: =IF(A16="","",IF($C$4=0,0,MIN(1,E16/$C$4))) -> 0.19254733 | G16: 20000 | H16: =IF(OR(A16="",G16="",H15=""),"",ROUND(H15+ROUND(H15*$C$7/12,2)+G16,2)) -> 282030.66 | I16: =IF(H16="","",ROUND(H16-E16,2)) -> -6790.33 | J16: =IF(H16="","",A16) -> 3
A17: =IF(A16="","",IF(A16>=$C$6,"",A16+1)) -> 4 | B17: =IF(A17="","",EDATE($C$8,A17)) -> 46270 | C17: =IF(A17="","",$H$4) -> 26930.92 | D17: =IF(A17="","",ROUND(E16*$C$7/12,2)) -> 3369.58 | E17: =IF(A17="","",ROUND(E16+D17+C17,2)) -> 319121.49 | F17: =IF(A17="","",IF($C$4=0,0,MIN(1,E17/$C$4))) -> 0.21274766 | G17: 30000 | H17: =IF(OR(A17="",G17="",H16=""),"",ROUND(H16+ROUND(H16*$C$7/12,2)+G17,2)) -> 315321.02 | I17: =IF(H17="","",ROUND(H17-E17,2)) -> -3800.47 | J17: =IF(H17="","",A17) -> 4
A18: =IF(A17="","",IF(A17>=$C$6,"",A17+1)) -> 5 | B18: =IF(A18="","",EDATE($C$8,A18)) -> 46300 | C18: =IF(A18="","",$H$4) -> 26930.92 | D18: =IF(A18="","",ROUND(E17*$C$7/12,2)) -> 3723.08 | E18: =IF(A18="","",ROUND(E17+D18+C18,2)) -> 349775.49 | F18: =IF(A18="","",IF($C$4=0,0,MIN(1,E18/$C$4))) -> 0.23318366 | G18: 27000 | H18: =IF(OR(A18="",G18="",H17=""),"",ROUND(H17+ROUND(H17*$C$7/12,2)+G18,2)) -> 345999.77 | I18: =IF(H18="","",ROUND(H18-E18,2)) -> -3775.72 | J18: =IF(H18="","",A18) -> 5
A19: =IF(A18="","",IF(A18>=$C$6,"",A18+1)) -> 6 | B19: =IF(A19="","",EDATE($C$8,A19)) -> 46331 | C19: =IF(A19="","",$H$4) -> 26930.92 | D19: =IF(A19="","",ROUND(E18*$C$7/12,2)) -> 4080.71 | E19: =IF(A19="","",ROUND(E18+D19+C19,2)) -> 380787.12 | F19: =IF(A19="","",IF($C$4=0,0,MIN(1,E19/$C$4))) -> 0.25385808 | H19: =IF(OR(A19="",G19="",H18=""),"",ROUND(H18+ROUND(H18*$C$7/12,2)+G19,2)) | I19: =IF(H19="","",ROUND(H19-E19,2)) | J19: =IF(H19="","",A19)
A20: =IF(A19="","",IF(A19>=$C$6,"",A19+1)) -> 7 | B20: =IF(A20="","",EDATE($C$8,A20)) -> 46361 | C20: =IF(A20="","",$H$4) -> 26930.92 | D20: =IF(A20="","",ROUND(E19*$C$7/12,2)) -> 4442.52 | E20: =IF(A20="","",ROUND(E19+D20+C20,2)) -> 412160.56 | F20: =IF(A20="","",IF($C$4=0,0,MIN(1,E20/$C$4))) -> 0.27477371 | H20: =IF(OR(A20="",G20="",H19=""),"",ROUND(H19+ROUND(H19*$C$7/12,2)+G20,2)) | I20: =IF(H20="","",ROUND(H20-E20,2)) | J20: =IF(H20="","",A20)
A21: =IF(A20="","",IF(A20>=$C$6,"",A20+1)) -> 8 | B21: =IF(A21="","",EDATE($C$8,A21)) -> 46392 | C21: =IF(A21="","",$H$4) -> 26930.92 | D21: =IF(A21="","",ROUND(E20*$C$7/12,2)) -> 4808.54 | E21: =IF(A21="","",ROUND(E20+D21+C21,2)) -> 443900.02 | F21: =IF(A21="","",IF($C$4=0,0,MIN(1,E21/$C$4))) -> 0.29593335 | H21: =IF(OR(A21="",G21="",H20=""),"",ROUND(H20+ROUND(H20*$C$7/12,2)+G21,2)) | I21: =IF(H21="","",ROUND(H21-E21,2)) | J21: =IF(H21="","",A21)
A22: =IF(A21="","",IF(A21>=$C$6,"",A21+1)) -> 9 | B22: =IF(A22="","",EDATE($C$8,A22)) -> 46423 | C22: =IF(A22="","",$H$4) -> 26930.92 | D22: =IF(A22="","",ROUND(E21*$C$7/12,2)) -> 5178.83 | E22: =IF(A22="","",ROUND(E21+D22+C22,2)) -> 476009.77 | F22: =IF(A22="","",IF($C$4=0,0,MIN(1,E22/$C$4))) -> 0.31733985 | H22: =IF(OR(A22="",G22="",H21=""),"",ROUND(H21+ROUND(H21*$C$7/12,2)+G22,2)) | I22: =IF(H22="","",ROUND(H22-E22,2)) | J22: =IF(H22="","",A22)
A23: =IF(A22="","",IF(A22>=$C$6,"",A22+1)) -> 10 | B23: =IF(A23="","",EDATE($C$8,A23)) -> 46451 | C23: =IF(A23="","",$H$4) -> 26930.92 | D23: =IF(A23="","",ROUND(E22*$C$7/12,2)) -> 5553.45 | E23: =IF(A23="","",ROUND(E22+D23+C23,2)) -> 508494.14 | F23: =IF(A23="","",IF($C$4=0,0,MIN(1,E23/$C$4))) -> 0.33899609 | H23: =IF(OR(A23="",G23="",H22=""),"",ROUND(H22+ROUND(H22*$C$7/12,2)+G23,2)) | I23: =IF(H23="","",ROUND(H23-E23,2)) | J23: =IF(H23="","",A23)
A24: =IF(A23="","",IF(A23>=$C$6,"",A23+1)) -> 11 | B24: =IF(A24="","",EDATE($C$8,A24)) -> 46482 | C24: =IF(A24="","",$H$4) -> 26930.92 | D24: =IF(A24="","",ROUND(E23*$C$7/12,2)) -> 5932.43 | E24: =IF(A24="","",ROUND(E23+D24+C24,2)) -> 541357.49 | F24: =IF(A24="","",IF($C$4=0,0,MIN(1,E24/$C$4))) -> 0.36090499 | H24: =IF(OR(A24="",G24="",H23=""),"",ROUND(H23+ROUND(H23*$C$7/12,2)+G24,2)) | I24: =IF(H24="","",ROUND(H24-E24,2)) | J24: =IF(H24="","",A24)
A25: =IF(A24="","",IF(A24>=$C$6,"",A24+1)) -> 12 | B25: =IF(A25="","",EDATE($C$8,A25)) -> 46512 | C25: =IF(A25="","",$H$4) -> 26930.92 | D25: =IF(A25="","",ROUND(E24*$C$7/12,2)) -> 6315.84 | E25: =IF(A25="","",ROUND(E24+D25+C25,2)) -> 574604.25 | F25: =IF(A25="","",IF($C$4=0,0,MIN(1,E25/$C$4))) -> 0.3830695 | H25: =IF(OR(A25="",G25="",H24=""),"",ROUND(H24+ROUND(H24*$C$7/12,2)+G25,2)) | I25: =IF(H25="","",ROUND(H25-E25,2)) | J25: =IF(H25="","",A25)
A26: =IF(A25="","",IF(A25>=$C$6,"",A25+1)) -> 13 | B26: =IF(A26="","",EDATE($C$8,A26)) -> 46543 | C26: =IF(A26="","",$H$4) -> 26930.92 | D26: =IF(A26="","",ROUND(E25*$C$7/12,2)) -> 6703.72 | E26: =IF(A26="","",ROUND(E25+D26+C26,2)) -> 608238.89 | F26: =IF(A26="","",IF($C$4=0,0,MIN(1,E26/$C$4))) -> 0.40549259 | H26: =IF(OR(A26="",G26="",H25=""),"",ROUND(H25+ROUND(H25*$C$7/12,2)+G26,2)) | I26: =IF(H26="","",ROUND(H26-E26,2)) | J26: =IF(H26="","",A26)
A27: =IF(A26="","",IF(A26>=$C$6,"",A26+1)) -> 14 | B27: =IF(A27="","",EDATE($C$8,A27)) -> 46573 | C27: =IF(A27="","",$H$4) -> 26930.92 | D27: =IF(A27="","",ROUND(E26*$C$7/12,2)) -> 7096.12 | E27: =IF(A27="","",ROUND(E26+D27+C27,2)) -> 642265.93 | F27: =IF(A27="","",IF($C$4=0,0,MIN(1,E27/$C$4))) -> 0.42817729 | H27: =IF(OR(A27="",G27="",H26=""),"",ROUND(H26+ROUND(H26*$C$7/12,2)+G27,2)) | I27: =IF(H27="","",ROUND(H27-E27,2)) | J27: =IF(H27="","",A27)
A28: =IF(A27="","",IF(A27>=$C$6,"",A27+1)) -> 15 | B28: =IF(A28="","",EDATE($C$8,A28)) -> 46604 | C28: =IF(A28="","",$H$4) -> 26930.92 | D28: =IF(A28="","",ROUND(E27*$C$7/12,2)) -> 7493.1 | E28: =IF(A28="","",ROUND(E27+D28+C28,2)) -> 676689.95 | F28: =IF(A28="","",IF($C$4=0,0,MIN(1,E28/$C$4))) -> 0.45112663 | H28: =IF(OR(A28="",G28="",H27=""),"",ROUND(H27+ROUND(H27*$C$7/12,2)+G28,2)) | I28: =IF(H28="","",ROUND(H28-E28,2)) | J28: =IF(H28="","",A28)
A29: =IF(A28="","",IF(A28>=$C$6,"",A28+1)) -> 16 | B29: =IF(A29="","",EDATE($C$8,A29)) -> 46635 | C29: =IF(A29="","",$H$4) -> 26930.92 | D29: =IF(A29="","",ROUND(E28*$C$7/12,2)) -> 7894.72 | E29: =IF(A29="","",ROUND(E28+D29+C29,2)) -> 711515.59 | F29: =IF(A29="","",IF($C$4=0,0,MIN(1,E29/$C$4))) -> 0.47434373 | H29: =IF(OR(A29="",G29="",H28=""),"",ROUND(H28+ROUND(H28*$C$7/12,2)+G29,2)) | I29: =IF(H29="","",ROUND(H29-E29,2)) | J29: =IF(H29="","",A29)
A30: =IF(A29="","",IF(A29>=$C$6,"",A29+1)) -> 17 | B30: =IF(A30="","",EDATE($C$8,A30)) -> 46665 | C30: =IF(A30="","",$H$4) -> 26930.92 | D30: =IF(A30="","",ROUND(E29*$C$7/12,2)) -> 8301.02 | E30: =IF(A30="","",ROUND(E29+D30+C30,2)) -> 746747.53 | F30: =IF(A30="","",IF($C$4=0,0,MIN(1,E30/$C$4))) -> 0.49783169 | H30: =IF(OR(A30="",G30="",H29=""),"",ROUND(H29+ROUND(H29*$C$7/12,2)+G30,2)) | I30: =IF(H30="","",ROUND(H30-E30,2)) | J30: =IF(H30="","",A30)
... A373: =IF(A372="","",IF(A372>=$C$6,"",A372+1)) | B373: =IF(A373="","",EDATE($C$8,A373)) | C373: =IF(A373="","",$H$4) | D373: =IF(A373="","",ROUND(E372*$C$7/12,2)) | E373: =IF(A373="","",ROUND(E372+D373+C373,2)) | F373: =IF(A373="","",IF($C$4=0,0,MIN(1,E373/$C$4))) | H373: =IF(OR(A373="",G373="",H372=""),"",ROUND(H372+ROUND(H372*$C$7/12,2)+G373,2)) | I373: =IF(H373="","",ROUND(H373-E373,2)) | J373: =IF(H373="","",A373)

Sheet Сценарии
A1: Что если: другой срок или ставка
A2: Цель и уже накопленное — с листа «План». Меняйте срок и ставку в жёлтых ячейках.
A3: Сценарий | B3: Срок, месяцев | C3: Ставка | D3: Взнос в месяц | E3: Внесёте сами | F3: Добавят проценты | G3: Взнос к плану
A4: Как в плане | B4: 36 | C4: 0.14 | D4: =IF(B4="","",IF(OR(B4<1,'План'!$C$5*(1+(C4+0)/12)^B4>='План'!$C$4),0,IF((C4+0)=0,ROUND(('План'!$C$4-'План'!$C$5)/B4,2),ROUND(('План'!$C$4-'План'!$C$5*(1+(C4+0)/12)^B4)/(((1+(C4+0)/12)^B4-1)/((C4+0)/12)),2)))) -> 26930.92 | E4: =IF(B4="","",'План'!$C$5+D4*B4) -> 1169513.1 | F4: =IF(B4="","",IF(OR(D4=0,C4+0=0),0,MAX(0,'План'!$C$4-E4))) -> 330486.88 | G4: =IF(B4="","",D4-'План'!$H$4) -> 0
A5: На год дольше | B5: 48 | C5: 0.14 | D5: =IF(B5="","",IF(OR(B5<1,'План'!$C$5*(1+(C5+0)/12)^B5>='План'!$C$4),0,IF((C5+0)=0,ROUND(('План'!$C$4-'План'!$C$5)/B5,2),ROUND(('План'!$C$4-'План'!$C$5*(1+(C5+0)/12)^B5)/(((1+(C5+0)/12)^B5-1)/((C5+0)/12)),2)))) -> 18024.42 | E5: =IF(B5="","",'План'!$C$5+D5*B5) -> 1065172.2 | F5: =IF(B5="","",IF(OR(D5=0,C5+0=0),0,MAX(0,'План'!$C$4-E5))) -> 434827.84 | G5: =IF(B5="","",D5-'План'!$H$4) -> -8906.5
A6: На год быстрее | B6: 24 | C6: 0.14 | D6: =IF(B6="","",IF(OR(B6<1,'План'!$C$5*(1+(C6+0)/12)^B6>='План'!$C$4),0,IF((C6+0)=0,ROUND(('План'!$C$4-'План'!$C$5)/B6,2),ROUND(('План'!$C$4-'План'!$C$5*(1+(C6+0)/12)^B6)/(((1+(C6+0)/12)^B6-1)/((C6+0)/12)),2)))) -> 44916.75 | E6: =IF(B6="","",'План'!$C$5+D6*B6) -> 1278002 | F6: =IF(B6="","",IF(OR(D6=0,C6+0=0),0,MAX(0,'План'!$C$4-E6))) -> 221998 | G6: =IF(B6="","",D6-'План'!$H$4) -> 17985.83
A7: Ставка ниже | B7: 36 | C7: 0.1 | D7: =IF(B7="","",IF(OR(B7<1,'План'!$C$5*(1+(C7+0)/12)^B7>='План'!$C$4),0,IF((C7+0)=0,ROUND(('План'!$C$4-'План'!$C$5)/B7,2),ROUND(('План'!$C$4-'План'!$C$5*(1+(C7+0)/12)^B7)/(((1+(C7+0)/12)^B7-1)/((C7+0)/12)),2)))) -> 29447.34 | E7: =IF(B7="","",'План'!$C$5+D7*B7) -> 1260104.2 | F7: =IF(B7="","",IF(OR(D7=0,C7+0=0),0,MAX(0,'План'!$C$4-E7))) -> 239895.76 | G7: =IF(B7="","",D7-'План'!$H$4) -> 2516.42
A8: Без процентов | B8: 36 | C8: 0 | D8: =IF(B8="","",IF(OR(B8<1,'План'!$C$5*(1+(C8+0)/12)^B8>='План'!$C$4),0,IF((C8+0)=0,ROUND(('План'!$C$4-'План'!$C$5)/B8,2),ROUND(('План'!$C$4-'План'!$C$5*(1+(C8+0)/12)^B8)/(((1+(C8+0)/12)^B8-1)/((C8+0)/12)),2)))) -> 36111.11 | E8: =IF(B8="","",'План'!$C$5+D8*B8) -> 1500000 | F8: =IF(B8="","",IF(OR(D8=0,C8+0=0),0,MAX(0,'План'!$C$4-E8))) -> 0 | G8: =IF(B8="","",D8-'План'!$H$4) -> 9180.19
D9: =IF(B9="","",IF(OR(B9<1,'План'!$C$5*(1+(C9+0)/12)^B9>='План'!$C$4),0,IF((C9+0)=0,ROUND(('План'!$C$4-'План'!$C$5)/B9,2),ROUND(('План'!$C$4-'План'!$C$5*(1+(C9+0)/12)^B9)/(((1+(C9+0)/12)^B9-1)/((C9+0)/12)),2)))) | E9: =IF(B9="","",'План'!$C$5+D9*B9) | F9: =IF(B9="","",IF(OR(D9=0,C9+0=0),0,MAX(0,'План'!$C$4-E9))) | G9: =IF(B9="","",D9-'План'!$H$4)
